BEGIN:VCALENDAR
VERSION:2.0
PRODID:-//Homosexuelle Initiative (HOSI) Wien - ECPv5.16.4//NONSGML v1.0//EN
CALSCALE:GREGORIAN
METHOD:PUBLISH
X-WR-CALNAME:Homosexuelle Initiative (HOSI) Wien
X-ORIGINAL-URL:https://archiv.hosiwien.at
X-WR-CALDESC:Events for Homosexuelle Initiative (HOSI) Wien
REFRESH-INTERVAL;VALUE=DURATION:PT1H
X-Robots-Tag:noindex
X-PUBLISHED-TTL:PT1H
BEGIN:VTIMEZONE
TZID:Europe/Vienna
BEGIN:DAYLIGHT
TZOFFSETFROM:+0100
TZOFFSETTO:+0200
TZNAME:CEST
DTSTART:20240331T010000
END:DAYLIGHT
BEGIN:STANDARD
TZOFFSETFROM:+0200
TZOFFSETTO:+0100
TZNAME:CET
DTSTART:20241027T010000
END:STANDARD
END:VTIMEZONE
BEGIN:VEVENT
DTSTART;TZID=Europe/Vienna:20240502T190000
DTEND;TZID=Europe/Vienna:20240502T203000
DTSTAMP:20260423T095447
CREATED:20240419T103646Z
LAST-MODIFIED:20240419T103646Z
UID:98137-1714676400-1714681800@archiv.hosiwien.at
SUMMARY:QYVIE Coming in Workshop
DESCRIPTION:Du willst deine Geschichte teilen und dabei kreativ werden? Wir veranstalten wieder einen COMING IN Workshop – komm vorbei! Diesmal werden wir über das Queer-Sein und die eigene Kindheit sprechen\, während wir mit Ton kleine Kunstwerke gestalten. So kannst du dich in einem gemütlichen Setting mit anderen austauschen\, von dir erzählen und andere queere Menschen kennenlernen.
URL:https://archiv.hosiwien.at/event/qyvie-coming-in-workshop/
LOCATION:Gugg\, Heumühlgasse 14\, Wien\, 1040
CATEGORIES:Gruppen,Workshop
ATTACH;FMTTYPE=image/jpeg:https://archiv.hosiwien.at/img/image/2024/ComingInWorkshop.jpg
ORGANIZER;CN="QYVIE":MAILTO:jugend@archiv.hosiwien.at
GEO:48.1961598;16.3617969
X-APPLE-STRUCTURED-LOCATION;VALUE=URI;X-ADDRESS=Gugg Heumühlgasse 14 Wien 1040;X-APPLE-RADIUS=500;X-TITLE=Heumühlgasse 14:geo:16.3617969,48.1961598
END:VEVENT
END:VCALENDAR