BEGIN:VCALENDAR
VERSION:2.0
PRODID:-//Homosexuelle Initiative (HOSI) Wien - ECPv5.16.4//NONSGML v1.0//EN
CALSCALE:GREGORIAN
METHOD:PUBLISH
X-ORIGINAL-URL:https://archiv.hosiwien.at
X-WR-CALDESC:Events for Homosexuelle Initiative (HOSI) Wien
REFRESH-INTERVAL;VALUE=DURATION:PT1H
X-Robots-Tag:noindex
X-PUBLISHED-TTL:PT1H
BEGIN:VTIMEZONE
TZID:Europe/Vienna
BEGIN:DAYLIGHT
TZOFFSETFROM:+0100
TZOFFSETTO:+0200
TZNAME:CEST
DTSTART:20240331T010000
END:DAYLIGHT
BEGIN:STANDARD
TZOFFSETFROM:+0200
TZOFFSETTO:+0100
TZNAME:CET
DTSTART:20241027T010000
END:STANDARD
END:VTIMEZONE
BEGIN:VEVENT
DTSTART;TZID=Europe/Vienna:20240517T180000
DTEND;TZID=Europe/Vienna:20240517T200000
DTSTAMP:20260423T061000
CREATED:20240506T123729Z
LAST-MODIFIED:20240506T123729Z
UID:98351-1715968800-1715976000@archiv.hosiwien.at
SUMMARY:IDAHOBIT
DESCRIPTION:Zum internationalen Tag gegen Homo-\, Bi-\, Inter- und Transphobie gehen wir gemeinsam auf die Straße\, um laut und sichtbar ein gleichberechtigtes und selbstbestimmtes Leben für uns alle zu fordern. \nUnter dem Motto QUEERS AGAINST FASCISM setzen wir als Community am IDAHOBIT ein Zeichen gegen den internationalen Rechtsruck\, der nicht nur eine Bedrohung für LGBTIQ Personen\, sondern auch für alle marginalisierten Gruppen und ein demokratisches Zusammenleben überhaupt darstellt. Besonders im „Super-Wahljahr“ 2024 ist es entscheidend ein starkes Zeichen gegen Rechts zu setzen. \n#IDAHOBIT2024 \nWann: Freitag 17.05.2024\nUhrzeit: 18:00-20:30\nWo: Treffpunkt am Christian-Broda-Platz am Westbahnhof über die Mariahilferstraße bis zum Platz der Menschenrechte (beim Museumsquartier) \nEnglish version:\nOn the International Day Against Homo-\, Bi-\, Inter- and Transphobia we take to the street to visibly and loudly demand an equal and self-determined life for us all. \nUnder the slogan QUEERS AGAINST FASCISM we take a stand against the international political shift to the right\, which does not only pose a threat to LGBTIQ people but to all marginalized communities and democratic coexistence in general. It‘s especially crucial to take a stand against the shift to the right in the election year 2024. \n#IDAHOBIT2024 \nWhen: Friday 17.05.2024\nTime: 18:00-20:30\nWhere: Meeting point at Christian-Broda-Platz at Westbahnhof over Mariahilferstraße to Platz der Menschenrechte (at Museumsquartier)
URL:https://archiv.hosiwien.at/event/idahobit/
LOCATION:Christian-Broda-Platz beim Westbahnhof\, Christian-Broda-Platz\, Wien\, 1070
CATEGORIES:Demonstration
ATTACH;FMTTYPE=image/jpeg:https://archiv.hosiwien.at/img/image/2024/IDAHOBIT-2024.jpg
END:VEVENT
END:VCALENDAR