BEGIN:VCALENDAR
VERSION:2.0
PRODID:-//Homosexuelle Initiative (HOSI) Wien - ECPv5.16.4//NONSGML v1.0//EN
CALSCALE:GREGORIAN
METHOD:PUBLISH
X-ORIGINAL-URL:https://archiv.hosiwien.at
X-WR-CALDESC:Events for Homosexuelle Initiative (HOSI) Wien
REFRESH-INTERVAL;VALUE=DURATION:PT1H
X-Robots-Tag:noindex
X-PUBLISHED-TTL:PT1H
BEGIN:VTIMEZONE
TZID:Europe/Vienna
BEGIN:DAYLIGHT
TZOFFSETFROM:+0100
TZOFFSETTO:+0200
TZNAME:CEST
DTSTART:20240331T010000
END:DAYLIGHT
BEGIN:STANDARD
TZOFFSETFROM:+0200
TZOFFSETTO:+0100
TZNAME:CET
DTSTART:20241027T010000
END:STANDARD
END:VTIMEZONE
BEGIN:VEVENT
DTSTART;VALUE=DATE:20240525
DTEND;VALUE=DATE:20240611
DTSTAMP:20260423T055524
CREATED:20240219T103843Z
LAST-MODIFIED:20240219T103854Z
UID:97926-1716613200-1717995599@archiv.hosiwien.at
SUMMARY:Vienna Pride
DESCRIPTION:„Pride is a Demonstration“ \nunter diesem Motto findet vom 25.05. – 09.06.2024 die Vienna Pride statt. \nLauft mit uns beim jährlichen Pride Run\, feiert mit uns im Pride Village und Demonstriert mit uns bei der großen 28. Wiener Regenbogenparade am 08.06.2024. \nAlle Informationen zur Vienna Pride 2024 findest du hier: Vienna Pride 2024 / 25. Mai – 9. Juni
URL:https://archiv.hosiwien.at/event/vienna-pride/
CATEGORIES:Demonstration,Infoveranstaltung,kulturelle Veranstaltung,Party,Regenbogenparade,Workshop
ATTACH;FMTTYPE=image/jpeg:https://archiv.hosiwien.at/img/image/2019/Vienna-Pride-Logo.jpg
END:VEVENT
BEGIN:VEVENT
DTSTART;TZID=Europe/Vienna:20240607T163000
DTEND;TZID=Europe/Vienna:20240607T190000
DTSTAMP:20260423T055524
CREATED:20230623T100245Z
LAST-MODIFIED:20230623T100245Z
UID:95522-1717777800-1717786800@archiv.hosiwien.at
SUMMARY:Resis.danse Tanzworkshop
DESCRIPTION:Rock 2
URL:https://archiv.hosiwien.at/event/resis-danse-tanzworkshop-22/2024-06-07/
LOCATION:Gugg\, Heumühlgasse 14\, Wien\, 1040
CATEGORIES:Workshop
ATTACH;FMTTYPE=image/png:https://archiv.hosiwien.at/img/image/2016/resisdanse-logo-trans.png
ORGANIZER;CN="Resis.danse%20-%20FrauenTanzClub":MAILTO:tanzclub@resisdanse.at
GEO:48.1961598;16.3617969
X-APPLE-STRUCTURED-LOCATION;VALUE=URI;X-ADDRESS=Gugg Heumühlgasse 14 Wien 1040;X-APPLE-RADIUS=500;X-TITLE=Heumühlgasse 14:geo:16.3617969,48.1961598
END:VEVENT
BEGIN:VEVENT
DTSTART;TZID=Europe/Vienna:20240607T190000
DTEND;TZID=Europe/Vienna:20240607T210000
DTSTAMP:20260423T055524
CREATED:20230623T104255Z
LAST-MODIFIED:20240411T085629Z
UID:95566-1717786800-1717794000@archiv.hosiwien.at
SUMMARY:Resis.danse Tanzworkshop
DESCRIPTION:Aufbau 2
URL:https://archiv.hosiwien.at/event/resis-danse-tanzworkshop-28-2024-05-03/2024-06-07/
LOCATION:Gugg\, Heumühlgasse 14\, Wien\, 1040
CATEGORIES:Workshop
ATTACH;FMTTYPE=image/png:https://archiv.hosiwien.at/img/image/2016/resisdanse-logo-trans.png
ORGANIZER;CN="Resis.danse%20-%20FrauenTanzClub":MAILTO:tanzclub@resisdanse.at
GEO:48.1961598;16.3617969
X-APPLE-STRUCTURED-LOCATION;VALUE=URI;X-ADDRESS=Gugg Heumühlgasse 14 Wien 1040;X-APPLE-RADIUS=500;X-TITLE=Heumühlgasse 14:geo:16.3617969,48.1961598
END:VEVENT
BEGIN:VEVENT
DTSTART;TZID=Europe/Vienna:20240607T210000
DTEND;TZID=Europe/Vienna:20240608T000000
DTSTAMP:20260423T055524
CREATED:20230622T135833Z
LAST-MODIFIED:20230622T142427Z
UID:95435-1717794000-1717804800@archiv.hosiwien.at
SUMMARY:Resis.danse Tanzabend
DESCRIPTION:Eine Übungsmöglichkeit für alle tanzbegeisterten Frauen.\nEinfach vorbeikommen und mittanzen! \nImmer am Freitag nach den Resis.danse-Tanzworkshops in der gemütlichen Atmosphäre des Guggs\, ab 21 Uhr. \nGenauere Informationen auf der eigenen Website: www.resisdanse.at. \nFreier Eintritt!
URL:https://archiv.hosiwien.at/event/resis-danse-tanzabend-5/2024-06-07/
LOCATION:Gugg\, Heumühlgasse 14\, Wien\, 1040
CATEGORIES:Tanzabende
ATTACH;FMTTYPE=image/jpeg:https://archiv.hosiwien.at/img/image/2018/resisdance-5.jpg
ORGANIZER;CN="Resis.danse%20-%20FrauenTanzClub":MAILTO:tanzclub@resisdanse.at
GEO:48.1961598;16.3617969
X-APPLE-STRUCTURED-LOCATION;VALUE=URI;X-ADDRESS=Gugg Heumühlgasse 14 Wien 1040;X-APPLE-RADIUS=500;X-TITLE=Heumühlgasse 14:geo:16.3617969,48.1961598
END:VEVENT
END:VCALENDAR