BEGIN:VCALENDAR
VERSION:2.0
PRODID:-//Homosexuelle Initiative (HOSI) Wien - ECPv5.16.4//NONSGML v1.0//EN
CALSCALE:GREGORIAN
METHOD:PUBLISH
X-ORIGINAL-URL:https://archiv.hosiwien.at
X-WR-CALDESC:Events for Homosexuelle Initiative (HOSI) Wien
REFRESH-INTERVAL;VALUE=DURATION:PT1H
X-Robots-Tag:noindex
X-PUBLISHED-TTL:PT1H
BEGIN:VTIMEZONE
TZID:Europe/Vienna
BEGIN:DAYLIGHT
TZOFFSETFROM:+0100
TZOFFSETTO:+0200
TZNAME:CEST
DTSTART:20240331T010000
END:DAYLIGHT
BEGIN:STANDARD
TZOFFSETFROM:+0200
TZOFFSETTO:+0100
TZNAME:CET
DTSTART:20241027T010000
END:STANDARD
END:VTIMEZONE
BEGIN:VEVENT
DTSTART;TZID=Europe/Vienna:20240726T200000
DTEND;TZID=Europe/Vienna:20240727T020000
DTSTAMP:20260423T095218
CREATED:20240624T085652Z
LAST-MODIFIED:20240624T085922Z
UID:98486-1722024000-1722045600@archiv.hosiwien.at
SUMMARY:Resis.danse Sommertanzabend
DESCRIPTION:Resis.danse Sommertanzabend \nCoole Drinks & heiße Rhythmen! \nAb 20 Uhr *women* only \nhttp://www.resisdanse.at/
URL:https://archiv.hosiwien.at/event/resis-danse-sommertanzabend-9/2024-07-26/
LOCATION:Gugg\, Heumühlgasse 14\, Wien\, 1040
CATEGORIES:Party
ATTACH;FMTTYPE=image/jpeg:https://archiv.hosiwien.at/img/image/2024/Resis.danse-Sommertanzabend-2024.jpg
ORGANIZER;CN="Resis.danse%20-%20FrauenTanzClub":MAILTO:tanzclub@resisdanse.at
GEO:48.1961598;16.3617969
X-APPLE-STRUCTURED-LOCATION;VALUE=URI;X-ADDRESS=Gugg Heumühlgasse 14 Wien 1040;X-APPLE-RADIUS=500;X-TITLE=Heumühlgasse 14:geo:16.3617969,48.1961598
END:VEVENT
END:VCALENDAR