BEGIN:VCALENDAR
VERSION:2.0
PRODID:-//Homosexuelle Initiative (HOSI) Wien - ECPv5.16.4//NONSGML v1.0//EN
CALSCALE:GREGORIAN
METHOD:PUBLISH
X-ORIGINAL-URL:https://archiv.hosiwien.at
X-WR-CALDESC:Events for Homosexuelle Initiative (HOSI) Wien
REFRESH-INTERVAL;VALUE=DURATION:PT1H
X-Robots-Tag:noindex
X-PUBLISHED-TTL:PT1H
BEGIN:VTIMEZONE
TZID:Europe/Vienna
BEGIN:DAYLIGHT
TZOFFSETFROM:+0100
TZOFFSETTO:+0200
TZNAME:CEST
DTSTART:20240331T010000
END:DAYLIGHT
BEGIN:STANDARD
TZOFFSETFROM:+0200
TZOFFSETTO:+0100
TZNAME:CET
DTSTART:20241027T010000
END:STANDARD
END:VTIMEZONE
BEGIN:VEVENT
DTSTART;TZID=Europe/Vienna:20240810T193000
DTEND;TZID=Europe/Vienna:20240810T220000
DTSTAMP:20260423T095120
CREATED:20240729T090530Z
LAST-MODIFIED:20240801T143052Z
UID:98533-1723318200-1723327200@archiv.hosiwien.at
SUMMARY:Gays and Theys Comedy - *SUMMER* ENGLISH OPEN MIC
DESCRIPTION:18+ \nNo comedy experience needed\, just write „spot please“ into the Facebook event or PM us to perform. \nWhile the stage at this event is only open to LGBTQ+ (aspiring) comedians\, we very happily welcome allies into the audience! \nWe’re sure you’ll love our lineup of diverse\, unique\, hilarious newcomers and seasoned queer entertainers alike\, so join us and bring your friends along! \nThe entry is FREE!\n(we’re happy to accept donations to help fund our future shows) \n  \n*SUMMER* ENGLISH OPEN MIC – Gays and Theys Comedy – Tickets | Fienta
URL:https://archiv.hosiwien.at/event/gays-and-theys-comedy-summer-english-open-mic/
LOCATION:Gugg\, Heumühlgasse 14\, Wien\, 1040
CATEGORIES:kulturelle Veranstaltung
ATTACH;FMTTYPE=image/jpeg:https://archiv.hosiwien.at/img/image/2024/Gays-and-theys-August-2024.jpg
GEO:48.1961598;16.3617969
X-APPLE-STRUCTURED-LOCATION;VALUE=URI;X-ADDRESS=Gugg Heumühlgasse 14 Wien 1040;X-APPLE-RADIUS=500;X-TITLE=Heumühlgasse 14:geo:16.3617969,48.1961598
END:VEVENT
END:VCALENDAR