BEGIN:VCALENDAR
VERSION:2.0
PRODID:-//Homosexuelle Initiative (HOSI) Wien - ECPv5.16.4//NONSGML v1.0//EN
CALSCALE:GREGORIAN
METHOD:PUBLISH
X-ORIGINAL-URL:https://archiv.hosiwien.at
X-WR-CALDESC:Events for Homosexuelle Initiative (HOSI) Wien
REFRESH-INTERVAL;VALUE=DURATION:PT1H
X-Robots-Tag:noindex
X-PUBLISHED-TTL:PT1H
BEGIN:VTIMEZONE
TZID:Europe/Vienna
BEGIN:DAYLIGHT
TZOFFSETFROM:+0100
TZOFFSETTO:+0200
TZNAME:CEST
DTSTART:20240331T010000
END:DAYLIGHT
BEGIN:STANDARD
TZOFFSETFROM:+0200
TZOFFSETTO:+0100
TZNAME:CET
DTSTART:20241027T010000
END:STANDARD
END:VTIMEZONE
BEGIN:VEVENT
DTSTART;TZID=Europe/Vienna:20241110T110000
DTEND;TZID=Europe/Vienna:20241110T170000
DTSTAMP:20260423T212146
CREATED:20241030T094750Z
LAST-MODIFIED:20241030T094836Z
UID:98916-1731236400-1731258000@archiv.hosiwien.at
SUMMARY:Queer Sports Collective - Wanderung auf die Hubertuswarte
DESCRIPTION:Unsere Sportgruppe Queer Sports Collective lädt\nherzlich zu folgenden Events ein: \n10. November\, Sonntag\, 11:00: Wanderung auf die Hubertuswarte (Lainzer\nTiergarten) \n● Treffpunkt: Bahnhof Wien Hütteldorf\, direkt vorm Haupteingang (Richtung\nKeißlergasse)\n● Route: Hütteldorf – Nikolaitor (Eingang Lainzer Tiergarten) – Rasthaus\nRohrhaus – Hubertuswarte am Kaltbründlberg – Hütteldorf\n● Länge: 12 km\n● Dauer: 3 h (reine Gehzeit\, alles zusammen)\n● Aufstieg: ca 360 hm\n● Schwierigkeitsgrad: Leicht-Mittel\, es geht 1 bis 1.5 h relativ steil bergauf \n  \nAllgemeine Hinweise:\n● Teilnahme kostenlos und auf eigene Verantwortung\, nur für Volljährige.\n● Wir können keine Fahrt- und Verpflegungskosten (z.B. auf Berghütten)\nübernehmen.\n● Bitte Wasser\, geeignetes Schuhwerk und ggf. Helm mitnehmen.\n● Um unverbindliche Anmeldung wird gebeten
URL:https://archiv.hosiwien.at/event/queer-sports-collective-wanderung-auf-die-hubertuswarte/
LOCATION:Gugg\, Heumühlgasse 14\, Wien\, 1040
GEO:48.1961598;16.3617969
X-APPLE-STRUCTURED-LOCATION;VALUE=URI;X-ADDRESS=Gugg Heumühlgasse 14 Wien 1040;X-APPLE-RADIUS=500;X-TITLE=Heumühlgasse 14:geo:16.3617969,48.1961598
END:VEVENT
BEGIN:VEVENT
DTSTART;TZID=Europe/Vienna:20241110T180000
DTEND;TZID=Europe/Vienna:20241110T193000
DTSTAMP:20260423T212146
CREATED:20240916T102611Z
LAST-MODIFIED:20240916T102611Z
UID:98737-1731261600-1731267000@archiv.hosiwien.at
SUMMARY:Queer-Yoga
DESCRIPTION:Warum Queer-Yoga? Dafür gibt es so viele Gründe wie Farben im Regenbogen: anzukommen – im Hier und Jetzt\, und bei sich selbst-\, den eigenen Körper anzunehmen\, Achtsamkeit zu üben\, die Abwehrkräfte zu stärken. In jeder Yogastunde geht es darum\, tief ein- und auszuatmen\, jeden Muskel zu spüren und die Verbundenheit in der Gruppe zu erleben. \nMatías (er/ihm) und Florian (er/ihm) führen uns durch die Welt des Hatha- und Vinyasa-Yoga. Egal ob du schon Erfahrung hast oder nicht\, sie passen sich deinem Niveau an und helfen dir\, die Übungen richtig auszuführen. \nEin Raum für Yoga\, aber auch ein Safe Space für die Queer-Community: Alle LGBTQIA*s und ihre Freund*innen sind herzlich willkommen! Kommt in bequemer Kleidung und bringt eure Yogamatte mit\, vor Ort sind aber auch einige Matten verfügbar. \nDatum und Uhrzeit: sonntags\, von 18:00 bis 19:30. Achtung: eventuelle Termin-oder Uhrzeit-Änderungen sind möglich\, daher bitte immer vorher den online-Kalender checken! \nWir öffnen bereits um ca. 17:45 Uhr\, damit ihr euch in Ruhe umziehen könnt\, und wir pünktlich beginnen können. \nOrt: Das Gugg – Heumühlgasse 14\, 1040 Wien \nEintritt: die HOSI Wien und unsere ehrenamtlichen Trainer freuen sich über jede freie Spende\, die am Ende der Einheit abgegeben werden kann – sie kommen vollumfänglich der Hosi Wien zugute.\n \nKontakt: yoga@archiv.hosiwien.at
URL:https://archiv.hosiwien.at/event/queer-yoga-2024_11/2024-11-10/
LOCATION:Gugg\, Heumühlgasse 14\, Wien\, 1040
CATEGORIES:Gruppen
GEO:48.1961598;16.3617969
X-APPLE-STRUCTURED-LOCATION;VALUE=URI;X-ADDRESS=Gugg Heumühlgasse 14 Wien 1040;X-APPLE-RADIUS=500;X-TITLE=Heumühlgasse 14:geo:16.3617969,48.1961598
END:VEVENT
END:VCALENDAR