BEGIN:VCALENDAR
VERSION:2.0
PRODID:-//Homosexuelle Initiative (HOSI) Wien - ECPv5.16.4//NONSGML v1.0//EN
CALSCALE:GREGORIAN
METHOD:PUBLISH
X-ORIGINAL-URL:https://archiv.hosiwien.at
X-WR-CALDESC:Events for Homosexuelle Initiative (HOSI) Wien
REFRESH-INTERVAL;VALUE=DURATION:PT1H
X-Robots-Tag:noindex
X-PUBLISHED-TTL:PT1H
BEGIN:VTIMEZONE
TZID:Europe/Vienna
BEGIN:DAYLIGHT
TZOFFSETFROM:+0100
TZOFFSETTO:+0200
TZNAME:CEST
DTSTART:20240331T010000
END:DAYLIGHT
BEGIN:STANDARD
TZOFFSETFROM:+0200
TZOFFSETTO:+0100
TZNAME:CET
DTSTART:20241027T010000
END:STANDARD
END:VTIMEZONE
BEGIN:VEVENT
DTSTART;TZID=Europe/Vienna:20241118T180000
DTEND;TZID=Europe/Vienna:20241118T200000
DTSTAMP:20260423T223530
CREATED:20241030T095131Z
LAST-MODIFIED:20241030T095131Z
UID:98921-1731952800-1731960000@archiv.hosiwien.at
SUMMARY:Queer Sports Collective - Laufen Ring-Rathauspark
DESCRIPTION:Unsere Sportgruppe Queer Sports Collective lädt\nherzlich zu folgenden Events ein: \n18. November\, Montag\, 18:00: Laufen Ring-Rathauspark\n● Treffpunkt: Das Gugg (Umzieh- und Aufbewahrungsmöglichkeit vorhanden)\n● Route: Gugg – Ring – Rathauspark Runde\n● Länge: 5 km\n● Schwierigkeitsgrad: Leicht (jede Pace ist willkommen!) \nAllgemeine Hinweise:\n● Teilnahme kostenlos und auf eigene Verantwortung\, nur für Volljährige.\n● Wir können keine Fahrt- und Verpflegungskosten (z.B. auf Berghütten)\nübernehmen.\n● Bitte Wasser\, geeignetes Schuhwerk und ggf. Helm mitnehmen.\n● Um unverbindliche Anmeldung wird gebeten.
URL:https://archiv.hosiwien.at/event/queer-sports-collective-laufen-ring-rathauspark/
LOCATION:Gugg\, Heumühlgasse 14\, Wien\, 1040
GEO:48.1961598;16.3617969
X-APPLE-STRUCTURED-LOCATION;VALUE=URI;X-ADDRESS=Gugg Heumühlgasse 14 Wien 1040;X-APPLE-RADIUS=500;X-TITLE=Heumühlgasse 14:geo:16.3617969,48.1961598
END:VEVENT
BEGIN:VEVENT
DTSTART;TZID=Europe/Vienna:20241118T190000
DTEND;TZID=Europe/Vienna:20241118T233000
DTSTAMP:20260423T223530
CREATED:20241031T100036Z
LAST-MODIFIED:20241031T100121Z
UID:98945-1731956400-1731972600@archiv.hosiwien.at
SUMMARY:*AUTUMN* ENGLISH OPEN MIC - Gays and Theys Comedy
DESCRIPTION:18+ \nNo comedy experience needed\, just write „spot please“ into the Facebook event or PM us to perform. \nWhile the stage at this event is only open to LGBTQ+ (aspiring) comedians\, we very happily welcome allies into the audience! \nWe’re sure you’ll love our lineup of diverse\, unique\, hilarious newcomers and seasoned queer entertainers alike\, so join us and bring your friends along! \nThe entry is FREE!\n(we’re happy to accept donations to help fund our future shows) \n  \nTickets: *AUTUMN* ENGLISH OPEN MIC – Gays and Theys Comedy – Tickets | Fienta
URL:https://archiv.hosiwien.at/event/autumn-english-open-mic-gays-and-theys-comedy/
LOCATION:Gugg\, Heumühlgasse 14\, Wien\, 1040
CATEGORIES:kulturelle Veranstaltung
ATTACH;FMTTYPE=image/jpeg:https://archiv.hosiwien.at/img/image/2024/Gays-and-theys-November-2024.jpg
GEO:48.1961598;16.3617969
X-APPLE-STRUCTURED-LOCATION;VALUE=URI;X-ADDRESS=Gugg Heumühlgasse 14 Wien 1040;X-APPLE-RADIUS=500;X-TITLE=Heumühlgasse 14:geo:16.3617969,48.1961598
END:VEVENT
END:VCALENDAR