BEGIN:VCALENDAR
VERSION:2.0
PRODID:-//Homosexuelle Initiative (HOSI) Wien - ECPv5.16.4//NONSGML v1.0//EN
CALSCALE:GREGORIAN
METHOD:PUBLISH
X-ORIGINAL-URL:https://archiv.hosiwien.at
X-WR-CALDESC:Events for Homosexuelle Initiative (HOSI) Wien
REFRESH-INTERVAL;VALUE=DURATION:PT1H
X-Robots-Tag:noindex
X-PUBLISHED-TTL:PT1H
BEGIN:VTIMEZONE
TZID:Europe/Vienna
BEGIN:DAYLIGHT
TZOFFSETFROM:+0100
TZOFFSETTO:+0200
TZNAME:CEST
DTSTART:20240331T010000
END:DAYLIGHT
BEGIN:STANDARD
TZOFFSETFROM:+0200
TZOFFSETTO:+0100
TZNAME:CET
DTSTART:20241027T010000
END:STANDARD
END:VTIMEZONE
BEGIN:VEVENT
DTSTART;TZID=Europe/Vienna:20241119T190000
DTEND;TZID=Europe/Vienna:20241119T230000
DTSTAMP:20260423T212207
CREATED:20241111T101237Z
LAST-MODIFIED:20241111T133655Z
UID:99455-1732042800-1732057200@archiv.hosiwien.at
SUMMARY:Werde Teil des Vienna Pride Teams
DESCRIPTION:Werde Teil des Vienna Pride Teams und unterstütze mit deinem Ehrenamt die größte LGBTIQ+ Veranstaltung Österreichs 🌈 \nDu willst Veränderung bewirken und dich für LGBTIQ-Rechte einsetzen? Bring deine Ideen und Leidenschaft ein und werde ab sofort ehrenamtlich aktiv! Egal\, ob du zum ersten Mal dabei bist oder schon Erfahrung mitbringst – jedes Engagement ist willkommen! 💪✨ \nSave the Date! Komm am 19. November um 19:00 zum Infoevent\, wo dir das Team von Vienna Pride Einblicke in die tatsächliche Arbeit gibt und du dir über die Möglichkeiten ein Bild machen kannst. Sei dabei und lass uns zusammen für Sichtbarkeit\, Akzeptanz und Gleichberechtigung arbeiten! Wir freuen uns auf dich. 🏳️‍🌈❤️ \nLocation: Das Gugg\, Heumühlgasse 14\, 1040 Wien \n#ViennaPride #Ehrenamt #PrideCommunity \n📷 Clemens Tiefenthaler
URL:https://archiv.hosiwien.at/event/werde-teil-des-ienna-pride-teams/
LOCATION:Gugg\, Heumühlgasse 14\, Wien\, 1040
ATTACH;FMTTYPE=image/jpeg:https://archiv.hosiwien.at/img/image/2024/VP-Andockevent-2024.jpeg
GEO:48.1961598;16.3617969
X-APPLE-STRUCTURED-LOCATION;VALUE=URI;X-ADDRESS=Gugg Heumühlgasse 14 Wien 1040;X-APPLE-RADIUS=500;X-TITLE=Heumühlgasse 14:geo:16.3617969,48.1961598
END:VEVENT
END:VCALENDAR