BEGIN:VCALENDAR
VERSION:2.0
PRODID:-//Homosexuelle Initiative (HOSI) Wien - ECPv5.16.4//NONSGML v1.0//EN
CALSCALE:GREGORIAN
METHOD:PUBLISH
X-WR-CALNAME:Homosexuelle Initiative (HOSI) Wien
X-ORIGINAL-URL:https://archiv.hosiwien.at
X-WR-CALDESC:Events for Homosexuelle Initiative (HOSI) Wien
REFRESH-INTERVAL;VALUE=DURATION:PT1H
X-Robots-Tag:noindex
X-PUBLISHED-TTL:PT1H
BEGIN:VTIMEZONE
TZID:Europe/Vienna
BEGIN:DAYLIGHT
TZOFFSETFROM:+0100
TZOFFSETTO:+0200
TZNAME:CEST
DTSTART:20240331T010000
END:DAYLIGHT
BEGIN:STANDARD
TZOFFSETFROM:+0200
TZOFFSETTO:+0100
TZNAME:CET
DTSTART:20241027T010000
END:STANDARD
END:VTIMEZONE
BEGIN:VEVENT
DTSTART;TZID=Europe/Vienna:20241214T190000
DTEND;TZID=Europe/Vienna:20241215T020000
DTSTAMP:20260424T013931
CREATED:20241111T131129Z
LAST-MODIFIED:20241111T131129Z
UID:99457-1734202800-1734228000@archiv.hosiwien.at
SUMMARY:HOSI Wien Winterfest
DESCRIPTION:Am Samstag\, den 14. Dezember\, laden wir alle Vereinsmitglieder\, Partner*innen und Freund*innen zu unserem HOSI Wien Winterfest ein.\nEs erwarten euch neben Punsch und Keksen unsere Jahresausstellung\, eine Tombola\, Karaoke sowie die Verleihung der HOSI-Awards. Auch für Unterhaltung in Form einer kleinen Drag Show wird gesorgt sein. Wir freuen uns darauf gemeinsam mit euch auf das vergangene Jahr zurückzublicken und anzustoßen. \nBei dieser Gelegenheit gibt es auch die Möglichkeit unsere Regenbogenschaf-Stofftaschen gegen eine freie Spende von € 10\,- zu erwerben – solange der Vorrat reicht. \nWann? 14.12.2024\, 19.00 Uhr\nWo? Das Gugg\, Heumühlgasse 14/1\, 1040 Wien
URL:https://archiv.hosiwien.at/event/hosi-wien-winterfest/
LOCATION:Gugg\, Heumühlgasse 14\, Wien\, 1040
CATEGORIES:Party
ATTACH;FMTTYPE=image/jpeg:https://archiv.hosiwien.at/img/image/2024/Winterfest-1.2-scaled.jpg
GEO:48.1961598;16.3617969
X-APPLE-STRUCTURED-LOCATION;VALUE=URI;X-ADDRESS=Gugg Heumühlgasse 14 Wien 1040;X-APPLE-RADIUS=500;X-TITLE=Heumühlgasse 14:geo:16.3617969,48.1961598
END:VEVENT
END:VCALENDAR