BEGIN:VCALENDAR
VERSION:2.0
PRODID:-//Homosexuelle Initiative (HOSI) Wien - ECPv5.16.4//NONSGML v1.0//EN
CALSCALE:GREGORIAN
METHOD:PUBLISH
X-ORIGINAL-URL:https://archiv.hosiwien.at
X-WR-CALDESC:Events for Homosexuelle Initiative (HOSI) Wien
REFRESH-INTERVAL;VALUE=DURATION:PT1H
X-Robots-Tag:noindex
X-PUBLISHED-TTL:PT1H
BEGIN:VTIMEZONE
TZID:Europe/Vienna
BEGIN:DAYLIGHT
TZOFFSETFROM:+0100
TZOFFSETTO:+0200
TZNAME:CEST
DTSTART:20240331T010000
END:DAYLIGHT
BEGIN:STANDARD
TZOFFSETFROM:+0200
TZOFFSETTO:+0100
TZNAME:CET
DTSTART:20241027T010000
END:STANDARD
BEGIN:DAYLIGHT
TZOFFSETFROM:+0100
TZOFFSETTO:+0200
TZNAME:CEST
DTSTART:20250330T010000
END:DAYLIGHT
BEGIN:STANDARD
TZOFFSETFROM:+0200
TZOFFSETTO:+0100
TZNAME:CET
DTSTART:20251026T010000
END:STANDARD
END:VTIMEZONE
BEGIN:VEVENT
DTSTART;TZID=Europe/Vienna:20241221T080000
DTEND;TZID=Europe/Vienna:20250107T000000
DTSTAMP:20260423T225646
CREATED:20241203T130721Z
LAST-MODIFIED:20241203T134632Z
UID:99582-1734768000-1736208000@archiv.hosiwien.at
SUMMARY:Büro Winterpause
DESCRIPTION:Unser Büro macht Winterpause und ist ab 07.01.2025 wieder für euch da.
URL:https://archiv.hosiwien.at/event/buero-winterpause-2/
LOCATION:Gugg\, Heumühlgasse 14\, Wien\, 1040
GEO:48.1961598;16.3617969
X-APPLE-STRUCTURED-LOCATION;VALUE=URI;X-ADDRESS=Gugg Heumühlgasse 14 Wien 1040;X-APPLE-RADIUS=500;X-TITLE=Heumühlgasse 14:geo:16.3617969,48.1961598
END:VEVENT
BEGIN:VEVENT
DTSTART;TZID=Europe/Vienna:20241226T080000
DTEND;TZID=Europe/Vienna:20250107T000000
DTSTAMP:20260423T225646
CREATED:20241203T130909Z
LAST-MODIFIED:20241203T134727Z
UID:99584-1735200000-1736208000@archiv.hosiwien.at
SUMMARY:Gugg Winterpause
DESCRIPTION:Das Gugg macht Winterpause!\nZwischen 26.12.2024 und 06.01.2025 bleiben wir geschlossen. \n  \nEs finden keine Gruppen- und andere Abende statt. \nAb 07.01.2025 sind wir wieder wie gewohnt für euch da.
URL:https://archiv.hosiwien.at/event/gugg-winterpause/
LOCATION:Gugg\, Heumühlgasse 14\, Wien\, 1040
GEO:48.1961598;16.3617969
X-APPLE-STRUCTURED-LOCATION;VALUE=URI;X-ADDRESS=Gugg Heumühlgasse 14 Wien 1040;X-APPLE-RADIUS=500;X-TITLE=Heumühlgasse 14:geo:16.3617969,48.1961598
END:VEVENT
END:VCALENDAR