BEGIN:VCALENDAR
VERSION:2.0
PRODID:-//Homosexuelle Initiative (HOSI) Wien - ECPv5.16.4//NONSGML v1.0//EN
CALSCALE:GREGORIAN
METHOD:PUBLISH
X-ORIGINAL-URL:https://archiv.hosiwien.at
X-WR-CALDESC:Events for Homosexuelle Initiative (HOSI) Wien
REFRESH-INTERVAL;VALUE=DURATION:PT1H
X-Robots-Tag:noindex
X-PUBLISHED-TTL:PT1H
BEGIN:VTIMEZONE
TZID:Europe/Vienna
BEGIN:DAYLIGHT
TZOFFSETFROM:+0100
TZOFFSETTO:+0200
TZNAME:CEST
DTSTART:20250330T010000
END:DAYLIGHT
BEGIN:STANDARD
TZOFFSETFROM:+0200
TZOFFSETTO:+0100
TZNAME:CET
DTSTART:20251026T010000
END:STANDARD
END:VTIMEZONE
BEGIN:VEVENT
DTSTART;VALUE=DATE:20250125
DTEND;VALUE=DATE:20250127
DTSTAMP:20260425T213158
CREATED:20240725T102500Z
LAST-MODIFIED:20240725T102500Z
UID:98529-1737781200-1737867599@archiv.hosiwien.at
SUMMARY:27. Wiener Regenbogenball
DESCRIPTION:EIN BALL FÜR ALLE\nKlassischer Ball und LGBTIQ – eine Fusion zweier Themen\, die für jede*n ein besonderes Erlebnis wird. In jedem Fall ist der Wiener Regenbogenball bunter als andere Bälle und schafft damit eine inklusive Umgebung\, in der Menschen jeglicher sexueller Orientierung und Geschlechtsidentität gemeinsam feiern können. \nDurch die Verbindung von Unterhaltung und Aktivismus trägt der Regenbogenball dazu bei\, Vorurteile abzubauen und die Rechte der LGBTIQ-Community zu stärken. Gemeinsam schaffen wir damit eine Plattform für Solidarität und ein Symbol für die Vielfalt in unserer Gesellschaft. \n  \nAlle Informationen zum 27. Wiener Regenbogenball findest du auf www.regenbogenball.at
URL:https://archiv.hosiwien.at/event/27-wiener-regenbogenball/
LOCATION:Parkhotel Schönbrunn\, Hietzinger Hauptstr. 10-14\, Wien\, 1130\, Österreich
CATEGORIES:Regenbogenball
ORGANIZER;CN="HOSI%20Wien":MAILTO:office@archiv.hosiwien.at
GEO:48.1872566;16.3034331
X-APPLE-STRUCTURED-LOCATION;VALUE=URI;X-ADDRESS=Parkhotel Schönbrunn Hietzinger Hauptstr. 10-14 Wien 1130 Österreich;X-APPLE-RADIUS=500;X-TITLE=Hietzinger Hauptstr. 10-14:geo:16.3034331,48.1872566
END:VEVENT
END:VCALENDAR