BEGIN:VCALENDAR
VERSION:2.0
PRODID:-//Homosexuelle Initiative (HOSI) Wien - ECPv5.16.4//NONSGML v1.0//EN
CALSCALE:GREGORIAN
METHOD:PUBLISH
X-WR-CALNAME:Homosexuelle Initiative (HOSI) Wien
X-ORIGINAL-URL:https://archiv.hosiwien.at
X-WR-CALDESC:Events for Homosexuelle Initiative (HOSI) Wien
REFRESH-INTERVAL;VALUE=DURATION:PT1H
X-Robots-Tag:noindex
X-PUBLISHED-TTL:PT1H
BEGIN:VTIMEZONE
TZID:Europe/Vienna
BEGIN:DAYLIGHT
TZOFFSETFROM:+0100
TZOFFSETTO:+0200
TZNAME:CEST
DTSTART:20150329T010000
END:DAYLIGHT
BEGIN:STANDARD
TZOFFSETFROM:+0200
TZOFFSETTO:+0100
TZNAME:CET
DTSTART:20151025T010000
END:STANDARD
END:VTIMEZONE
BEGIN:VEVENT
DTSTART;TZID=Europe/Vienna:20150501T100000
DTEND;TZID=Europe/Vienna:20150501T160000
DTSTAMP:20260424T100515
CREATED:20141114T181635Z
LAST-MODIFIED:20160419T222128Z
UID:32606-1430474400-1430496000@archiv.hosiwien.at
SUMMARY:Büro geschlossen
DESCRIPTION:Das Büro ist heute leider geschlossen. \nDie generellen Bürozeiten sind:\nMontag 12-16 Uhr\nDienstag 10-16 Uhr\nFreitag 10-16 Uhr. \nGerne kannst du unter der Tel. 0660-216 66 05 eine Nachricht hinterlassen. Du wirst sobald wie möglich bzgl. deines Anliegens zurückgerufen.
URL:https://archiv.hosiwien.at/event/buerozeiten-der-hosi-wien-17-2015-05-01/
LOCATION:Gugg\, Heumühlgasse 14\, Wien\, 1040
CATEGORIES:Bürozeiten,Sperre
GEO:48.1961598;16.3617969
X-APPLE-STRUCTURED-LOCATION;VALUE=URI;X-ADDRESS=Gugg Heumühlgasse 14 Wien 1040;X-APPLE-RADIUS=500;X-TITLE=Heumühlgasse 14:geo:16.3617969,48.1961598
END:VEVENT
BEGIN:VEVENT
DTSTART;TZID=Europe/Vienna:20150501T180000
DTEND;TZID=Europe/Vienna:20150501T180000
DTSTAMP:20260424T100515
CREATED:20150216T124152Z
LAST-MODIFIED:20160419T222128Z
UID:33788-1430503200-1430503200@archiv.hosiwien.at
SUMMARY:Gugg geschlossen
DESCRIPTION:Wir haben heute geschlossen.
URL:https://archiv.hosiwien.at/event/gugg-geschlossen-13/2015-05-01/
LOCATION:Gugg\, Heumühlgasse 14\, Wien\, 1040
CATEGORIES:Sperre
GEO:48.1961598;16.3617969
X-APPLE-STRUCTURED-LOCATION;VALUE=URI;X-ADDRESS=Gugg Heumühlgasse 14 Wien 1040;X-APPLE-RADIUS=500;X-TITLE=Heumühlgasse 14:geo:16.3617969,48.1961598
END:VEVENT
BEGIN:VEVENT
DTSTART;TZID=Europe/Vienna:20150502T180000
DTEND;TZID=Europe/Vienna:20150502T180000
DTSTAMP:20260424T100515
CREATED:20150216T124152Z
LAST-MODIFIED:20160419T222128Z
UID:33789-1430589600-1430589600@archiv.hosiwien.at
SUMMARY:Gugg geschlossen
DESCRIPTION:Wir haben heute geschlossen.
URL:https://archiv.hosiwien.at/event/gugg-geschlossen-13/2015-05-02/
LOCATION:Gugg\, Heumühlgasse 14\, Wien\, 1040
CATEGORIES:Sperre
GEO:48.1961598;16.3617969
X-APPLE-STRUCTURED-LOCATION;VALUE=URI;X-ADDRESS=Gugg Heumühlgasse 14 Wien 1040;X-APPLE-RADIUS=500;X-TITLE=Heumühlgasse 14:geo:16.3617969,48.1961598
END:VEVENT
BEGIN:VEVENT
DTSTART;TZID=Europe/Vienna:20150503T180000
DTEND;TZID=Europe/Vienna:20150503T180000
DTSTAMP:20260424T100515
CREATED:20150216T124152Z
LAST-MODIFIED:20160419T222128Z
UID:33790-1430676000-1430676000@archiv.hosiwien.at
SUMMARY:Gugg geschlossen
DESCRIPTION:Wir haben heute geschlossen.
URL:https://archiv.hosiwien.at/event/gugg-geschlossen-13/2015-05-03/
LOCATION:Gugg\, Heumühlgasse 14\, Wien\, 1040
CATEGORIES:Sperre
GEO:48.1961598;16.3617969
X-APPLE-STRUCTURED-LOCATION;VALUE=URI;X-ADDRESS=Gugg Heumühlgasse 14 Wien 1040;X-APPLE-RADIUS=500;X-TITLE=Heumühlgasse 14:geo:16.3617969,48.1961598
END:VEVENT
BEGIN:VEVENT
DTSTART;TZID=Europe/Vienna:20150504T120000
DTEND;TZID=Europe/Vienna:20150504T160000
DTSTAMP:20260424T100516
CREATED:20141114T180924Z
LAST-MODIFIED:20150915T161240Z
UID:32530-1430740800-1430755200@archiv.hosiwien.at
SUMMARY:Bürozeiten der HOSI Wien
DESCRIPTION:Während der Bürozeiten kannst du in unserem Vereinszentrum und -lokal\, dem Gugg\, vorbeikommen und dich über die HOSI Wien informieren\, generell Infomaterial über die LSBT-Szene in Wien erhalten\, Dringendes besprechen oder Mitglied werden und sofort deine Mitgliedskarte erhalten. \nDie Bürozeiten sind: \nMontag 12 – 16 Uhr \nDienstag 10 – 16 Uhr \nFreitag 10 – 16 Uhr \nUnsere Mitarbeiterin Anna Szutt ist während der Bürozeiten unter 0660/216 66 05 telefonisch erreichbar.
URL:https://archiv.hosiwien.at/event/buerozeiten-der-hosi-wien-15/2015-05-04/
LOCATION:Gugg\, Heumühlgasse 14\, Wien\, 1040
CATEGORIES:Bürozeiten
GEO:48.1961598;16.3617969
X-APPLE-STRUCTURED-LOCATION;VALUE=URI;X-ADDRESS=Gugg Heumühlgasse 14 Wien 1040;X-APPLE-RADIUS=500;X-TITLE=Heumühlgasse 14:geo:16.3617969,48.1961598
END:VEVENT
BEGIN:VEVENT
DTSTART;TZID=Europe/Vienna:20150504T190000
DTEND;TZID=Europe/Vienna:20150504T220000
DTSTAMP:20260424T100516
CREATED:20150126T174053Z
LAST-MODIFIED:20150126T174053Z
UID:33477-1430766000-1430776800@archiv.hosiwien.at
SUMMARY:HOSI Wien – Vorstandssitzung
DESCRIPTION:
URL:https://archiv.hosiwien.at/event/hosi-wien-vorstandssitzung-38/
LOCATION:Gugg\, Heumühlgasse 14\, Wien\, 1040
CATEGORIES:Intern
GEO:48.1961598;16.3617969
X-APPLE-STRUCTURED-LOCATION;VALUE=URI;X-ADDRESS=Gugg Heumühlgasse 14 Wien 1040;X-APPLE-RADIUS=500;X-TITLE=Heumühlgasse 14:geo:16.3617969,48.1961598
END:VEVENT
BEGIN:VEVENT
DTSTART;TZID=Europe/Vienna:20150505T100000
DTEND;TZID=Europe/Vienna:20150505T160000
DTSTAMP:20260424T100516
CREATED:20141114T181312Z
LAST-MODIFIED:20160419T222128Z
UID:32568-1430820000-1430841600@archiv.hosiwien.at
SUMMARY:Büro geschlossen
DESCRIPTION:Unser Büro ist heute krankheitsbedingt nicht besetzt.
URL:https://archiv.hosiwien.at/event/buerozeiten-der-hosi-wien-16-2015-05-05/
LOCATION:Gugg\, Heumühlgasse 14\, Wien\, 1040
CATEGORIES:Sperre
GEO:48.1961598;16.3617969
X-APPLE-STRUCTURED-LOCATION;VALUE=URI;X-ADDRESS=Gugg Heumühlgasse 14 Wien 1040;X-APPLE-RADIUS=500;X-TITLE=Heumühlgasse 14:geo:16.3617969,48.1961598
END:VEVENT
BEGIN:VEVENT
DTSTART;TZID=Europe/Vienna:20150505T180000
DTEND;TZID=Europe/Vienna:20150505T220000
DTSTAMP:20260424T100516
CREATED:20150812T071716Z
LAST-MODIFIED:20150915T175012Z
UID:29722-1430848800-1430863200@archiv.hosiwien.at
SUMMARY:Café-Betrieb
DESCRIPTION:Das Gugg bietet nicht nur Veranstaltungen und Gruppentreffen den passenden Raum\, sondern ist natürlich auch ein gemütlicher Ort zum Verweilen und Plaudern. Wir freuen uns auf deinen Besuch während der Öffnungszeiten!
URL:https://archiv.hosiwien.at/event/cafe-betrieb-2015-03-17/2015-05-05/
LOCATION:Gugg\, Heumühlgasse 14\, Wien\, 1040
CATEGORIES:Café-Betrieb
ATTACH;FMTTYPE=image/jpeg:https://archiv.hosiwien.at/img/image/2011/gugg_logo2011.jpg
GEO:48.1961598;16.3617969
X-APPLE-STRUCTURED-LOCATION;VALUE=URI;X-ADDRESS=Gugg Heumühlgasse 14 Wien 1040;X-APPLE-RADIUS=500;X-TITLE=Heumühlgasse 14:geo:16.3617969,48.1961598
END:VEVENT
BEGIN:VEVENT
DTSTART;TZID=Europe/Vienna:20150505T190000
DTEND;TZID=Europe/Vienna:20150505T220000
DTSTAMP:20260424T100516
CREATED:20150206T135510Z
LAST-MODIFIED:20150209T220145Z
UID:33611-1430852400-1430863200@archiv.hosiwien.at
SUMMARY:Gugg und Spiele
DESCRIPTION:Die Figuren stehen in den Startlöchern\, die Würfel liegen bereit\, und die Münzen sind poliert\, wenn es wieder heißt „Gugg und Spiele“ – der Spieleabend mit dem besonderen Etwas! Wir stellen Spiele-ErklärerInnen und jede Menge Spiele zum Ausprobieren zur Verfügung. Nimm Freunde und Freundinnen mit und genieße einfach einen gemütlichen Abend. \nEintritt ist natürlich frei!
URL:https://archiv.hosiwien.at/event/gugg-und-spiele-16/
LOCATION:Gugg\, Heumühlgasse 14\, Wien\, 1040
CATEGORIES:kulturelle Veranstaltung
ATTACH;FMTTYPE=image/png:https://archiv.hosiwien.at/img/slider-gugg-spiele-3.png
GEO:48.1961598;16.3617969
X-APPLE-STRUCTURED-LOCATION;VALUE=URI;X-ADDRESS=Gugg Heumühlgasse 14 Wien 1040;X-APPLE-RADIUS=500;X-TITLE=Heumühlgasse 14:geo:16.3617969,48.1961598
END:VEVENT
BEGIN:VEVENT
DTSTART;TZID=Europe/Vienna:20150506T190000
DTEND;TZID=Europe/Vienna:20150506T230000
DTSTAMP:20260424T100516
CREATED:20140703T143402Z
LAST-MODIFIED:20151102T151336Z
UID:29667-1430938800-1430953200@archiv.hosiwien.at
SUMMARY:Lesbenabend
DESCRIPTION:Seit über 30 Jahren bietet die HOSI Wien jeden Mittwoch einen Raum für Frauen. Wir sind eine Gruppe aus den verschiedensten Berufen und mit den unterschiedlichsten Interessen\, doch eines ist uns allen gemeinsam: Wir sind lesbisch. \nDie Lesbengruppe wurde 1981 innerhalb der HOSI Wien von einigen Frauen gegründet\, und seit dieser Zeit trifft sie sich jeden Mittwoch ab 19 Uhr im HOSI-Zentrum. Austausch\, Kennenlernen und Kontakt zu Gleichgesinnten ist uns besonders wichtig. \nHINWEIS: Das umfangreiche Serviceangebot der HOSI Wien wird durch ehrenamtliches Engagement erbracht. Wie du die wichtige Arbeit des Vereins durch Spende oder Mitgliedschaft unterstützen kannst\, erfährst du unter archiv.hosiwien.at/mitgliedschaft.
URL:https://archiv.hosiwien.at/event/lesbenabend-6/2015-05-06/
LOCATION:Gugg\, Heumühlgasse 14\, Wien\, 1040
CATEGORIES:Gruppen
ATTACH;FMTTYPE=image/png:https://archiv.hosiwien.at/img/lesben-frauen.png
GEO:48.1961598;16.3617969
X-APPLE-STRUCTURED-LOCATION;VALUE=URI;X-ADDRESS=Gugg Heumühlgasse 14 Wien 1040;X-APPLE-RADIUS=500;X-TITLE=Heumühlgasse 14:geo:16.3617969,48.1961598
END:VEVENT
BEGIN:VEVENT
DTSTART;TZID=Europe/Vienna:20150507T173000
DTEND;TZID=Europe/Vienna:20150508T000000
DTSTAMP:20260424T100516
CREATED:20140703T143151Z
LAST-MODIFIED:20150915T174918Z
UID:34986-1431019800-1431043200@archiv.hosiwien.at
SUMMARY:Jugendabend
DESCRIPTION:Wir sind für Jugendliche da\, die Infos und Unterstützung brauchen oder einfach nur einen Ort suchen\, wo man mit Gleichgesinnten zusammensitzen und bei einem Getränk plaudern kann. Bei uns geht es locker und ungezwungen zu. \nWeitere Infos \nHINWEIS: Das umfangreiche Serviceangebot der HOSI Wien wird durch ehrenamtliches Engagement erbracht. Wie du die wichtige Arbeit des Vereins durch Spende oder Mitgliedschaft unterstützen kannst\, erfährst du unter archiv.hosiwien.at/mitgliedschaft.
URL:https://archiv.hosiwien.at/event/jugendabend-3/2015-05-07/
LOCATION:Gugg\, Heumühlgasse 14\, Wien\, 1040
CATEGORIES:Gruppen
ATTACH;FMTTYPE=image/jpeg:https://archiv.hosiwien.at/img/hosijugend.jpg
GEO:48.1961598;16.3617969
X-APPLE-STRUCTURED-LOCATION;VALUE=URI;X-ADDRESS=Gugg Heumühlgasse 14 Wien 1040;X-APPLE-RADIUS=500;X-TITLE=Heumühlgasse 14:geo:16.3617969,48.1961598
END:VEVENT
BEGIN:VEVENT
DTSTART;TZID=Europe/Vienna:20150508T100000
DTEND;TZID=Europe/Vienna:20150508T160000
DTSTAMP:20260424T100516
CREATED:20141114T181635Z
LAST-MODIFIED:20160419T222128Z
UID:32607-1431079200-1431100800@archiv.hosiwien.at
SUMMARY:Büro geschlossen
DESCRIPTION:Unser Büro ist heute krankheitsbedingt nicht besetzt.
URL:https://archiv.hosiwien.at/event/buerozeiten-der-hosi-wien-17-2015-05-08/
LOCATION:Gugg\, Heumühlgasse 14\, Wien\, 1040
CATEGORIES:Sperre
GEO:48.1961598;16.3617969
X-APPLE-STRUCTURED-LOCATION;VALUE=URI;X-ADDRESS=Gugg Heumühlgasse 14 Wien 1040;X-APPLE-RADIUS=500;X-TITLE=Heumühlgasse 14:geo:16.3617969,48.1961598
END:VEVENT
BEGIN:VEVENT
DTSTART;TZID=Europe/Vienna:20150508T180000
DTEND;TZID=Europe/Vienna:20150509T010000
DTSTAMP:20260424T100516
CREATED:20150417T115438Z
LAST-MODIFIED:20160329T103611Z
UID:35198-1431108000-1431133200@archiv.hosiwien.at
SUMMARY:Café-Betrieb
DESCRIPTION:Das Gugg bietet nicht nur Veranstaltungen und Gruppentreffen den passenden Raum\, sondern ist natürlich auch ein gemütlicher Ort zum Verweilen und Plaudern. Wir freuen uns auf deinen Besuch während der Öffnungszeiten!
URL:https://archiv.hosiwien.at/event/cafe-betrieb-13/2015-05-08/
LOCATION:Gugg\, Heumühlgasse 14\, Wien\, 1040
CATEGORIES:Café-Betrieb
ATTACH;FMTTYPE=image/jpeg:https://archiv.hosiwien.at/img/image/2010/gugg_logo.jpg
GEO:48.1961598;16.3617969
X-APPLE-STRUCTURED-LOCATION;VALUE=URI;X-ADDRESS=Gugg Heumühlgasse 14 Wien 1040;X-APPLE-RADIUS=500;X-TITLE=Heumühlgasse 14:geo:16.3617969,48.1961598
END:VEVENT
BEGIN:VEVENT
DTSTART;TZID=Europe/Vienna:20150508T190000
DTEND;TZID=Europe/Vienna:20150508T210000
DTSTAMP:20260424T100516
CREATED:20141021T143230Z
LAST-MODIFIED:20150915T155518Z
UID:32144-1431111600-1431118800@archiv.hosiwien.at
SUMMARY:Resis.danse-Tanzworkshop Aufbau I
DESCRIPTION:Ab Anfängerinnen\n \nAlle Termine: 6x freitags\, jeweils 19 – 21 Uhr\n03.\, 10.\, 17.\, 24. April 2015\n08.\, 15. Mai 2015\nUKB/Person: € 78\,00 \nHOSI-Wien-Mitglieder erhalten Ermäßigungen auf alle Tanzkurse! \n\n\nVorbereitung 18 Uhr! Tanzworkshopbeginn 19 Uhr!
URL:https://archiv.hosiwien.at/event/resis-danse-tanzworkshop-aufbau-i-6/2015-05-08/
LOCATION:Gugg\, Heumühlgasse 14\, Wien\, 1040
CATEGORIES:Gruppen
ATTACH;FMTTYPE=image/jpeg:https://archiv.hosiwien.at/img/resisdanse1.jpg
GEO:48.1961598;16.3617969
X-APPLE-STRUCTURED-LOCATION;VALUE=URI;X-ADDRESS=Gugg Heumühlgasse 14 Wien 1040;X-APPLE-RADIUS=500;X-TITLE=Heumühlgasse 14:geo:16.3617969,48.1961598
END:VEVENT
BEGIN:VEVENT
DTSTART;TZID=Europe/Vienna:20150508T210000
DTEND;TZID=Europe/Vienna:20150509T010000
DTSTAMP:20260424T100516
CREATED:20141114T180038Z
LAST-MODIFIED:20141114T180038Z
UID:32506-1431118800-1431133200@archiv.hosiwien.at
SUMMARY:Tanzabend Resis.danse
DESCRIPTION:Eine Übungsmöglichkeit für alle tanzbegeisterten Frauen! Einfach vorbeikommen und mittanzen. \nFreitags ab 21 Uhr immer nach den Tanzworkshops in der gemütlichen Atmosphäre des Gugg. \nDer Barbereich ist für Männer zugänglich! \nGenauere Informationen auf der eigenen Website: www.resisdanse.at.
URL:https://archiv.hosiwien.at/event/tanzabend-resis-danse-11/2015-05-08/
LOCATION:Gugg\, Heumühlgasse 14\, Wien\, 1040
CATEGORIES:Tanzabende
ATTACH;FMTTYPE=image/jpeg:https://archiv.hosiwien.at/img/resisdanse.jpg
GEO:48.1961598;16.3617969
X-APPLE-STRUCTURED-LOCATION;VALUE=URI;X-ADDRESS=Gugg Heumühlgasse 14 Wien 1040;X-APPLE-RADIUS=500;X-TITLE=Heumühlgasse 14:geo:16.3617969,48.1961598
END:VEVENT
BEGIN:VEVENT
DTSTART;TZID=Europe/Vienna:20150509T150000
DTEND;TZID=Europe/Vienna:20150509T180000
DTSTAMP:20260424T100516
CREATED:20141021T160013Z
LAST-MODIFIED:20141021T160013Z
UID:32172-1431183600-1431194400@archiv.hosiwien.at
SUMMARY:Resis.danse - Rock II
DESCRIPTION:Boogie & Jive für Fortgeschrittene! \nTermine: Sa\, 09. & So\, 10. Mai 2015\, 15-18 Uhr \nUKB: € 50\,00
URL:https://archiv.hosiwien.at/event/resis-danse-rock-ii/2015-05-09/
LOCATION:Gugg\, Heumühlgasse 14\, Wien\, 1040
CATEGORIES:Gruppen
ATTACH;FMTTYPE=image/jpeg:https://archiv.hosiwien.at/img/resisdanse1.jpg
GEO:48.1961598;16.3617969
X-APPLE-STRUCTURED-LOCATION;VALUE=URI;X-ADDRESS=Gugg Heumühlgasse 14 Wien 1040;X-APPLE-RADIUS=500;X-TITLE=Heumühlgasse 14:geo:16.3617969,48.1961598
END:VEVENT
BEGIN:VEVENT
DTSTART;TZID=Europe/Vienna:20150509T180000
DTEND;TZID=Europe/Vienna:20150510T010000
DTSTAMP:20260424T100516
CREATED:20140703T145855Z
LAST-MODIFIED:20170428T164148Z
UID:29826-1431194400-1431219600@archiv.hosiwien.at
SUMMARY:Café-Betrieb
DESCRIPTION:Das Gugg bietet nicht nur Veranstaltungen und Gruppentreffen den passenden Raum\, sondern ist natürlich auch ein gemütlicher Ort zum Verweilen und Plaudern. Wir freuen uns auf deinen Besuch während der Öffnungszeiten!
URL:https://archiv.hosiwien.at/event/cafe-betrieb-13-2015-05-30-2015-01-17/2015-05-09/
LOCATION:Gugg\, Heumühlgasse 14\, Wien\, 1040
CATEGORIES:Café-Betrieb
ATTACH;FMTTYPE=image/jpeg:https://archiv.hosiwien.at/img/image/2011/gugg_logo2011.jpg
GEO:48.1961598;16.3617969
X-APPLE-STRUCTURED-LOCATION;VALUE=URI;X-ADDRESS=Gugg Heumühlgasse 14 Wien 1040;X-APPLE-RADIUS=500;X-TITLE=Heumühlgasse 14:geo:16.3617969,48.1961598
END:VEVENT
BEGIN:VEVENT
DTSTART;TZID=Europe/Vienna:20150509T200000
DTEND;TZID=Europe/Vienna:20150510T000000
DTSTAMP:20260424T100516
CREATED:20150227T125808Z
LAST-MODIFIED:20150504T114003Z
UID:33887-1431201600-1431216000@archiv.hosiwien.at
SUMMARY:Schlager-Tanzabend – strictly tanzbar!
DESCRIPTION:Von „Kriminaltango“ bis „Ich lebe jetzt“ – Deutsche Oldies und Schlager\, Standard und Latein (ein Resis.danse-Special). \nOffen für ALLE\, die gern tanzen!\nEintritt frei! \n 
URL:https://archiv.hosiwien.at/event/resis-danse-spezial-tanzabend-von-kriminaltango-bis-ich-lebe-jetzt/
LOCATION:Gugg\, Heumühlgasse 14\, Wien\, 1040
CATEGORIES:Tanzabende
ATTACH;FMTTYPE=image/jpeg:https://archiv.hosiwien.at/img/image/2015/schlagerabend_tanzen.jpg
GEO:48.1961598;16.3617969
X-APPLE-STRUCTURED-LOCATION;VALUE=URI;X-ADDRESS=Gugg Heumühlgasse 14 Wien 1040;X-APPLE-RADIUS=500;X-TITLE=Heumühlgasse 14:geo:16.3617969,48.1961598
END:VEVENT
BEGIN:VEVENT
DTSTART;TZID=Europe/Vienna:20150510T150000
DTEND;TZID=Europe/Vienna:20150510T180000
DTSTAMP:20260424T100516
CREATED:20141021T160013Z
LAST-MODIFIED:20141021T160013Z
UID:32173-1431270000-1431280800@archiv.hosiwien.at
SUMMARY:Resis.danse - Rock II
DESCRIPTION:Boogie & Jive für Fortgeschrittene! \nTermine: Sa\, 09. & So\, 10. Mai 2015\, 15-18 Uhr \nUKB: € 50\,00
URL:https://archiv.hosiwien.at/event/resis-danse-rock-ii/2015-05-10/
LOCATION:Gugg\, Heumühlgasse 14\, Wien\, 1040
CATEGORIES:Gruppen
ATTACH;FMTTYPE=image/jpeg:https://archiv.hosiwien.at/img/resisdanse1.jpg
GEO:48.1961598;16.3617969
X-APPLE-STRUCTURED-LOCATION;VALUE=URI;X-ADDRESS=Gugg Heumühlgasse 14 Wien 1040;X-APPLE-RADIUS=500;X-TITLE=Heumühlgasse 14:geo:16.3617969,48.1961598
END:VEVENT
BEGIN:VEVENT
DTSTART;TZID=Europe/Vienna:20150510T180000
DTEND;TZID=Europe/Vienna:20150510T220000
DTSTAMP:20260424T100516
CREATED:20140703T145933Z
LAST-MODIFIED:20160329T113617Z
UID:29876-1431280800-1431295200@archiv.hosiwien.at
SUMMARY:Café-Betrieb
DESCRIPTION:Das Gugg bietet nicht nur Veranstaltungen und Gruppentreffen den passenden Raum\, sondern ist natürlich auch ein gemütlicher Ort zum Verweilen und Plaudern. Wir freuen uns auf deinen Besuch während der Öffnungszeiten!
URL:https://archiv.hosiwien.at/event/cafe-betrieb-14-2015-05-31/2015-05-10/
LOCATION:Gugg\, Heumühlgasse 14\, Wien\, 1040
CATEGORIES:Café-Betrieb
ATTACH;FMTTYPE=image/jpeg:https://archiv.hosiwien.at/img/image/2011/gugg_logo2011.jpg
GEO:48.1961598;16.3617969
X-APPLE-STRUCTURED-LOCATION;VALUE=URI;X-ADDRESS=Gugg Heumühlgasse 14 Wien 1040;X-APPLE-RADIUS=500;X-TITLE=Heumühlgasse 14:geo:16.3617969,48.1961598
END:VEVENT
BEGIN:VEVENT
DTSTART;TZID=Europe/Vienna:20150510T190000
DTEND;TZID=Europe/Vienna:20150510T210000
DTSTAMP:20260424T100516
CREATED:20141021T152543Z
LAST-MODIFIED:20150915T155517Z
UID:32163-1431284400-1431291600@archiv.hosiwien.at
SUMMARY:Resis.danse Aufbau IV
DESCRIPTION:Ab Aufbau III.\n \nAlle Termine: 7x sonntags\, jeweils 19 – 21 Uhr\n22.\, 29.\, März 2015\n12.\, 19.\, 26. April 2015\n10.\, 17. Mai 2015 \nUKB/Person: € 92\,00 \nHOSI-Wien-Mitglieder erhalten Ermäßigungen auf alle Tanzkurse! \n\n\nVorbereitung 18 Uhr! Tanzworkshopbeginn 19 Uhr! \n ACHTUNG am 22. und am 29. März findet der Workshop an einem anderen Ort statt\, dieser wird separat bekannt gegeben!
URL:https://archiv.hosiwien.at/event/resis-danse-aufbau-iv/2015-05-10/
LOCATION:Gugg\, Heumühlgasse 14\, Wien\, 1040
CATEGORIES:Gruppen
ATTACH;FMTTYPE=image/jpeg:https://archiv.hosiwien.at/img/resisdanse1.jpg
GEO:48.1961598;16.3617969
X-APPLE-STRUCTURED-LOCATION;VALUE=URI;X-ADDRESS=Gugg Heumühlgasse 14 Wien 1040;X-APPLE-RADIUS=500;X-TITLE=Heumühlgasse 14:geo:16.3617969,48.1961598
END:VEVENT
BEGIN:VEVENT
DTSTART;TZID=Europe/Vienna:20150511T120000
DTEND;TZID=Europe/Vienna:20150511T160000
DTSTAMP:20260424T100516
CREATED:20141114T180924Z
LAST-MODIFIED:20150915T161240Z
UID:32531-1431345600-1431360000@archiv.hosiwien.at
SUMMARY:Bürozeiten der HOSI Wien
DESCRIPTION:Während der Bürozeiten kannst du in unserem Vereinszentrum und -lokal\, dem Gugg\, vorbeikommen und dich über die HOSI Wien informieren\, generell Infomaterial über die LSBT-Szene in Wien erhalten\, Dringendes besprechen oder Mitglied werden und sofort deine Mitgliedskarte erhalten. \nDie Bürozeiten sind: \nMontag 12 – 16 Uhr \nDienstag 10 – 16 Uhr \nFreitag 10 – 16 Uhr \nUnsere Mitarbeiterin Anna Szutt ist während der Bürozeiten unter 0660/216 66 05 telefonisch erreichbar.
URL:https://archiv.hosiwien.at/event/buerozeiten-der-hosi-wien-15/2015-05-11/
LOCATION:Gugg\, Heumühlgasse 14\, Wien\, 1040
CATEGORIES:Bürozeiten
GEO:48.1961598;16.3617969
X-APPLE-STRUCTURED-LOCATION;VALUE=URI;X-ADDRESS=Gugg Heumühlgasse 14 Wien 1040;X-APPLE-RADIUS=500;X-TITLE=Heumühlgasse 14:geo:16.3617969,48.1961598
END:VEVENT
BEGIN:VEVENT
DTSTART;TZID=Europe/Vienna:20150512T100000
DTEND;TZID=Europe/Vienna:20150512T160000
DTSTAMP:20260424T100516
CREATED:20141114T181312Z
LAST-MODIFIED:20150915T161238Z
UID:32569-1431424800-1431446400@archiv.hosiwien.at
SUMMARY:Bürozeiten der HOSI Wien
DESCRIPTION:Während der Bürozeiten kannst du in unserem Vereinszentrum und -lokal\, dem Gugg\, vorbeikommen und dich über die HOSI Wien informieren\, generell Infomaterial über die LSBT-Szene in Wien erhalten\, Dringendes besprechen oder Mitglied werden und sofort deine Mitgliedskarte erhalten. \nDie Bürozeiten sind: \nMontag 12 – 16 Uhr \nDienstag 10 – 16 Uhr \nFreitag 10 – 16 Uhr \nUnsere Mitarbeiterin Anna Szutt ist während der Bürozeiten unter 0660/216 66 05 telefonisch erreichbar.
URL:https://archiv.hosiwien.at/event/buerozeiten-der-hosi-wien-16/2015-05-12/
LOCATION:Gugg\, Heumühlgasse 14\, Wien\, 1040
CATEGORIES:Bürozeiten
GEO:48.1961598;16.3617969
X-APPLE-STRUCTURED-LOCATION;VALUE=URI;X-ADDRESS=Gugg Heumühlgasse 14 Wien 1040;X-APPLE-RADIUS=500;X-TITLE=Heumühlgasse 14:geo:16.3617969,48.1961598
END:VEVENT
BEGIN:VEVENT
DTSTART;TZID=Europe/Vienna:20150512T180000
DTEND;TZID=Europe/Vienna:20150512T220000
DTSTAMP:20260424T100516
CREATED:20150812T071716Z
LAST-MODIFIED:20150915T175013Z
UID:29723-1431453600-1431468000@archiv.hosiwien.at
SUMMARY:Café-Betrieb
DESCRIPTION:Das Gugg bietet nicht nur Veranstaltungen und Gruppentreffen den passenden Raum\, sondern ist natürlich auch ein gemütlicher Ort zum Verweilen und Plaudern. Wir freuen uns auf deinen Besuch während der Öffnungszeiten!
URL:https://archiv.hosiwien.at/event/cafe-betrieb-2015-03-17/2015-05-12/
LOCATION:Gugg\, Heumühlgasse 14\, Wien\, 1040
CATEGORIES:Café-Betrieb
ATTACH;FMTTYPE=image/jpeg:https://archiv.hosiwien.at/img/image/2011/gugg_logo2011.jpg
GEO:48.1961598;16.3617969
X-APPLE-STRUCTURED-LOCATION;VALUE=URI;X-ADDRESS=Gugg Heumühlgasse 14 Wien 1040;X-APPLE-RADIUS=500;X-TITLE=Heumühlgasse 14:geo:16.3617969,48.1961598
END:VEVENT
BEGIN:VEVENT
DTSTART;TZID=Europe/Vienna:20150512T183000
DTEND;TZID=Europe/Vienna:20150512T220000
DTSTAMP:20260424T100516
CREATED:20140716T144953Z
LAST-MODIFIED:20140716T144953Z
UID:34330-1431455400-1431468000@archiv.hosiwien.at
SUMMARY:Orga-Teamsitzung
DESCRIPTION:Die Teamsitzung findet im Veranstaltungsraum statt.
URL:https://archiv.hosiwien.at/event/orga-team-sitzung-5/2015-05-12/
LOCATION:Gugg\, Heumühlgasse 14\, Wien\, 1040
CATEGORIES:Intern
ATTACH;FMTTYPE=image/jpeg:https://archiv.hosiwien.at/img/parade_ball.jpg
GEO:48.1961598;16.3617969
X-APPLE-STRUCTURED-LOCATION;VALUE=URI;X-ADDRESS=Gugg Heumühlgasse 14 Wien 1040;X-APPLE-RADIUS=500;X-TITLE=Heumühlgasse 14:geo:16.3617969,48.1961598
END:VEVENT
BEGIN:VEVENT
DTSTART;TZID=Europe/Vienna:20150512T190000
DTEND;TZID=Europe/Vienna:20150512T190000
DTSTAMP:20260424T100516
CREATED:20140929T163421Z
LAST-MODIFIED:20140929T163421Z
UID:31643-1431457200-1431457200@archiv.hosiwien.at
SUMMARY:Rainbow Scouting Austria - Stammtisch
DESCRIPTION:Einmal im Monat – genauer gesagt am zweiten Dienstag im Monat – treffen sich die Rainbow Scouts bei uns im Gugg. Die Rainbow Scouts\, das sind in diesem Fall nicht nur lesbische und schwule PfadfinderInnen. Bei ihnen sind LeiterInnen\, Jugendliche\, UnterstützerInnen – kurz: sie sind ein recht bunter Haufen. Ein Thema steht immer im Vordergrund und soll Diskussionen anregen (z.B. Homosexualität im Profi-Sport)\, es bleibt aber genug Raum für Erfahrung\, persönliche Geschichten\, Zuhören oder einfach nur ausgiebiges Herumalbern. Und das alles in einer entspannten und offenen Atmosphäre: bei den Rainbow Scouts muss sich keine/r komisch oder als AußenseiterIn fühlen. Sie freuen sich immer über „neue“ Gesichter. \nAlle Infos unter www.rainbowscouting.at \nDas Gugg hat bereits ab 18 Uhr geöffnet!
URL:https://archiv.hosiwien.at/event/rainbow-scouting-austria-stammtisch/2015-05-12/
LOCATION:Gugg\, Heumühlgasse 14\, Wien\, 1040
CATEGORIES:Gruppen
ATTACH;FMTTYPE=image/png:https://archiv.hosiwien.at/img/rainbow-scouting-austria.png
GEO:48.1961598;16.3617969
X-APPLE-STRUCTURED-LOCATION;VALUE=URI;X-ADDRESS=Gugg Heumühlgasse 14 Wien 1040;X-APPLE-RADIUS=500;X-TITLE=Heumühlgasse 14:geo:16.3617969,48.1961598
END:VEVENT
BEGIN:VEVENT
DTSTART;TZID=Europe/Vienna:20150513T190000
DTEND;TZID=Europe/Vienna:20150513T230000
DTSTAMP:20260424T100516
CREATED:20140703T143402Z
LAST-MODIFIED:20151102T151336Z
UID:29668-1431543600-1431558000@archiv.hosiwien.at
SUMMARY:Lesbenabend
DESCRIPTION:Seit über 30 Jahren bietet die HOSI Wien jeden Mittwoch einen Raum für Frauen. Wir sind eine Gruppe aus den verschiedensten Berufen und mit den unterschiedlichsten Interessen\, doch eines ist uns allen gemeinsam: Wir sind lesbisch. \nDie Lesbengruppe wurde 1981 innerhalb der HOSI Wien von einigen Frauen gegründet\, und seit dieser Zeit trifft sie sich jeden Mittwoch ab 19 Uhr im HOSI-Zentrum. Austausch\, Kennenlernen und Kontakt zu Gleichgesinnten ist uns besonders wichtig. \nHINWEIS: Das umfangreiche Serviceangebot der HOSI Wien wird durch ehrenamtliches Engagement erbracht. Wie du die wichtige Arbeit des Vereins durch Spende oder Mitgliedschaft unterstützen kannst\, erfährst du unter archiv.hosiwien.at/mitgliedschaft.
URL:https://archiv.hosiwien.at/event/lesbenabend-6/2015-05-13/
LOCATION:Gugg\, Heumühlgasse 14\, Wien\, 1040
CATEGORIES:Gruppen
ATTACH;FMTTYPE=image/png:https://archiv.hosiwien.at/img/lesben-frauen.png
GEO:48.1961598;16.3617969
X-APPLE-STRUCTURED-LOCATION;VALUE=URI;X-ADDRESS=Gugg Heumühlgasse 14 Wien 1040;X-APPLE-RADIUS=500;X-TITLE=Heumühlgasse 14:geo:16.3617969,48.1961598
END:VEVENT
BEGIN:VEVENT
DTSTART;TZID=Europe/Vienna:20150514T173000
DTEND;TZID=Europe/Vienna:20150515T000000
DTSTAMP:20260424T100516
CREATED:20140703T143151Z
LAST-MODIFIED:20150915T174918Z
UID:34987-1431624600-1431648000@archiv.hosiwien.at
SUMMARY:Jugendabend
DESCRIPTION:Wir sind für Jugendliche da\, die Infos und Unterstützung brauchen oder einfach nur einen Ort suchen\, wo man mit Gleichgesinnten zusammensitzen und bei einem Getränk plaudern kann. Bei uns geht es locker und ungezwungen zu. \nWeitere Infos \nHINWEIS: Das umfangreiche Serviceangebot der HOSI Wien wird durch ehrenamtliches Engagement erbracht. Wie du die wichtige Arbeit des Vereins durch Spende oder Mitgliedschaft unterstützen kannst\, erfährst du unter archiv.hosiwien.at/mitgliedschaft.
URL:https://archiv.hosiwien.at/event/jugendabend-3/2015-05-14/
LOCATION:Gugg\, Heumühlgasse 14\, Wien\, 1040
CATEGORIES:Gruppen
ATTACH;FMTTYPE=image/jpeg:https://archiv.hosiwien.at/img/hosijugend.jpg
GEO:48.1961598;16.3617969
X-APPLE-STRUCTURED-LOCATION;VALUE=URI;X-ADDRESS=Gugg Heumühlgasse 14 Wien 1040;X-APPLE-RADIUS=500;X-TITLE=Heumühlgasse 14:geo:16.3617969,48.1961598
END:VEVENT
BEGIN:VEVENT
DTSTART;TZID=Europe/Vienna:20150515T100000
DTEND;TZID=Europe/Vienna:20150515T160000
DTSTAMP:20260424T100516
CREATED:20141114T181635Z
LAST-MODIFIED:20150915T161237Z
UID:32608-1431684000-1431705600@archiv.hosiwien.at
SUMMARY:Bürozeiten der HOSI Wien
DESCRIPTION:Während der Bürozeiten kannst du in unserem Vereinszentrum und -lokal\, dem Gugg\, vorbeikommen und dich über die HOSI Wien informieren\, generell Infomaterial über die LSBT-Szene in Wien erhalten\, Dringendes besprechen oder Mitglied werden und sofort deine Mitgliedskarte erhalten. \nDie Bürozeiten sind: \nMontag 12 – 16 Uhr \nDienstag 10 – 16 Uhr \nFreitag 10 – 16 Uhr \nUnsere Mitarbeiterin Anna Szutt ist während der Bürozeiten unter 0660/216 66 05 telefonisch erreichbar.
URL:https://archiv.hosiwien.at/event/buerozeiten-der-hosi-wien-17/2015-05-15/
LOCATION:Gugg\, Heumühlgasse 14\, Wien\, 1040
CATEGORIES:Bürozeiten
GEO:48.1961598;16.3617969
X-APPLE-STRUCTURED-LOCATION;VALUE=URI;X-ADDRESS=Gugg Heumühlgasse 14 Wien 1040;X-APPLE-RADIUS=500;X-TITLE=Heumühlgasse 14:geo:16.3617969,48.1961598
END:VEVENT
BEGIN:VEVENT
DTSTART;TZID=Europe/Vienna:20150515T180000
DTEND;TZID=Europe/Vienna:20150516T010000
DTSTAMP:20260424T100516
CREATED:20150417T115438Z
LAST-MODIFIED:20160329T103611Z
UID:35199-1431712800-1431738000@archiv.hosiwien.at
SUMMARY:Café-Betrieb
DESCRIPTION:Das Gugg bietet nicht nur Veranstaltungen und Gruppentreffen den passenden Raum\, sondern ist natürlich auch ein gemütlicher Ort zum Verweilen und Plaudern. Wir freuen uns auf deinen Besuch während der Öffnungszeiten!
URL:https://archiv.hosiwien.at/event/cafe-betrieb-13/2015-05-15/
LOCATION:Gugg\, Heumühlgasse 14\, Wien\, 1040
CATEGORIES:Café-Betrieb
ATTACH;FMTTYPE=image/jpeg:https://archiv.hosiwien.at/img/image/2010/gugg_logo.jpg
GEO:48.1961598;16.3617969
X-APPLE-STRUCTURED-LOCATION;VALUE=URI;X-ADDRESS=Gugg Heumühlgasse 14 Wien 1040;X-APPLE-RADIUS=500;X-TITLE=Heumühlgasse 14:geo:16.3617969,48.1961598
END:VEVENT
END:VCALENDAR