BEGIN:VCALENDAR
VERSION:2.0
PRODID:-//Homosexuelle Initiative (HOSI) Wien - ECPv5.16.4//NONSGML v1.0//EN
CALSCALE:GREGORIAN
METHOD:PUBLISH
X-WR-CALNAME:Homosexuelle Initiative (HOSI) Wien
X-ORIGINAL-URL:https://archiv.hosiwien.at
X-WR-CALDESC:Events for Homosexuelle Initiative (HOSI) Wien
REFRESH-INTERVAL;VALUE=DURATION:PT1H
X-Robots-Tag:noindex
X-PUBLISHED-TTL:PT1H
BEGIN:VTIMEZONE
TZID:Europe/Vienna
BEGIN:DAYLIGHT
TZOFFSETFROM:+0100
TZOFFSETTO:+0200
TZNAME:CEST
DTSTART:20210328T010000
END:DAYLIGHT
BEGIN:STANDARD
TZOFFSETFROM:+0200
TZOFFSETTO:+0100
TZNAME:CET
DTSTART:20211031T010000
END:STANDARD
END:VTIMEZONE
BEGIN:VEVENT
DTSTART;TZID=Europe/Vienna:20211101T090000
DTEND;TZID=Europe/Vienna:20211101T170000
DTSTAMP:20260419T233544
CREATED:20210115T104346Z
LAST-MODIFIED:20211015T072732Z
UID:88806-1635757200-1635786000@archiv.hosiwien.at
SUMMARY:Büro geschlossen
DESCRIPTION:Wegen Feiertags geschlossen. \n 
URL:https://archiv.hosiwien.at/event/buerozeiten-der-hosi-wien-achtung-kontakt-nur-per-mail-tel-moeglich-2021-09-20-2021-09-21-2021-11-01/
LOCATION:Gugg\, Heumühlgasse 14\, Wien\, 1040
CATEGORIES:Sperre
GEO:48.1961598;16.3617969
X-APPLE-STRUCTURED-LOCATION;VALUE=URI;X-ADDRESS=Gugg Heumühlgasse 14 Wien 1040;X-APPLE-RADIUS=500;X-TITLE=Heumühlgasse 14:geo:16.3617969,48.1961598
END:VEVENT
BEGIN:VEVENT
DTSTART;TZID=Europe/Vienna:20211101T173000
DTEND;TZID=Europe/Vienna:20211101T203000
DTSTAMP:20260419T233544
CREATED:20211001T135113Z
LAST-MODIFIED:20211122T124318Z
UID:90191-1635787800-1635798600@archiv.hosiwien.at
SUMMARY:Bees in my head
DESCRIPTION:geschlossene Gesellschaft
URL:https://archiv.hosiwien.at/event/selbsthilfegruppe/2021-11-01/
LOCATION:Gugg – Giovannis Room\, Heumühlgasse 14\, Wien\, 1040\, Österreich
CATEGORIES:Intern
GEO:48.1961598;16.3617969
X-APPLE-STRUCTURED-LOCATION;VALUE=URI;X-ADDRESS=Gugg – Giovannis Room Heumühlgasse 14 Wien 1040 Österreich;X-APPLE-RADIUS=500;X-TITLE=Heumühlgasse 14:geo:16.3617969,48.1961598
END:VEVENT
BEGIN:VEVENT
DTSTART;TZID=Europe/Vienna:20211102T110000
DTEND;TZID=Europe/Vienna:20211102T120000
DTSTAMP:20260419T233544
CREATED:20210928T131133Z
LAST-MODIFIED:20220405T090446Z
UID:89925-1635850800-1635854400@archiv.hosiwien.at
SUMMARY:Queer Base - Yoga for you!
DESCRIPTION:geschlossene Veranstaltung
URL:https://archiv.hosiwien.at/event/trauma-sensitives-yoga/2021-11-02/
LOCATION:Gugg – Giovannis Room\, Heumühlgasse 14\, Wien\, 1040\, Österreich
CATEGORIES:Intern
ATTACH;FMTTYPE=image/jpeg:https://archiv.hosiwien.at/img/image/2021/Yogaforyou-scaled.jpg
ORGANIZER;CN="Queer%20Base%20%E2%80%93%20Welcome%20and%20Support%20for%20LGBTIQ%20Refugees":MAILTO:office@queerbase.at
GEO:48.1961598;16.3617969
X-APPLE-STRUCTURED-LOCATION;VALUE=URI;X-ADDRESS=Gugg – Giovannis Room Heumühlgasse 14 Wien 1040 Österreich;X-APPLE-RADIUS=500;X-TITLE=Heumühlgasse 14:geo:16.3617969,48.1961598
END:VEVENT
BEGIN:VEVENT
DTSTART;TZID=Europe/Vienna:20211102T150000
DTEND;TZID=Europe/Vienna:20211102T163000
DTSTAMP:20260419T233544
CREATED:20210914T085237Z
LAST-MODIFIED:20221025T113653Z
UID:89352-1635865200-1635870600@archiv.hosiwien.at
SUMMARY:Männergruppe / Projekt P.I.L.O.T. / Integration Wien
DESCRIPTION:geschlossene Veranstaltung. \nLeitung: Armin Knöbl \nKontakt:\nMag.a Stefanie Hiller\nTannhäuserplatz 2/1\n1150 Wien\n01 7892642-29\nstefanie.hiller@integrationwien.at\nwww.integrationwien.at
URL:https://archiv.hosiwien.at/event/maennergruppe-projekt-p-i-l-o-t-integration-wien-2021-10-26/2021-11-02/
LOCATION:Gugg – Giovannis Room\, Heumühlgasse 14\, Wien\, 1040\, Österreich
CATEGORIES:Intern
ATTACH;FMTTYPE=image/png:https://archiv.hosiwien.at/img/image/2022/download___iwi_logo.png
GEO:48.1961598;16.3617969
X-APPLE-STRUCTURED-LOCATION;VALUE=URI;X-ADDRESS=Gugg – Giovannis Room Heumühlgasse 14 Wien 1040 Österreich;X-APPLE-RADIUS=500;X-TITLE=Heumühlgasse 14:geo:16.3617969,48.1961598
END:VEVENT
BEGIN:VEVENT
DTSTART;TZID=Europe/Vienna:20211102T190000
DTEND;TZID=Europe/Vienna:20211102T190000
DTSTAMP:20260419T233544
CREATED:20211029T104459Z
LAST-MODIFIED:20211029T110424Z
UID:90335-1635879600-1635879600@archiv.hosiwien.at
SUMMARY:SICHTBAR – 40 Jahre HOSI-Wien-Lesben*gruppe. Lesung & Gespräch: Kaśka Bryla
DESCRIPTION:Die Autorin Kaśka Bryla liest aus ihrem Roman “Roter Affe” und “Im September sterben die Wespen”.\nModeriert von Barbara Fröhlich\, ehem. langjährige Lesben*gruppenreferentin. \nKAŚKA BRYLA\nzwischen Wien und Warschau aufgewachsen. Studium der Volkswirtschaft in Wien\, Studium am Deutschen Literaturinstitut in Leipzig\, wo sie 2015 die Literaturzeitschrift und das Autor*innennetzwerk „PS-Politisch Schreiben“ mitbegründet. Sie lebt und arbeitet am liebsten in kollektiven Zusammenhängen. Sie war Redakteurin des Monatsmagazins an.schläge\, erhielt 2013 das STARTStipendium\, 2018 den Exil Preis für Prosa. 2021 wurde ihr Theaterstück „Das verkommene Land“ uraufgeführt. 2020 erschien ihr hochgelobter Debütroman „Roter Affe“\, 2022 der Roman „Die Eistaucher“. www.kaskabryla.com \nNebenbei kann die Ausstellung SICHTBAR\, kuratiert von Petra M. Springer\, anlässlich 40 Jahre HOSI Wien Lesben*gruppe besucht werden. \nEs gelten die aktuellen Gastro-Regeln: 2\,5-G-Regel (geimpft\, genesen\, PCR-getestet) und Registrierungspflicht.
URL:https://archiv.hosiwien.at/event/sichtbar-40-jahre-hosi-wien-lesbengruppe-lesung-gespraech-kaska-bryla/
LOCATION:Gugg\, Heumühlgasse 14\, Wien\, 1040
CATEGORIES:kulturelle Veranstaltung
ATTACH;FMTTYPE=image/jpeg:https://archiv.hosiwien.at/img/image/2021/40JahreLesben-gruppeLesungKaśkaBryla-scaled.jpg
GEO:48.1961598;16.3617969
X-APPLE-STRUCTURED-LOCATION;VALUE=URI;X-ADDRESS=Gugg Heumühlgasse 14 Wien 1040;X-APPLE-RADIUS=500;X-TITLE=Heumühlgasse 14:geo:16.3617969,48.1961598
END:VEVENT
BEGIN:VEVENT
DTSTART;TZID=Europe/Vienna:20211102T190000
DTEND;TZID=Europe/Vienna:20211103T000000
DTSTAMP:20260419T233544
CREATED:20211027T071105Z
LAST-MODIFIED:20250217T140321Z
UID:90235-1635879600-1635897600@archiv.hosiwien.at
SUMMARY:Offener Abend
DESCRIPTION:Jeden Dienstag findet im HOSI Vereinslokal “Das Gugg” der Offene Abend in ungezwungener Atmosphäre statt.\nBei einem Bier\, Wein\, Spritzer\, Kaffee\, Tee und dem gelegentlichen Käsetoast kann man im Gugg bestmöglich den Abend ausklingen lassen. \nAm Dienstag gibts bei uns im Gugg die ideale Gelegenheit\, um Kontakte in die Community zu knüpfen\, neue Leute kennenzulernen\, oder einfach nur ein Getränk bei (hoffentlich) guter Musik zu trinken.\nAlle\, die sich der LGBTIQ-Community und/oder der HOSI Wien verbunden fühlen\, sind herzlich eingeladen!
URL:https://archiv.hosiwien.at/event/offener-abend-2/2021-11-02/
LOCATION:Gugg\, Heumühlgasse 14\, Wien\, 1040
CATEGORIES:Bar service,Café-Betrieb,Gruppen
ATTACH;FMTTYPE=image/jpeg:https://archiv.hosiwien.at/img/image/2022/3-scaled.jpg
GEO:48.1961598;16.3617969
X-APPLE-STRUCTURED-LOCATION;VALUE=URI;X-ADDRESS=Gugg Heumühlgasse 14 Wien 1040;X-APPLE-RADIUS=500;X-TITLE=Heumühlgasse 14:geo:16.3617969,48.1961598
END:VEVENT
BEGIN:VEVENT
DTSTART;TZID=Europe/Vienna:20211103T190000
DTEND;TZID=Europe/Vienna:20211103T210000
DTSTAMP:20260419T233544
CREATED:20210831T083841Z
LAST-MODIFIED:20220113T094515Z
UID:89136-1635966000-1635973200@archiv.hosiwien.at
SUMMARY:Resis.danse-Tanzworkshop
DESCRIPTION:Alle Informationen zu den Workshops auf: www.resisdanse.at
URL:https://archiv.hosiwien.at/event/resis-danse-tanzworkshop-11/2021-11-03/
LOCATION:Gugg\, Heumühlgasse 14\, Wien\, 1040
CATEGORIES:Gruppen
ATTACH;FMTTYPE=image/png:https://archiv.hosiwien.at/img/image/2016/resisdanse-logo-trans.png
GEO:48.1961598;16.3617969
X-APPLE-STRUCTURED-LOCATION;VALUE=URI;X-ADDRESS=Gugg Heumühlgasse 14 Wien 1040;X-APPLE-RADIUS=500;X-TITLE=Heumühlgasse 14:geo:16.3617969,48.1961598
END:VEVENT
BEGIN:VEVENT
DTSTART;TZID=Europe/Vienna:20211104T153000
DTEND;TZID=Europe/Vienna:20211104T163000
DTSTAMP:20260419T233544
CREATED:20210928T131133Z
LAST-MODIFIED:20220405T090446Z
UID:90003-1636039800-1636043400@archiv.hosiwien.at
SUMMARY:Queer Base - Yoga for you!
DESCRIPTION:geschlossene Veranstaltung
URL:https://archiv.hosiwien.at/event/trauma-sensitives-yoga/2021-11-04/
LOCATION:Gugg – Giovannis Room\, Heumühlgasse 14\, Wien\, 1040\, Österreich
CATEGORIES:Intern
ATTACH;FMTTYPE=image/jpeg:https://archiv.hosiwien.at/img/image/2021/Yogaforyou-scaled.jpg
ORGANIZER;CN="Queer%20Base%20%E2%80%93%20Welcome%20and%20Support%20for%20LGBTIQ%20Refugees":MAILTO:office@queerbase.at
GEO:48.1961598;16.3617969
X-APPLE-STRUCTURED-LOCATION;VALUE=URI;X-ADDRESS=Gugg – Giovannis Room Heumühlgasse 14 Wien 1040 Österreich;X-APPLE-RADIUS=500;X-TITLE=Heumühlgasse 14:geo:16.3617969,48.1961598
END:VEVENT
BEGIN:VEVENT
DTSTART;TZID=Europe/Vienna:20211105T090000
DTEND;TZID=Europe/Vienna:20211105T170000
DTSTAMP:20260419T233544
CREATED:20210115T104346Z
LAST-MODIFIED:20211122T123320Z
UID:88808-1636102800-1636131600@archiv.hosiwien.at
SUMMARY:Büro geschlossen
DESCRIPTION:
URL:https://archiv.hosiwien.at/event/buerozeiten-der-hosi-wien-achtung-kontakt-nur-per-mail-tel-moeglich-2021-09-20-2021-09-21-2021-11-05/2021-11-05/
LOCATION:Gugg\, Heumühlgasse 14\, Wien\, 1040
CATEGORIES:Sperre
GEO:48.1961598;16.3617969
X-APPLE-STRUCTURED-LOCATION;VALUE=URI;X-ADDRESS=Gugg Heumühlgasse 14 Wien 1040;X-APPLE-RADIUS=500;X-TITLE=Heumühlgasse 14:geo:16.3617969,48.1961598
END:VEVENT
BEGIN:VEVENT
DTSTART;TZID=Europe/Vienna:20211105T163000
DTEND;TZID=Europe/Vienna:20211105T210000
DTSTAMP:20260419T233544
CREATED:20210728T081022Z
LAST-MODIFIED:20211122T124510Z
UID:89099-1636129800-1636146000@archiv.hosiwien.at
SUMMARY:Resis.danse-Tanzworkshop
DESCRIPTION:Tanzworkshop-Beginn ist jeweils ab 17 und 19 Uhr. Alle Informationen zu den Workshops auf: www.resisdanse.at  \nAb 21 Uhr findet im Anschluss der Tanzabend statt zu dem alle tanzbegeisterten Frauen herzlich eingeladen sind. \n 
URL:https://archiv.hosiwien.at/event/resis-danse-tanzworkshop-10/2021-11-05/
LOCATION:Gugg\, Heumühlgasse 14\, Wien\, 1040
CATEGORIES:Gruppen
ATTACH;FMTTYPE=image/png:https://archiv.hosiwien.at/img/image/2016/resisdanse-logo-trans.png
GEO:48.1961598;16.3617969
X-APPLE-STRUCTURED-LOCATION;VALUE=URI;X-ADDRESS=Gugg Heumühlgasse 14 Wien 1040;X-APPLE-RADIUS=500;X-TITLE=Heumühlgasse 14:geo:16.3617969,48.1961598
END:VEVENT
BEGIN:VEVENT
DTSTART;TZID=Europe/Vienna:20211105T210000
DTEND;TZID=Europe/Vienna:20211106T000000
DTSTAMP:20260419T233544
CREATED:20210728T080045Z
LAST-MODIFIED:20220110T135443Z
UID:89112-1636146000-1636156800@archiv.hosiwien.at
SUMMARY:Resis.danse-Tanzabend
DESCRIPTION:Eine Übungsmöglichkeit für alle tanzbegeisterten Frauen! Einfach vorbeikommen und mittanzen. Immer nach den Resis.danse-Tanzworkshops in der gemütlichen Atmosphäre des Gugg ab 21 Uhr. \nGenauere Informationen auf der eigenen Website: www.resisdanse.at. \nAlle Tanzabende sind bei freiem Eintritt!
URL:https://archiv.hosiwien.at/event/resis-danse-tanzabend-2/2021-11-05/
LOCATION:Gugg\, Heumühlgasse 14\, Wien\, 1040
CATEGORIES:Gruppen
ATTACH;FMTTYPE=image/jpeg:https://archiv.hosiwien.at/img/image/2018/resisdance-5.jpg
GEO:48.1961598;16.3617969
X-APPLE-STRUCTURED-LOCATION;VALUE=URI;X-ADDRESS=Gugg Heumühlgasse 14 Wien 1040;X-APPLE-RADIUS=500;X-TITLE=Heumühlgasse 14:geo:16.3617969,48.1961598
END:VEVENT
BEGIN:VEVENT
DTSTART;TZID=Europe/Vienna:20211106T090000
DTEND;TZID=Europe/Vienna:20211106T170000
DTSTAMP:20260419T233544
CREATED:20210115T104346Z
LAST-MODIFIED:20210115T104346Z
UID:90561-1636189200-1636218000@archiv.hosiwien.at
SUMMARY:Büro geschlossen
DESCRIPTION:
URL:https://archiv.hosiwien.at/event/buerozeiten-der-hosi-wien-achtung-kontakt-nur-per-mail-tel-moeglich-2021-09-20-2021-09-21-2021-11-05/2021-11-06/
LOCATION:Gugg\, Heumühlgasse 14\, Wien\, 1040
CATEGORIES:Sperre
GEO:48.1961598;16.3617969
X-APPLE-STRUCTURED-LOCATION;VALUE=URI;X-ADDRESS=Gugg Heumühlgasse 14 Wien 1040;X-APPLE-RADIUS=500;X-TITLE=Heumühlgasse 14:geo:16.3617969,48.1961598
END:VEVENT
BEGIN:VEVENT
DTSTART;TZID=Europe/Vienna:20211106T163000
DTEND;TZID=Europe/Vienna:20211106T193000
DTSTAMP:20260419T233544
CREATED:20210726T112227Z
LAST-MODIFIED:20210726T112227Z
UID:88751-1636216200-1636227000@archiv.hosiwien.at
SUMMARY:International Dinner AFS Wien
DESCRIPTION:
URL:https://archiv.hosiwien.at/event/international-dinner-afs-wien/
LOCATION:Gugg\, Heumühlgasse 14\, Wien\, 1040
CATEGORIES:Intern
GEO:48.1961598;16.3617969
X-APPLE-STRUCTURED-LOCATION;VALUE=URI;X-ADDRESS=Gugg Heumühlgasse 14 Wien 1040;X-APPLE-RADIUS=500;X-TITLE=Heumühlgasse 14:geo:16.3617969,48.1961598
END:VEVENT
BEGIN:VEVENT
DTSTART;TZID=Europe/Vienna:20211107T090000
DTEND;TZID=Europe/Vienna:20211107T170000
DTSTAMP:20260419T233544
CREATED:20210115T104346Z
LAST-MODIFIED:20210115T104346Z
UID:90562-1636275600-1636304400@archiv.hosiwien.at
SUMMARY:Büro geschlossen
DESCRIPTION:
URL:https://archiv.hosiwien.at/event/buerozeiten-der-hosi-wien-achtung-kontakt-nur-per-mail-tel-moeglich-2021-09-20-2021-09-21-2021-11-05/2021-11-07/
LOCATION:Gugg\, Heumühlgasse 14\, Wien\, 1040
CATEGORIES:Sperre
GEO:48.1961598;16.3617969
X-APPLE-STRUCTURED-LOCATION;VALUE=URI;X-ADDRESS=Gugg Heumühlgasse 14 Wien 1040;X-APPLE-RADIUS=500;X-TITLE=Heumühlgasse 14:geo:16.3617969,48.1961598
END:VEVENT
BEGIN:VEVENT
DTSTART;TZID=Europe/Vienna:20211107T140000
DTEND;TZID=Europe/Vienna:20211107T180000
DTSTAMP:20260419T233544
CREATED:20210903T093107Z
LAST-MODIFIED:20210903T093107Z
UID:89194-1636293600-1636308000@archiv.hosiwien.at
SUMMARY:HOSIsters-Leseprobe
DESCRIPTION:
URL:https://archiv.hosiwien.at/event/hosisters-leseprobe/
LOCATION:Gugg\, Heumühlgasse 14\, Wien\, 1040
CATEGORIES:Intern
GEO:48.1961598;16.3617969
X-APPLE-STRUCTURED-LOCATION;VALUE=URI;X-ADDRESS=Gugg Heumühlgasse 14 Wien 1040;X-APPLE-RADIUS=500;X-TITLE=Heumühlgasse 14:geo:16.3617969,48.1961598
END:VEVENT
BEGIN:VEVENT
DTSTART;TZID=Europe/Vienna:20211107T190000
DTEND;TZID=Europe/Vienna:20211107T203000
DTSTAMP:20260419T233544
CREATED:20211023T195711Z
LAST-MODIFIED:20211023T200424Z
UID:90207-1636311600-1636317000@archiv.hosiwien.at
SUMMARY:Queer-Yoga
DESCRIPTION:Warum Queer-Yoga? Dafür gibt es so viele Gründe wie Farben im Regenbogen. Gemeinsam im Hier und Jetzt ankommen. Die Dinge\, deine Gefühle\, deinen Körper\, so anzunehmen\, wie sie sind. Achtsam mit sich und dem Umfeld umgehen. Die Abwehrkräfte stärken\, gerade in diesen Zeiten so wichtig. Tief einatmen\, tief ausatmen. Den Körper spüren\, alle Muskeln einsetzen vom kleinsten zum größten. Die Verbundenheit untereinander in einer Gruppe erleben. \nMatías ist unser Yogi\, der uns auf eine Reise durch die Welt von Hatha und Vinyasa Yoga mitnimmt. Du kannst mit diesen Begriffen nichts anfangen? Kein Problem\, er holt dich als Anfänger*in dort ab wo du gerade bist. Leitet an\, wo nötig\, gibt Tipps für leichtere Varianten und achtet bei jedem/r Teilnehmer*in auf die richtige Ausführung. \nIn jeder Yoga-Einheit werden deine Chakras\, Muskeln und Sehnen durch Dreh-\, Beuge- und Dehnübungen der verschiedenen Asanas aktiviert\, vom Kronen Chakra bis hin zu den Zehenspitzen. \nJede*r ist willkommen\, das Angebot richtet sich an alle LGBTIQs und ihre Freund*innen. \nBitte kommt in bequemer\, lockerer Kleidung und bringt eine eigene Yogamatte mit. \nAm Einlass müssen alle den Grünen Pass vorweisen (also entweder geimpft\, getestet oder genesen sein).\n \nEintritt: freie Spende \nDatum und Uhrzeit: Sonntag\, 7. November von 19:00 bis 20:30. Achtung: eventuelle Terminänderungen sind möglich\, daher bitte immer vorher den online-Kalender und/oder die Facebook-Seite checken! \nWir beginnen pünktlich und öffnen bereits um 17:30 für euch\, damit ihr euch umziehen könnt. \nOrt: Gugg – Heumühlgasse 14\, 1040 Wien \nKontakt: yoga@archiv.hosiwien.at
URL:https://archiv.hosiwien.at/event/queer-yoga-2021-11_12/
LOCATION:Gugg\, Heumühlgasse 14\, Wien\, 1040
CATEGORIES:Gruppen
GEO:48.1961598;16.3617969
X-APPLE-STRUCTURED-LOCATION;VALUE=URI;X-ADDRESS=Gugg Heumühlgasse 14 Wien 1040;X-APPLE-RADIUS=500;X-TITLE=Heumühlgasse 14:geo:16.3617969,48.1961598
END:VEVENT
BEGIN:VEVENT
DTSTART;TZID=Europe/Vienna:20211108T090000
DTEND;TZID=Europe/Vienna:20211108T170000
DTSTAMP:20260419T233544
CREATED:20210115T104346Z
LAST-MODIFIED:20210115T104346Z
UID:90563-1636362000-1636390800@archiv.hosiwien.at
SUMMARY:Büro geschlossen
DESCRIPTION:
URL:https://archiv.hosiwien.at/event/buerozeiten-der-hosi-wien-achtung-kontakt-nur-per-mail-tel-moeglich-2021-09-20-2021-09-21-2021-11-05/2021-11-08/
LOCATION:Gugg\, Heumühlgasse 14\, Wien\, 1040
CATEGORIES:Sperre
GEO:48.1961598;16.3617969
X-APPLE-STRUCTURED-LOCATION;VALUE=URI;X-ADDRESS=Gugg Heumühlgasse 14 Wien 1040;X-APPLE-RADIUS=500;X-TITLE=Heumühlgasse 14:geo:16.3617969,48.1961598
END:VEVENT
BEGIN:VEVENT
DTSTART;TZID=Europe/Vienna:20211108T090000
DTEND;TZID=Europe/Vienna:20211108T170000
DTSTAMP:20260419T233544
CREATED:20210115T104346Z
LAST-MODIFIED:20211104T072614Z
UID:88809-1636362000-1636390800@archiv.hosiwien.at
SUMMARY:Büro geschlossen
DESCRIPTION:  \n 
URL:https://archiv.hosiwien.at/event/buerozeiten-der-hosi-wien-achtung-kontakt-nur-per-mail-tel-moeglich-2021-09-20-2021-09-21-2021-11-08/
LOCATION:Gugg\, Heumühlgasse 14\, Wien\, 1040
CATEGORIES:Sperre
GEO:48.1961598;16.3617969
X-APPLE-STRUCTURED-LOCATION;VALUE=URI;X-ADDRESS=Gugg Heumühlgasse 14 Wien 1040;X-APPLE-RADIUS=500;X-TITLE=Heumühlgasse 14:geo:16.3617969,48.1961598
END:VEVENT
BEGIN:VEVENT
DTSTART;TZID=Europe/Vienna:20211108T183000
DTEND;TZID=Europe/Vienna:20211108T183000
DTSTAMP:20260419T233544
CREATED:20210803T073415Z
LAST-MODIFIED:20210928T090533Z
UID:89275-1636396200-1636396200@archiv.hosiwien.at
SUMMARY:Vorstandssitzung
DESCRIPTION:
URL:https://archiv.hosiwien.at/event/vorstandssitzung-26-2021-10-04/2021-11-08/
LOCATION:Gugg – Salon Helga\, Heumühlgasse 14\, Vienna\, 1040\, Österreich
CATEGORIES:Intern
GEO:48.1961598;16.3617969
X-APPLE-STRUCTURED-LOCATION;VALUE=URI;X-ADDRESS=Gugg – Salon Helga Heumühlgasse 14 Vienna 1040 Österreich;X-APPLE-RADIUS=500;X-TITLE=Heumühlgasse 14:geo:16.3617969,48.1961598
END:VEVENT
BEGIN:VEVENT
DTSTART;TZID=Europe/Vienna:20211109T090000
DTEND;TZID=Europe/Vienna:20211109T170000
DTSTAMP:20260419T233544
CREATED:20210115T104346Z
LAST-MODIFIED:20211104T072641Z
UID:88810-1636448400-1636477200@archiv.hosiwien.at
SUMMARY:Büro geschlossen
DESCRIPTION:  \n 
URL:https://archiv.hosiwien.at/event/buerozeiten-der-hosi-wien-achtung-kontakt-nur-per-mail-tel-moeglich-2021-09-20-2021-09-21-2021-11-09/
LOCATION:Gugg\, Heumühlgasse 14\, Wien\, 1040
CATEGORIES:Sperre
GEO:48.1961598;16.3617969
X-APPLE-STRUCTURED-LOCATION;VALUE=URI;X-ADDRESS=Gugg Heumühlgasse 14 Wien 1040;X-APPLE-RADIUS=500;X-TITLE=Heumühlgasse 14:geo:16.3617969,48.1961598
END:VEVENT
BEGIN:VEVENT
DTSTART;TZID=Europe/Vienna:20211109T090000
DTEND;TZID=Europe/Vienna:20211109T170000
DTSTAMP:20260419T233544
CREATED:20210115T104346Z
LAST-MODIFIED:20210115T104346Z
UID:90564-1636448400-1636477200@archiv.hosiwien.at
SUMMARY:Büro geschlossen
DESCRIPTION:
URL:https://archiv.hosiwien.at/event/buerozeiten-der-hosi-wien-achtung-kontakt-nur-per-mail-tel-moeglich-2021-09-20-2021-09-21-2021-11-05/2021-11-09/
LOCATION:Gugg\, Heumühlgasse 14\, Wien\, 1040
CATEGORIES:Sperre
GEO:48.1961598;16.3617969
X-APPLE-STRUCTURED-LOCATION;VALUE=URI;X-ADDRESS=Gugg Heumühlgasse 14 Wien 1040;X-APPLE-RADIUS=500;X-TITLE=Heumühlgasse 14:geo:16.3617969,48.1961598
END:VEVENT
BEGIN:VEVENT
DTSTART;TZID=Europe/Vienna:20211109T110000
DTEND;TZID=Europe/Vienna:20211109T120000
DTSTAMP:20260419T233544
CREATED:20210928T131133Z
LAST-MODIFIED:20220405T090446Z
UID:89926-1636455600-1636459200@archiv.hosiwien.at
SUMMARY:Queer Base - Yoga for you!
DESCRIPTION:geschlossene Veranstaltung
URL:https://archiv.hosiwien.at/event/trauma-sensitives-yoga/2021-11-09/
LOCATION:Gugg – Giovannis Room\, Heumühlgasse 14\, Wien\, 1040\, Österreich
CATEGORIES:Intern
ATTACH;FMTTYPE=image/jpeg:https://archiv.hosiwien.at/img/image/2021/Yogaforyou-scaled.jpg
ORGANIZER;CN="Queer%20Base%20%E2%80%93%20Welcome%20and%20Support%20for%20LGBTIQ%20Refugees":MAILTO:office@queerbase.at
GEO:48.1961598;16.3617969
X-APPLE-STRUCTURED-LOCATION;VALUE=URI;X-ADDRESS=Gugg – Giovannis Room Heumühlgasse 14 Wien 1040 Österreich;X-APPLE-RADIUS=500;X-TITLE=Heumühlgasse 14:geo:16.3617969,48.1961598
END:VEVENT
BEGIN:VEVENT
DTSTART;TZID=Europe/Vienna:20211109T150000
DTEND;TZID=Europe/Vienna:20211109T163000
DTSTAMP:20260419T233544
CREATED:20210914T085237Z
LAST-MODIFIED:20221025T113653Z
UID:89353-1636470000-1636475400@archiv.hosiwien.at
SUMMARY:Männergruppe / Projekt P.I.L.O.T. / Integration Wien
DESCRIPTION:geschlossene Veranstaltung. \nLeitung: Armin Knöbl \nKontakt:\nMag.a Stefanie Hiller\nTannhäuserplatz 2/1\n1150 Wien\n01 7892642-29\nstefanie.hiller@integrationwien.at\nwww.integrationwien.at
URL:https://archiv.hosiwien.at/event/maennergruppe-projekt-p-i-l-o-t-integration-wien-2021-10-26/2021-11-09/
LOCATION:Gugg – Giovannis Room\, Heumühlgasse 14\, Wien\, 1040\, Österreich
CATEGORIES:Intern
ATTACH;FMTTYPE=image/png:https://archiv.hosiwien.at/img/image/2022/download___iwi_logo.png
GEO:48.1961598;16.3617969
X-APPLE-STRUCTURED-LOCATION;VALUE=URI;X-ADDRESS=Gugg – Giovannis Room Heumühlgasse 14 Wien 1040 Österreich;X-APPLE-RADIUS=500;X-TITLE=Heumühlgasse 14:geo:16.3617969,48.1961598
END:VEVENT
BEGIN:VEVENT
DTSTART;TZID=Europe/Vienna:20211109T183000
DTEND;TZID=Europe/Vienna:20211109T183000
DTSTAMP:20260419T233544
CREATED:20210927T073122Z
LAST-MODIFIED:20220524T144143Z
UID:89877-1636482600-1636482600@archiv.hosiwien.at
SUMMARY:Orga-Team-Sitzung
DESCRIPTION:
URL:https://archiv.hosiwien.at/event/orga-team-sitzung-9/2021-11-09/
LOCATION:Gugg – Salon Helga\, Heumühlgasse 14\, Vienna\, 1040\, Österreich
CATEGORIES:Intern
GEO:48.1961598;16.3617969
X-APPLE-STRUCTURED-LOCATION;VALUE=URI;X-ADDRESS=Gugg – Salon Helga Heumühlgasse 14 Vienna 1040 Österreich;X-APPLE-RADIUS=500;X-TITLE=Heumühlgasse 14:geo:16.3617969,48.1961598
END:VEVENT
BEGIN:VEVENT
DTSTART;TZID=Europe/Vienna:20211110T090000
DTEND;TZID=Europe/Vienna:20211110T120000
DTSTAMP:20260419T233544
CREATED:20210115T105109Z
LAST-MODIFIED:20211104T072653Z
UID:88074-1636534800-1636545600@archiv.hosiwien.at
SUMMARY:Büro geschlossen
DESCRIPTION:
URL:https://archiv.hosiwien.at/event/buerozeiten-der-hosi-wien-achtung-kontakt-nur-per-mail-tel-moeglich-2-2021-07-28-2021-11-10/
LOCATION:Gugg\, Heumühlgasse 14\, Wien\, 1040
CATEGORIES:Sperre
GEO:48.1961598;16.3617969
X-APPLE-STRUCTURED-LOCATION;VALUE=URI;X-ADDRESS=Gugg Heumühlgasse 14 Wien 1040;X-APPLE-RADIUS=500;X-TITLE=Heumühlgasse 14:geo:16.3617969,48.1961598
END:VEVENT
BEGIN:VEVENT
DTSTART;TZID=Europe/Vienna:20211110T090000
DTEND;TZID=Europe/Vienna:20211110T170000
DTSTAMP:20260419T233544
CREATED:20210115T104346Z
LAST-MODIFIED:20210115T104346Z
UID:90565-1636534800-1636563600@archiv.hosiwien.at
SUMMARY:Büro geschlossen
DESCRIPTION:
URL:https://archiv.hosiwien.at/event/buerozeiten-der-hosi-wien-achtung-kontakt-nur-per-mail-tel-moeglich-2021-09-20-2021-09-21-2021-11-05/2021-11-10/
LOCATION:Gugg\, Heumühlgasse 14\, Wien\, 1040
CATEGORIES:Sperre
GEO:48.1961598;16.3617969
X-APPLE-STRUCTURED-LOCATION;VALUE=URI;X-ADDRESS=Gugg Heumühlgasse 14 Wien 1040;X-APPLE-RADIUS=500;X-TITLE=Heumühlgasse 14:geo:16.3617969,48.1961598
END:VEVENT
BEGIN:VEVENT
DTSTART;TZID=Europe/Vienna:20211110T190000
DTEND;TZID=Europe/Vienna:20211110T190000
DTSTAMP:20260419T233544
CREATED:20211029T104938Z
LAST-MODIFIED:20211029T124555Z
UID:90343-1636570800-1636570800@archiv.hosiwien.at
SUMMARY:SICHTBAR – 40 Jahre HOSI-Wien-Lesben*gruppe. Podiumsdiskussion: Lesbische Sichtbarkeit.
DESCRIPTION:Am 10. November findet im Rahmen des Lesben*abends eine Podiumsdiskussion zum Thema: Lesbische Sichtbarkeit statt. Mit am Podium: Hanna Hacker\, Lisa Hermanns\, Susanne Hochreiter und Ann-Sophie Otte. Moderiert wird die Veranstaltung von Barbara Fröhlich. \n \nEs gelten die aktuellen Gastro-Regeln: 2\,5-G-Regel (geimpft\, genesen\, PCR-getestet) und Registrierungspflicht.
URL:https://archiv.hosiwien.at/event/sichtbar-40-jahre-hosi-wien-lesbengruppe-podiumsdiskussion-lesbische-sichtbarkeit/
LOCATION:Gugg\, Heumühlgasse 14\, Wien\, 1040
CATEGORIES:kulturelle Veranstaltung
GEO:48.1961598;16.3617969
X-APPLE-STRUCTURED-LOCATION;VALUE=URI;X-ADDRESS=Gugg Heumühlgasse 14 Wien 1040;X-APPLE-RADIUS=500;X-TITLE=Heumühlgasse 14:geo:16.3617969,48.1961598
END:VEVENT
BEGIN:VEVENT
DTSTART;TZID=Europe/Vienna:20211111T090000
DTEND;TZID=Europe/Vienna:20211111T170000
DTSTAMP:20260419T233544
CREATED:20210115T104346Z
LAST-MODIFIED:20210115T104346Z
UID:90566-1636621200-1636650000@archiv.hosiwien.at
SUMMARY:Büro geschlossen
DESCRIPTION:
URL:https://archiv.hosiwien.at/event/buerozeiten-der-hosi-wien-achtung-kontakt-nur-per-mail-tel-moeglich-2021-09-20-2021-09-21-2021-11-05/2021-11-11/
LOCATION:Gugg\, Heumühlgasse 14\, Wien\, 1040
CATEGORIES:Sperre
GEO:48.1961598;16.3617969
X-APPLE-STRUCTURED-LOCATION;VALUE=URI;X-ADDRESS=Gugg Heumühlgasse 14 Wien 1040;X-APPLE-RADIUS=500;X-TITLE=Heumühlgasse 14:geo:16.3617969,48.1961598
END:VEVENT
BEGIN:VEVENT
DTSTART;TZID=Europe/Vienna:20211111T153000
DTEND;TZID=Europe/Vienna:20211111T163000
DTSTAMP:20260419T233544
CREATED:20210928T131133Z
LAST-MODIFIED:20220405T090446Z
UID:90005-1636644600-1636648200@archiv.hosiwien.at
SUMMARY:Queer Base - Yoga for you!
DESCRIPTION:geschlossene Veranstaltung
URL:https://archiv.hosiwien.at/event/trauma-sensitives-yoga/2021-11-11/
LOCATION:Gugg – Giovannis Room\, Heumühlgasse 14\, Wien\, 1040\, Österreich
CATEGORIES:Intern
ATTACH;FMTTYPE=image/jpeg:https://archiv.hosiwien.at/img/image/2021/Yogaforyou-scaled.jpg
ORGANIZER;CN="Queer%20Base%20%E2%80%93%20Welcome%20and%20Support%20for%20LGBTIQ%20Refugees":MAILTO:office@queerbase.at
GEO:48.1961598;16.3617969
X-APPLE-STRUCTURED-LOCATION;VALUE=URI;X-ADDRESS=Gugg – Giovannis Room Heumühlgasse 14 Wien 1040 Österreich;X-APPLE-RADIUS=500;X-TITLE=Heumühlgasse 14:geo:16.3617969,48.1961598
END:VEVENT
BEGIN:VEVENT
DTSTART;TZID=Europe/Vienna:20211112T090000
DTEND;TZID=Europe/Vienna:20211112T170000
DTSTAMP:20260419T233544
CREATED:20210115T104346Z
LAST-MODIFIED:20210115T104346Z
UID:90567-1636707600-1636736400@archiv.hosiwien.at
SUMMARY:Büro geschlossen
DESCRIPTION:
URL:https://archiv.hosiwien.at/event/buerozeiten-der-hosi-wien-achtung-kontakt-nur-per-mail-tel-moeglich-2021-09-20-2021-09-21-2021-11-05/2021-11-12/
LOCATION:Gugg\, Heumühlgasse 14\, Wien\, 1040
CATEGORIES:Sperre
GEO:48.1961598;16.3617969
X-APPLE-STRUCTURED-LOCATION;VALUE=URI;X-ADDRESS=Gugg Heumühlgasse 14 Wien 1040;X-APPLE-RADIUS=500;X-TITLE=Heumühlgasse 14:geo:16.3617969,48.1961598
END:VEVENT
END:VCALENDAR