BEGIN:VCALENDAR
VERSION:2.0
PRODID:-//Homosexuelle Initiative (HOSI) Wien - ECPv5.16.4//NONSGML v1.0//EN
CALSCALE:GREGORIAN
METHOD:PUBLISH
X-WR-CALNAME:Homosexuelle Initiative (HOSI) Wien
X-ORIGINAL-URL:https://archiv.hosiwien.at
X-WR-CALDESC:Events for Homosexuelle Initiative (HOSI) Wien
REFRESH-INTERVAL;VALUE=DURATION:PT1H
X-Robots-Tag:noindex
X-PUBLISHED-TTL:PT1H
BEGIN:VTIMEZONE
TZID:Europe/Vienna
BEGIN:DAYLIGHT
TZOFFSETFROM:+0100
TZOFFSETTO:+0200
TZNAME:CEST
DTSTART:20210328T010000
END:DAYLIGHT
BEGIN:STANDARD
TZOFFSETFROM:+0200
TZOFFSETTO:+0100
TZNAME:CET
DTSTART:20211031T010000
END:STANDARD
END:VTIMEZONE
BEGIN:VEVENT
DTSTART;TZID=Europe/Vienna:20211201T090000
DTEND;TZID=Europe/Vienna:20211201T170000
DTSTAMP:20260420T023049
CREATED:20210115T104346Z
LAST-MODIFIED:20210115T104346Z
UID:90586-1638349200-1638378000@archiv.hosiwien.at
SUMMARY:Büro geschlossen
DESCRIPTION:
URL:https://archiv.hosiwien.at/event/buerozeiten-der-hosi-wien-achtung-kontakt-nur-per-mail-tel-moeglich-2021-09-20-2021-09-21-2021-11-05/2021-12-01/
LOCATION:Gugg\, Heumühlgasse 14\, Wien\, 1040
CATEGORIES:Sperre
GEO:48.1961598;16.3617969
X-APPLE-STRUCTURED-LOCATION;VALUE=URI;X-ADDRESS=Gugg Heumühlgasse 14 Wien 1040;X-APPLE-RADIUS=500;X-TITLE=Heumühlgasse 14:geo:16.3617969,48.1961598
END:VEVENT
BEGIN:VEVENT
DTSTART;TZID=Europe/Vienna:20211202T090000
DTEND;TZID=Europe/Vienna:20211202T170000
DTSTAMP:20260420T023049
CREATED:20210115T104346Z
LAST-MODIFIED:20210115T104346Z
UID:90587-1638435600-1638464400@archiv.hosiwien.at
SUMMARY:Büro geschlossen
DESCRIPTION:
URL:https://archiv.hosiwien.at/event/buerozeiten-der-hosi-wien-achtung-kontakt-nur-per-mail-tel-moeglich-2021-09-20-2021-09-21-2021-11-05/2021-12-02/
LOCATION:Gugg\, Heumühlgasse 14\, Wien\, 1040
CATEGORIES:Sperre
GEO:48.1961598;16.3617969
X-APPLE-STRUCTURED-LOCATION;VALUE=URI;X-ADDRESS=Gugg Heumühlgasse 14 Wien 1040;X-APPLE-RADIUS=500;X-TITLE=Heumühlgasse 14:geo:16.3617969,48.1961598
END:VEVENT
BEGIN:VEVENT
DTSTART;TZID=Europe/Vienna:20211203T090000
DTEND;TZID=Europe/Vienna:20211203T170000
DTSTAMP:20260420T023049
CREATED:20210115T104346Z
LAST-MODIFIED:20210115T104346Z
UID:90588-1638522000-1638550800@archiv.hosiwien.at
SUMMARY:Büro geschlossen
DESCRIPTION:
URL:https://archiv.hosiwien.at/event/buerozeiten-der-hosi-wien-achtung-kontakt-nur-per-mail-tel-moeglich-2021-09-20-2021-09-21-2021-11-05/2021-12-03/
LOCATION:Gugg\, Heumühlgasse 14\, Wien\, 1040
CATEGORIES:Sperre
GEO:48.1961598;16.3617969
X-APPLE-STRUCTURED-LOCATION;VALUE=URI;X-ADDRESS=Gugg Heumühlgasse 14 Wien 1040;X-APPLE-RADIUS=500;X-TITLE=Heumühlgasse 14:geo:16.3617969,48.1961598
END:VEVENT
BEGIN:VEVENT
DTSTART;TZID=Europe/Vienna:20211204T090000
DTEND;TZID=Europe/Vienna:20211204T170000
DTSTAMP:20260420T023049
CREATED:20210115T104346Z
LAST-MODIFIED:20210115T104346Z
UID:90589-1638608400-1638637200@archiv.hosiwien.at
SUMMARY:Büro geschlossen
DESCRIPTION:
URL:https://archiv.hosiwien.at/event/buerozeiten-der-hosi-wien-achtung-kontakt-nur-per-mail-tel-moeglich-2021-09-20-2021-09-21-2021-11-05/2021-12-04/
LOCATION:Gugg\, Heumühlgasse 14\, Wien\, 1040
CATEGORIES:Sperre
GEO:48.1961598;16.3617969
X-APPLE-STRUCTURED-LOCATION;VALUE=URI;X-ADDRESS=Gugg Heumühlgasse 14 Wien 1040;X-APPLE-RADIUS=500;X-TITLE=Heumühlgasse 14:geo:16.3617969,48.1961598
END:VEVENT
BEGIN:VEVENT
DTSTART;TZID=Europe/Vienna:20211204T190000
DTEND;TZID=Europe/Vienna:20211205T000000
DTSTAMP:20260420T023049
CREATED:20211001T135956Z
LAST-MODIFIED:20211122T135322Z
UID:90099-1638644400-1638662400@archiv.hosiwien.at
SUMMARY:!findet nicht statt! OGAE Austria - Quiz-Abend
DESCRIPTION:
URL:https://archiv.hosiwien.at/event/ogae-austria-quiz-abend/
LOCATION:Gugg – Giovannis Room\, Heumühlgasse 14\, Wien\, 1040\, Österreich
CATEGORIES:kulturelle Veranstaltung
GEO:48.1961598;16.3617969
X-APPLE-STRUCTURED-LOCATION;VALUE=URI;X-ADDRESS=Gugg – Giovannis Room Heumühlgasse 14 Wien 1040 Österreich;X-APPLE-RADIUS=500;X-TITLE=Heumühlgasse 14:geo:16.3617969,48.1961598
END:VEVENT
BEGIN:VEVENT
DTSTART;TZID=Europe/Vienna:20211205T090000
DTEND;TZID=Europe/Vienna:20211205T170000
DTSTAMP:20260420T023049
CREATED:20210115T104346Z
LAST-MODIFIED:20210115T104346Z
UID:90590-1638694800-1638723600@archiv.hosiwien.at
SUMMARY:Büro geschlossen
DESCRIPTION:
URL:https://archiv.hosiwien.at/event/buerozeiten-der-hosi-wien-achtung-kontakt-nur-per-mail-tel-moeglich-2021-09-20-2021-09-21-2021-11-05/2021-12-05/
LOCATION:Gugg\, Heumühlgasse 14\, Wien\, 1040
CATEGORIES:Sperre
GEO:48.1961598;16.3617969
X-APPLE-STRUCTURED-LOCATION;VALUE=URI;X-ADDRESS=Gugg Heumühlgasse 14 Wien 1040;X-APPLE-RADIUS=500;X-TITLE=Heumühlgasse 14:geo:16.3617969,48.1961598
END:VEVENT
BEGIN:VEVENT
DTSTART;TZID=Europe/Vienna:20211205T180000
DTEND;TZID=Europe/Vienna:20211205T193000
DTSTAMP:20260420T023049
CREATED:20211125T203126Z
LAST-MODIFIED:20211125T203126Z
UID:90648-1638727200-1638732600@archiv.hosiwien.at
SUMMARY:Queer-Yoga (online via Zoom)
DESCRIPTION:Warum Queer-Yoga? Dafür gibt es so viele Gründe wie Farben im Regenbogen. Gemeinsam im Hier und Jetzt ankommen. Die Dinge\, deine Gefühle\, deinen Körper\, so anzunehmen\, wie sie sind. Achtsam mit sich und dem Umfeld umgehen. Die Abwehrkräfte stärken\, gerade in diesen Zeiten so wichtig. Tief einatmen\, tief ausatmen. Den Körper spüren\, alle Muskeln einsetzen vom kleinsten zum größten. Die Verbundenheit untereinander in einer Gruppe erleben. \nMatías ist unser Yogi\, der uns auf eine Reise durch die Welt von Hatha und Vinyasa Yoga mitnimmt. Du kannst mit diesen Begriffen nichts anfangen? Kein Problem\, er holt dich als Anfänger*in dort ab wo du gerade bist. Leitet an\, wo nötig\, gibt Tipps für leichtere Varianten und achtet bei jedem/r Teilnehmer*in auf die richtige Ausführung. \nIn jeder Yoga-Einheit werden deine Chakras\, Muskeln und Sehnen durch Dreh-\, Beuge- und Dehnübungen der verschiedenen Asanas aktiviert\, vom Kronen Chakra bis hin zu den Zehenspitzen. \nJede*r ist willkommen\, das Angebot richtet sich an alle LGBTIQs und ihre Freund*innen. \nIhr braucht bequeme\, lockere Kleidung und eine Yogamatte. \nEintritt: kostenfrei\, aber wir freuen uns über jede Spende (https://archiv.hosiwien.at/deine-unterstuetzung/spenden/)\n \nDatum und Uhrzeit: sonntags\, 18:00 – 19:30. Achtung: eventuelle Terminänderungen sind möglich\, daher bitte immer vorher den online-Kalender und/oder die Facebook-Seite checken! \nLink: https://zoom.us/j/4061263030?pwd=b0lUSXBTZEF4a3VTQm5XSElhQWFGQT09 \nZoom-Download: https://zoom.us/download \nKontakt: yoga@archiv.hosiwien.at
URL:https://archiv.hosiwien.at/event/queer-yoga-online-2021_11/2021-12-05/
LOCATION:Online via Zoom
CATEGORIES:Gruppen
END:VEVENT
BEGIN:VEVENT
DTSTART;TZID=Europe/Vienna:20211206T090000
DTEND;TZID=Europe/Vienna:20211206T170000
DTSTAMP:20260420T023049
CREATED:20210115T104346Z
LAST-MODIFIED:20210115T104346Z
UID:90591-1638781200-1638810000@archiv.hosiwien.at
SUMMARY:Büro geschlossen
DESCRIPTION:
URL:https://archiv.hosiwien.at/event/buerozeiten-der-hosi-wien-achtung-kontakt-nur-per-mail-tel-moeglich-2021-09-20-2021-09-21-2021-11-05/2021-12-06/
LOCATION:Gugg\, Heumühlgasse 14\, Wien\, 1040
CATEGORIES:Sperre
GEO:48.1961598;16.3617969
X-APPLE-STRUCTURED-LOCATION;VALUE=URI;X-ADDRESS=Gugg Heumühlgasse 14 Wien 1040;X-APPLE-RADIUS=500;X-TITLE=Heumühlgasse 14:geo:16.3617969,48.1961598
END:VEVENT
BEGIN:VEVENT
DTSTART;TZID=Europe/Vienna:20211206T183000
DTEND;TZID=Europe/Vienna:20211206T183000
DTSTAMP:20260420T023049
CREATED:20210803T073415Z
LAST-MODIFIED:20221011T090440Z
UID:89276-1638815400-1638815400@archiv.hosiwien.at
SUMMARY:Vorstandssitzung
DESCRIPTION:Der Vorstand der HOSI Wien ist gemäß Statuten das leitende und geschäftsführende Organ des Vereins. Er tritt monatlich mindestens einmal zu einer allen Mitgliedern zugänglichen Sitzung zusammen.
URL:https://archiv.hosiwien.at/event/vorstandssitzung-26-2021-10-04-2021-12-06/2021-12-06/
LOCATION:Gugg – Salon Helga\, Heumühlgasse 14\, Vienna\, 1040\, Österreich
CATEGORIES:Intern
ATTACH;FMTTYPE=image/jpeg:https://archiv.hosiwien.at/img/image/2022/hosi-wien-logo-ohne-Schein-ab-2022-scaled.jpg
GEO:48.1961598;16.3617969
X-APPLE-STRUCTURED-LOCATION;VALUE=URI;X-ADDRESS=Gugg – Salon Helga Heumühlgasse 14 Vienna 1040 Österreich;X-APPLE-RADIUS=500;X-TITLE=Heumühlgasse 14:geo:16.3617969,48.1961598
END:VEVENT
BEGIN:VEVENT
DTSTART;TZID=Europe/Vienna:20211207T090000
DTEND;TZID=Europe/Vienna:20211207T170000
DTSTAMP:20260420T023049
CREATED:20210115T104346Z
LAST-MODIFIED:20210115T104346Z
UID:90592-1638867600-1638896400@archiv.hosiwien.at
SUMMARY:Büro geschlossen
DESCRIPTION:
URL:https://archiv.hosiwien.at/event/buerozeiten-der-hosi-wien-achtung-kontakt-nur-per-mail-tel-moeglich-2021-09-20-2021-09-21-2021-11-05/2021-12-07/
LOCATION:Gugg\, Heumühlgasse 14\, Wien\, 1040
CATEGORIES:Sperre
GEO:48.1961598;16.3617969
X-APPLE-STRUCTURED-LOCATION;VALUE=URI;X-ADDRESS=Gugg Heumühlgasse 14 Wien 1040;X-APPLE-RADIUS=500;X-TITLE=Heumühlgasse 14:geo:16.3617969,48.1961598
END:VEVENT
BEGIN:VEVENT
DTSTART;TZID=Europe/Vienna:20211208T090000
DTEND;TZID=Europe/Vienna:20211208T170000
DTSTAMP:20260420T023049
CREATED:20210115T104346Z
LAST-MODIFIED:20210115T104346Z
UID:90593-1638954000-1638982800@archiv.hosiwien.at
SUMMARY:Büro geschlossen
DESCRIPTION:
URL:https://archiv.hosiwien.at/event/buerozeiten-der-hosi-wien-achtung-kontakt-nur-per-mail-tel-moeglich-2021-09-20-2021-09-21-2021-11-05/2021-12-08/
LOCATION:Gugg\, Heumühlgasse 14\, Wien\, 1040
CATEGORIES:Sperre
GEO:48.1961598;16.3617969
X-APPLE-STRUCTURED-LOCATION;VALUE=URI;X-ADDRESS=Gugg Heumühlgasse 14 Wien 1040;X-APPLE-RADIUS=500;X-TITLE=Heumühlgasse 14:geo:16.3617969,48.1961598
END:VEVENT
BEGIN:VEVENT
DTSTART;TZID=Europe/Vienna:20211209T090000
DTEND;TZID=Europe/Vienna:20211209T170000
DTSTAMP:20260420T023049
CREATED:20210115T104346Z
LAST-MODIFIED:20210115T104346Z
UID:90594-1639040400-1639069200@archiv.hosiwien.at
SUMMARY:Büro geschlossen
DESCRIPTION:
URL:https://archiv.hosiwien.at/event/buerozeiten-der-hosi-wien-achtung-kontakt-nur-per-mail-tel-moeglich-2021-09-20-2021-09-21-2021-11-05/2021-12-09/
LOCATION:Gugg\, Heumühlgasse 14\, Wien\, 1040
CATEGORIES:Sperre
GEO:48.1961598;16.3617969
X-APPLE-STRUCTURED-LOCATION;VALUE=URI;X-ADDRESS=Gugg Heumühlgasse 14 Wien 1040;X-APPLE-RADIUS=500;X-TITLE=Heumühlgasse 14:geo:16.3617969,48.1961598
END:VEVENT
BEGIN:VEVENT
DTSTART;TZID=Europe/Vienna:20211210T090000
DTEND;TZID=Europe/Vienna:20211210T170000
DTSTAMP:20260420T023049
CREATED:20210115T104346Z
LAST-MODIFIED:20210115T104346Z
UID:90595-1639126800-1639155600@archiv.hosiwien.at
SUMMARY:Büro geschlossen
DESCRIPTION:
URL:https://archiv.hosiwien.at/event/buerozeiten-der-hosi-wien-achtung-kontakt-nur-per-mail-tel-moeglich-2021-09-20-2021-09-21-2021-11-05/2021-12-10/
LOCATION:Gugg\, Heumühlgasse 14\, Wien\, 1040
CATEGORIES:Sperre
GEO:48.1961598;16.3617969
X-APPLE-STRUCTURED-LOCATION;VALUE=URI;X-ADDRESS=Gugg Heumühlgasse 14 Wien 1040;X-APPLE-RADIUS=500;X-TITLE=Heumühlgasse 14:geo:16.3617969,48.1961598
END:VEVENT
BEGIN:VEVENT
DTSTART;TZID=Europe/Vienna:20211211T090000
DTEND;TZID=Europe/Vienna:20211211T170000
DTSTAMP:20260420T023049
CREATED:20210115T104346Z
LAST-MODIFIED:20210115T104346Z
UID:90596-1639213200-1639242000@archiv.hosiwien.at
SUMMARY:Büro geschlossen
DESCRIPTION:
URL:https://archiv.hosiwien.at/event/buerozeiten-der-hosi-wien-achtung-kontakt-nur-per-mail-tel-moeglich-2021-09-20-2021-09-21-2021-11-05/2021-12-11/
LOCATION:Gugg\, Heumühlgasse 14\, Wien\, 1040
CATEGORIES:Sperre
GEO:48.1961598;16.3617969
X-APPLE-STRUCTURED-LOCATION;VALUE=URI;X-ADDRESS=Gugg Heumühlgasse 14 Wien 1040;X-APPLE-RADIUS=500;X-TITLE=Heumühlgasse 14:geo:16.3617969,48.1961598
END:VEVENT
BEGIN:VEVENT
DTSTART;TZID=Europe/Vienna:20211211T203000
DTEND;TZID=Europe/Vienna:20211211T203000
DTSTAMP:20260420T023049
CREATED:20211022T112822Z
LAST-MODIFIED:20211122T140805Z
UID:90201-1639254600-1639254600@archiv.hosiwien.at
SUMMARY:!findet nicht statt! Lipstick Ball
DESCRIPTION:Infos folgen!
URL:https://archiv.hosiwien.at/event/lipstick-ball-2/
LOCATION:Gugg\, Heumühlgasse 14\, Wien\, 1040
CATEGORIES:kulturelle Veranstaltung
ATTACH;FMTTYPE=image/jpeg:https://archiv.hosiwien.at/img/image/2021/lipstick-scaled.jpg
GEO:48.1961598;16.3617969
X-APPLE-STRUCTURED-LOCATION;VALUE=URI;X-ADDRESS=Gugg Heumühlgasse 14 Wien 1040;X-APPLE-RADIUS=500;X-TITLE=Heumühlgasse 14:geo:16.3617969,48.1961598
END:VEVENT
BEGIN:VEVENT
DTSTART;TZID=Europe/Vienna:20211212T090000
DTEND;TZID=Europe/Vienna:20211212T170000
DTSTAMP:20260420T023049
CREATED:20210115T104346Z
LAST-MODIFIED:20210115T104346Z
UID:90597-1639299600-1639328400@archiv.hosiwien.at
SUMMARY:Büro geschlossen
DESCRIPTION:
URL:https://archiv.hosiwien.at/event/buerozeiten-der-hosi-wien-achtung-kontakt-nur-per-mail-tel-moeglich-2021-09-20-2021-09-21-2021-11-05/2021-12-12/
LOCATION:Gugg\, Heumühlgasse 14\, Wien\, 1040
CATEGORIES:Sperre
GEO:48.1961598;16.3617969
X-APPLE-STRUCTURED-LOCATION;VALUE=URI;X-ADDRESS=Gugg Heumühlgasse 14 Wien 1040;X-APPLE-RADIUS=500;X-TITLE=Heumühlgasse 14:geo:16.3617969,48.1961598
END:VEVENT
BEGIN:VEVENT
DTSTART;TZID=Europe/Vienna:20211212T180000
DTEND;TZID=Europe/Vienna:20211212T193000
DTSTAMP:20260420T023049
CREATED:20211125T203126Z
LAST-MODIFIED:20211125T203126Z
UID:90649-1639332000-1639337400@archiv.hosiwien.at
SUMMARY:Queer-Yoga (online via Zoom)
DESCRIPTION:Warum Queer-Yoga? Dafür gibt es so viele Gründe wie Farben im Regenbogen. Gemeinsam im Hier und Jetzt ankommen. Die Dinge\, deine Gefühle\, deinen Körper\, so anzunehmen\, wie sie sind. Achtsam mit sich und dem Umfeld umgehen. Die Abwehrkräfte stärken\, gerade in diesen Zeiten so wichtig. Tief einatmen\, tief ausatmen. Den Körper spüren\, alle Muskeln einsetzen vom kleinsten zum größten. Die Verbundenheit untereinander in einer Gruppe erleben. \nMatías ist unser Yogi\, der uns auf eine Reise durch die Welt von Hatha und Vinyasa Yoga mitnimmt. Du kannst mit diesen Begriffen nichts anfangen? Kein Problem\, er holt dich als Anfänger*in dort ab wo du gerade bist. Leitet an\, wo nötig\, gibt Tipps für leichtere Varianten und achtet bei jedem/r Teilnehmer*in auf die richtige Ausführung. \nIn jeder Yoga-Einheit werden deine Chakras\, Muskeln und Sehnen durch Dreh-\, Beuge- und Dehnübungen der verschiedenen Asanas aktiviert\, vom Kronen Chakra bis hin zu den Zehenspitzen. \nJede*r ist willkommen\, das Angebot richtet sich an alle LGBTIQs und ihre Freund*innen. \nIhr braucht bequeme\, lockere Kleidung und eine Yogamatte. \nEintritt: kostenfrei\, aber wir freuen uns über jede Spende (https://archiv.hosiwien.at/deine-unterstuetzung/spenden/)\n \nDatum und Uhrzeit: sonntags\, 18:00 – 19:30. Achtung: eventuelle Terminänderungen sind möglich\, daher bitte immer vorher den online-Kalender und/oder die Facebook-Seite checken! \nLink: https://zoom.us/j/4061263030?pwd=b0lUSXBTZEF4a3VTQm5XSElhQWFGQT09 \nZoom-Download: https://zoom.us/download \nKontakt: yoga@archiv.hosiwien.at
URL:https://archiv.hosiwien.at/event/queer-yoga-online-2021_11/2021-12-12/
LOCATION:Online via Zoom
CATEGORIES:Gruppen
END:VEVENT
BEGIN:VEVENT
DTSTART;TZID=Europe/Vienna:20211213T173000
DTEND;TZID=Europe/Vienna:20211213T203000
DTSTAMP:20260420T023049
CREATED:20211001T135113Z
LAST-MODIFIED:20211122T124318Z
UID:90195-1639416600-1639427400@archiv.hosiwien.at
SUMMARY:Bees in my head
DESCRIPTION:geschlossene Gesellschaft
URL:https://archiv.hosiwien.at/event/selbsthilfegruppe/2021-12-13/
LOCATION:Gugg – Giovannis Room\, Heumühlgasse 14\, Wien\, 1040\, Österreich
CATEGORIES:Intern
GEO:48.1961598;16.3617969
X-APPLE-STRUCTURED-LOCATION;VALUE=URI;X-ADDRESS=Gugg – Giovannis Room Heumühlgasse 14 Wien 1040 Österreich;X-APPLE-RADIUS=500;X-TITLE=Heumühlgasse 14:geo:16.3617969,48.1961598
END:VEVENT
BEGIN:VEVENT
DTSTART;TZID=Europe/Vienna:20211214T110000
DTEND;TZID=Europe/Vienna:20211214T120000
DTSTAMP:20260420T023049
CREATED:20210928T131133Z
LAST-MODIFIED:20220405T090452Z
UID:89931-1639479600-1639483200@archiv.hosiwien.at
SUMMARY:Queer Base - Yoga for you!
DESCRIPTION:geschlossene Veranstaltung
URL:https://archiv.hosiwien.at/event/trauma-sensitives-yoga/2021-12-14/
LOCATION:Gugg – Giovannis Room\, Heumühlgasse 14\, Wien\, 1040\, Österreich
CATEGORIES:Intern
ATTACH;FMTTYPE=image/jpeg:https://archiv.hosiwien.at/img/image/2021/Yogaforyou-scaled.jpg
ORGANIZER;CN="Queer%20Base%20%E2%80%93%20Welcome%20and%20Support%20for%20LGBTIQ%20Refugees":MAILTO:office@queerbase.at
GEO:48.1961598;16.3617969
X-APPLE-STRUCTURED-LOCATION;VALUE=URI;X-ADDRESS=Gugg – Giovannis Room Heumühlgasse 14 Wien 1040 Österreich;X-APPLE-RADIUS=500;X-TITLE=Heumühlgasse 14:geo:16.3617969,48.1961598
END:VEVENT
BEGIN:VEVENT
DTSTART;TZID=Europe/Vienna:20211214T183000
DTEND;TZID=Europe/Vienna:20211214T183000
DTSTAMP:20260420T023049
CREATED:20210927T073122Z
LAST-MODIFIED:20220524T144143Z
UID:89878-1639506600-1639506600@archiv.hosiwien.at
SUMMARY:Orga-Team-Sitzung
DESCRIPTION:
URL:https://archiv.hosiwien.at/event/orga-team-sitzung-9/2021-12-14/
LOCATION:Gugg – Salon Helga\, Heumühlgasse 14\, Vienna\, 1040\, Österreich
CATEGORIES:Intern
GEO:48.1961598;16.3617969
X-APPLE-STRUCTURED-LOCATION;VALUE=URI;X-ADDRESS=Gugg – Salon Helga Heumühlgasse 14 Vienna 1040 Österreich;X-APPLE-RADIUS=500;X-TITLE=Heumühlgasse 14:geo:16.3617969,48.1961598
END:VEVENT
BEGIN:VEVENT
DTSTART;TZID=Europe/Vienna:20211215T190000
DTEND;TZID=Europe/Vienna:20211215T210000
DTSTAMP:20260420T023049
CREATED:20210831T083841Z
LAST-MODIFIED:20220113T094515Z
UID:89139-1639594800-1639602000@archiv.hosiwien.at
SUMMARY:Resis.danse-Tanzworkshop
DESCRIPTION:Alle Informationen zu den Workshops auf: www.resisdanse.at
URL:https://archiv.hosiwien.at/event/resis-danse-tanzworkshop-11/2021-12-15/
LOCATION:Gugg\, Heumühlgasse 14\, Wien\, 1040
CATEGORIES:Gruppen
ATTACH;FMTTYPE=image/png:https://archiv.hosiwien.at/img/image/2016/resisdanse-logo-trans.png
GEO:48.1961598;16.3617969
X-APPLE-STRUCTURED-LOCATION;VALUE=URI;X-ADDRESS=Gugg Heumühlgasse 14 Wien 1040;X-APPLE-RADIUS=500;X-TITLE=Heumühlgasse 14:geo:16.3617969,48.1961598
END:VEVENT
BEGIN:VEVENT
DTSTART;TZID=Europe/Vienna:20211216T153000
DTEND;TZID=Europe/Vienna:20211216T163000
DTSTAMP:20260420T023049
CREATED:20210928T131133Z
LAST-MODIFIED:20220405T090452Z
UID:90015-1639668600-1639672200@archiv.hosiwien.at
SUMMARY:Queer Base - Yoga for you!
DESCRIPTION:geschlossene Veranstaltung
URL:https://archiv.hosiwien.at/event/trauma-sensitives-yoga/2021-12-16/
LOCATION:Gugg – Giovannis Room\, Heumühlgasse 14\, Wien\, 1040\, Österreich
CATEGORIES:Intern
ATTACH;FMTTYPE=image/jpeg:https://archiv.hosiwien.at/img/image/2021/Yogaforyou-scaled.jpg
ORGANIZER;CN="Queer%20Base%20%E2%80%93%20Welcome%20and%20Support%20for%20LGBTIQ%20Refugees":MAILTO:office@queerbase.at
GEO:48.1961598;16.3617969
X-APPLE-STRUCTURED-LOCATION;VALUE=URI;X-ADDRESS=Gugg – Giovannis Room Heumühlgasse 14 Wien 1040 Österreich;X-APPLE-RADIUS=500;X-TITLE=Heumühlgasse 14:geo:16.3617969,48.1961598
END:VEVENT
BEGIN:VEVENT
DTSTART;TZID=Europe/Vienna:20211217T163000
DTEND;TZID=Europe/Vienna:20211217T210000
DTSTAMP:20260420T023049
CREATED:20210728T081022Z
LAST-MODIFIED:20220110T134602Z
UID:89105-1639758600-1639774800@archiv.hosiwien.at
SUMMARY:Resis.danse-Tanzworkshop
DESCRIPTION:Tanzworkshop-Beginn ist jeweils ab 17 und 19 Uhr. Alle Informationen zu den Workshops auf: www.resisdanse.at  \nAb 21 Uhr findet im Anschluss der Tanzabend statt zu dem alle tanzbegeisterten Frauen herzlich eingeladen sind. \n 
URL:https://archiv.hosiwien.at/event/resis-danse-tanzworkshop-10-2021-12-17/2021-12-17/
LOCATION:Gugg\, Heumühlgasse 14\, Wien\, 1040
CATEGORIES:Gruppen
ATTACH;FMTTYPE=image/png:https://archiv.hosiwien.at/img/image/2016/resisdanse-logo-trans.png
GEO:48.1961598;16.3617969
X-APPLE-STRUCTURED-LOCATION;VALUE=URI;X-ADDRESS=Gugg Heumühlgasse 14 Wien 1040;X-APPLE-RADIUS=500;X-TITLE=Heumühlgasse 14:geo:16.3617969,48.1961598
END:VEVENT
BEGIN:VEVENT
DTSTART;TZID=Europe/Vienna:20211217T210000
DTEND;TZID=Europe/Vienna:20211218T000000
DTSTAMP:20260420T023049
CREATED:20210728T080045Z
LAST-MODIFIED:20220110T135448Z
UID:89117-1639774800-1639785600@archiv.hosiwien.at
SUMMARY:Resis.danse-Tanzabend
DESCRIPTION:Eine Übungsmöglichkeit für alle tanzbegeisterten Frauen! Einfach vorbeikommen und mittanzen. Immer nach den Resis.danse-Tanzworkshops in der gemütlichen Atmosphäre des Gugg ab 21 Uhr. \nGenauere Informationen auf der eigenen Website: www.resisdanse.at. \nAlle Tanzabende sind bei freiem Eintritt!
URL:https://archiv.hosiwien.at/event/resis-danse-tanzabend-2/2021-12-17/
LOCATION:Gugg\, Heumühlgasse 14\, Wien\, 1040
CATEGORIES:Gruppen
ATTACH;FMTTYPE=image/jpeg:https://archiv.hosiwien.at/img/image/2018/resisdance-5.jpg
GEO:48.1961598;16.3617969
X-APPLE-STRUCTURED-LOCATION;VALUE=URI;X-ADDRESS=Gugg Heumühlgasse 14 Wien 1040;X-APPLE-RADIUS=500;X-TITLE=Heumühlgasse 14:geo:16.3617969,48.1961598
END:VEVENT
BEGIN:VEVENT
DTSTART;TZID=Europe/Vienna:20211218T193000
DTEND;TZID=Europe/Vienna:20211218T193000
DTSTAMP:20260420T023049
CREATED:20210713T131046Z
LAST-MODIFIED:20210730T083118Z
UID:88740-1639855800-1639855800@archiv.hosiwien.at
SUMMARY:House of King
DESCRIPTION:
URL:https://archiv.hosiwien.at/event/house-of-king-9-2021-12-18/2021-12-18/
LOCATION:Gugg\, Heumühlgasse 14\, Wien\, 1040
CATEGORIES:kulturelle Veranstaltung
GEO:48.1961598;16.3617969
X-APPLE-STRUCTURED-LOCATION;VALUE=URI;X-ADDRESS=Gugg Heumühlgasse 14 Wien 1040;X-APPLE-RADIUS=500;X-TITLE=Heumühlgasse 14:geo:16.3617969,48.1961598
END:VEVENT
BEGIN:VEVENT
DTSTART;TZID=Europe/Vienna:20211221T110000
DTEND;TZID=Europe/Vienna:20211221T120000
DTSTAMP:20260420T023049
CREATED:20210928T131133Z
LAST-MODIFIED:20220405T090452Z
UID:89932-1640084400-1640088000@archiv.hosiwien.at
SUMMARY:Queer Base - Yoga for you!
DESCRIPTION:geschlossene Veranstaltung
URL:https://archiv.hosiwien.at/event/trauma-sensitives-yoga/2021-12-21/
LOCATION:Gugg – Giovannis Room\, Heumühlgasse 14\, Wien\, 1040\, Österreich
CATEGORIES:Intern
ATTACH;FMTTYPE=image/jpeg:https://archiv.hosiwien.at/img/image/2021/Yogaforyou-scaled.jpg
ORGANIZER;CN="Queer%20Base%20%E2%80%93%20Welcome%20and%20Support%20for%20LGBTIQ%20Refugees":MAILTO:office@queerbase.at
GEO:48.1961598;16.3617969
X-APPLE-STRUCTURED-LOCATION;VALUE=URI;X-ADDRESS=Gugg – Giovannis Room Heumühlgasse 14 Wien 1040 Österreich;X-APPLE-RADIUS=500;X-TITLE=Heumühlgasse 14:geo:16.3617969,48.1961598
END:VEVENT
BEGIN:VEVENT
DTSTART;TZID=Europe/Vienna:20211221T150000
DTEND;TZID=Europe/Vienna:20211221T163000
DTSTAMP:20260420T023049
CREATED:20210914T085237Z
LAST-MODIFIED:20221025T113653Z
UID:89356-1640098800-1640104200@archiv.hosiwien.at
SUMMARY:Männergruppe / Projekt P.I.L.O.T. / Integration Wien
DESCRIPTION:geschlossene Veranstaltung. \nLeitung: Armin Knöbl \nKontakt:\nMag.a Stefanie Hiller\nTannhäuserplatz 2/1\n1150 Wien\n01 7892642-29\nstefanie.hiller@integrationwien.at\nwww.integrationwien.at
URL:https://archiv.hosiwien.at/event/maennergruppe-projekt-p-i-l-o-t-integration-wien-2021-10-26/2021-12-21/
LOCATION:Gugg – Giovannis Room\, Heumühlgasse 14\, Wien\, 1040\, Österreich
CATEGORIES:Intern
ATTACH;FMTTYPE=image/png:https://archiv.hosiwien.at/img/image/2022/download___iwi_logo.png
GEO:48.1961598;16.3617969
X-APPLE-STRUCTURED-LOCATION;VALUE=URI;X-ADDRESS=Gugg – Giovannis Room Heumühlgasse 14 Wien 1040 Österreich;X-APPLE-RADIUS=500;X-TITLE=Heumühlgasse 14:geo:16.3617969,48.1961598
END:VEVENT
BEGIN:VEVENT
DTSTART;TZID=Europe/Vienna:20211221T180000
DTEND;TZID=Europe/Vienna:20211222T000000
DTSTAMP:20260420T023049
CREATED:20210528T110055Z
LAST-MODIFIED:20221117T111441Z
UID:88436-1640109600-1640131200@archiv.hosiwien.at
SUMMARY:50+ Prime Timers
DESCRIPTION:Die 50+ Prime Timers sind eine Gruppe speziell für Menschen über 50 Jahren.\nDu suchst Anschluss oder möchtest dich in der gemütlichen Atmosphäre des Guggs mit anderen austauschen?\nDann komm‘ doch einfach zum Treffen der Prime Timers\, die sich jeden 3. Dienstag im Monat ab 18 Uhr im Gugg treffen. \nDas Treffen findet im Barbereich statt. \nHINWEIS: Das umfangreiche Serviceangebot der HOSI Wien wird durch ehrenamtliches Engagement erbracht. Wie du die wichtige Arbeit des Vereins durch Spende oder Mitgliedschaft unterstützen kannst\, erfährst du unter archiv.hosiwien.at/mitgliedschaft.
URL:https://archiv.hosiwien.at/event/50-prime-timers-31/2021-12-21/
LOCATION:Gugg\, Heumühlgasse 14\, Wien\, 1040
CATEGORIES:Gruppen
ATTACH;FMTTYPE=image/jpeg:https://archiv.hosiwien.at/img/50+.jpg
GEO:48.1961598;16.3617969
X-APPLE-STRUCTURED-LOCATION;VALUE=URI;X-ADDRESS=Gugg Heumühlgasse 14 Wien 1040;X-APPLE-RADIUS=500;X-TITLE=Heumühlgasse 14:geo:16.3617969,48.1961598
END:VEVENT
BEGIN:VEVENT
DTSTART;TZID=Europe/Vienna:20211223T153000
DTEND;TZID=Europe/Vienna:20211223T163000
DTSTAMP:20260420T023049
CREATED:20210928T131133Z
LAST-MODIFIED:20220405T090452Z
UID:90017-1640273400-1640277000@archiv.hosiwien.at
SUMMARY:Queer Base - Yoga for you!
DESCRIPTION:geschlossene Veranstaltung
URL:https://archiv.hosiwien.at/event/trauma-sensitives-yoga/2021-12-23/
LOCATION:Gugg – Giovannis Room\, Heumühlgasse 14\, Wien\, 1040\, Österreich
CATEGORIES:Intern
ATTACH;FMTTYPE=image/jpeg:https://archiv.hosiwien.at/img/image/2021/Yogaforyou-scaled.jpg
ORGANIZER;CN="Queer%20Base%20%E2%80%93%20Welcome%20and%20Support%20for%20LGBTIQ%20Refugees":MAILTO:office@queerbase.at
GEO:48.1961598;16.3617969
X-APPLE-STRUCTURED-LOCATION;VALUE=URI;X-ADDRESS=Gugg – Giovannis Room Heumühlgasse 14 Wien 1040 Österreich;X-APPLE-RADIUS=500;X-TITLE=Heumühlgasse 14:geo:16.3617969,48.1961598
END:VEVENT
BEGIN:VEVENT
DTSTART;TZID=Europe/Vienna:20211227T173000
DTEND;TZID=Europe/Vienna:20211227T203000
DTSTAMP:20260420T023049
CREATED:20211001T135113Z
LAST-MODIFIED:20211122T124318Z
UID:90196-1640626200-1640637000@archiv.hosiwien.at
SUMMARY:Bees in my head
DESCRIPTION:geschlossene Gesellschaft
URL:https://archiv.hosiwien.at/event/selbsthilfegruppe/2021-12-27/
LOCATION:Gugg – Giovannis Room\, Heumühlgasse 14\, Wien\, 1040\, Österreich
CATEGORIES:Intern
GEO:48.1961598;16.3617969
X-APPLE-STRUCTURED-LOCATION;VALUE=URI;X-ADDRESS=Gugg – Giovannis Room Heumühlgasse 14 Wien 1040 Österreich;X-APPLE-RADIUS=500;X-TITLE=Heumühlgasse 14:geo:16.3617969,48.1961598
END:VEVENT
END:VCALENDAR