BEGIN:VCALENDAR
VERSION:2.0
PRODID:-//Homosexuelle Initiative (HOSI) Wien - ECPv5.16.4//NONSGML v1.0//EN
CALSCALE:GREGORIAN
METHOD:PUBLISH
X-ORIGINAL-URL:https://archiv.hosiwien.at
X-WR-CALDESC:Events for Homosexuelle Initiative (HOSI) Wien
REFRESH-INTERVAL;VALUE=DURATION:PT1H
X-Robots-Tag:noindex
X-PUBLISHED-TTL:PT1H
BEGIN:VTIMEZONE
TZID:Europe/Vienna
BEGIN:DAYLIGHT
TZOFFSETFROM:+0100
TZOFFSETTO:+0200
TZNAME:CEST
DTSTART:20220327T010000
END:DAYLIGHT
BEGIN:STANDARD
TZOFFSETFROM:+0200
TZOFFSETTO:+0100
TZNAME:CET
DTSTART:20221030T010000
END:STANDARD
END:VTIMEZONE
BEGIN:VEVENT
DTSTART;TZID=Europe/Vienna:20220404T183000
DTEND;TZID=Europe/Vienna:20220404T183000
DTSTAMP:20260420T130254
CREATED:20210803T073415Z
LAST-MODIFIED:20221011T090440Z
UID:89896-1649097000-1649097000@archiv.hosiwien.at
SUMMARY:Vorstandssitzung
DESCRIPTION:Der Vorstand der HOSI Wien ist gemäß Statuten das leitende und geschäftsführende Organ des Vereins. Er tritt monatlich mindestens einmal zu einer allen Mitgliedern zugänglichen Sitzung zusammen.
URL:https://archiv.hosiwien.at/event/vorstandssitzung-26-2021-10-04-2021-12-06/2022-04-04/
LOCATION:Gugg – Salon Helga\, Heumühlgasse 14\, Vienna\, 1040\, Österreich
CATEGORIES:Intern
ATTACH;FMTTYPE=image/jpeg:https://archiv.hosiwien.at/img/image/2022/hosi-wien-logo-ohne-Schein-ab-2022-scaled.jpg
GEO:48.1961598;16.3617969
X-APPLE-STRUCTURED-LOCATION;VALUE=URI;X-ADDRESS=Gugg – Salon Helga Heumühlgasse 14 Vienna 1040 Österreich;X-APPLE-RADIUS=500;X-TITLE=Heumühlgasse 14:geo:16.3617969,48.1961598
END:VEVENT
BEGIN:VEVENT
DTSTART;TZID=Europe/Vienna:20220405T110000
DTEND;TZID=Europe/Vienna:20220405T120000
DTSTAMP:20260420T130254
CREATED:20210928T131133Z
LAST-MODIFIED:20220405T090500Z
UID:91348-1649156400-1649160000@archiv.hosiwien.at
SUMMARY:Queer Base - Yoga for you!
DESCRIPTION:geschlossene Veranstaltung
URL:https://archiv.hosiwien.at/event/trauma-sensitives-yoga/2022-04-05/
LOCATION:Gugg – Giovannis Room\, Heumühlgasse 14\, Wien\, 1040\, Österreich
CATEGORIES:Intern
ATTACH;FMTTYPE=image/jpeg:https://archiv.hosiwien.at/img/image/2021/Yogaforyou-scaled.jpg
ORGANIZER;CN="Queer%20Base%20%E2%80%93%20Welcome%20and%20Support%20for%20LGBTIQ%20Refugees":MAILTO:office@queerbase.at
GEO:48.1961598;16.3617969
X-APPLE-STRUCTURED-LOCATION;VALUE=URI;X-ADDRESS=Gugg – Giovannis Room Heumühlgasse 14 Wien 1040 Österreich;X-APPLE-RADIUS=500;X-TITLE=Heumühlgasse 14:geo:16.3617969,48.1961598
END:VEVENT
BEGIN:VEVENT
DTSTART;TZID=Europe/Vienna:20220407T153000
DTEND;TZID=Europe/Vienna:20220407T163000
DTSTAMP:20260420T130254
CREATED:20210928T131133Z
LAST-MODIFIED:20220405T090503Z
UID:91349-1649345400-1649349000@archiv.hosiwien.at
SUMMARY:Queer Base - Yoga for you!
DESCRIPTION:geschlossene Veranstaltung
URL:https://archiv.hosiwien.at/event/trauma-sensitives-yoga/2022-04-07/
LOCATION:Gugg – Giovannis Room\, Heumühlgasse 14\, Wien\, 1040\, Österreich
CATEGORIES:Intern
ATTACH;FMTTYPE=image/jpeg:https://archiv.hosiwien.at/img/image/2021/Yogaforyou-scaled.jpg
ORGANIZER;CN="Queer%20Base%20%E2%80%93%20Welcome%20and%20Support%20for%20LGBTIQ%20Refugees":MAILTO:office@queerbase.at
GEO:48.1961598;16.3617969
X-APPLE-STRUCTURED-LOCATION;VALUE=URI;X-ADDRESS=Gugg – Giovannis Room Heumühlgasse 14 Wien 1040 Österreich;X-APPLE-RADIUS=500;X-TITLE=Heumühlgasse 14:geo:16.3617969,48.1961598
END:VEVENT
BEGIN:VEVENT
DTSTART;TZID=Europe/Vienna:20220408T130000
DTEND;TZID=Europe/Vienna:20220408T160000
DTSTAMP:20260420T130254
CREATED:20220328T130854Z
LAST-MODIFIED:20220929T080655Z
UID:91317-1649422800-1649433600@archiv.hosiwien.at
SUMMARY:Contact Improvisation // FINTAQ* Jam
DESCRIPTION:This is an anarchist\, queer-feminist Contact Improvisation space for FINTAQ* (women\, inter\, non-binary\, trans*gender\, agender\, queergender people) only. \nThe jam space is open to exploring human.animal – contact at eye level\, (re)finding inner guidance and pleasure in moving our bodies\, nourishing our agency and connection to ourselves\, others\, space and ground\, investigating our changing roles and places in a collective web\, exhaling_defecating indoctrinated patriarcal shit. \n\n\nDie Veranstaltung ist offen für alle FINTAQ* Personen\, also wenn wer dazukommen mag\, dann sehr gerne!\nBitte aber nur getestet kommen!\nOrganisation: Levi Ezra Mühlbacher\, Alen Somanarchy \n 
URL:https://archiv.hosiwien.at/event/flintaq-contact-impro-jam/2022-04-08/
LOCATION:Gugg – Giovannis Room\, Heumühlgasse 14\, Wien\, 1040\, Österreich
CATEGORIES:Gruppen
GEO:48.1961598;16.3617969
X-APPLE-STRUCTURED-LOCATION;VALUE=URI;X-ADDRESS=Gugg – Giovannis Room Heumühlgasse 14 Wien 1040 Österreich;X-APPLE-RADIUS=500;X-TITLE=Heumühlgasse 14:geo:16.3617969,48.1961598
END:VEVENT
BEGIN:VEVENT
DTSTART;TZID=Europe/Vienna:20220412T110000
DTEND;TZID=Europe/Vienna:20220412T120000
DTSTAMP:20260420T130254
CREATED:20210928T131133Z
LAST-MODIFIED:20220405T090503Z
UID:91350-1649761200-1649764800@archiv.hosiwien.at
SUMMARY:Queer Base - Yoga for you!
DESCRIPTION:geschlossene Veranstaltung
URL:https://archiv.hosiwien.at/event/trauma-sensitives-yoga/2022-04-12/
LOCATION:Gugg – Giovannis Room\, Heumühlgasse 14\, Wien\, 1040\, Österreich
CATEGORIES:Intern
ATTACH;FMTTYPE=image/jpeg:https://archiv.hosiwien.at/img/image/2021/Yogaforyou-scaled.jpg
ORGANIZER;CN="Queer%20Base%20%E2%80%93%20Welcome%20and%20Support%20for%20LGBTIQ%20Refugees":MAILTO:office@queerbase.at
GEO:48.1961598;16.3617969
X-APPLE-STRUCTURED-LOCATION;VALUE=URI;X-ADDRESS=Gugg – Giovannis Room Heumühlgasse 14 Wien 1040 Österreich;X-APPLE-RADIUS=500;X-TITLE=Heumühlgasse 14:geo:16.3617969,48.1961598
END:VEVENT
BEGIN:VEVENT
DTSTART;TZID=Europe/Vienna:20220412T183000
DTEND;TZID=Europe/Vienna:20220412T183000
DTSTAMP:20260420T130254
CREATED:20210927T073122Z
LAST-MODIFIED:20220524T144143Z
UID:89882-1649788200-1649788200@archiv.hosiwien.at
SUMMARY:Orga-Team-Sitzung
DESCRIPTION:
URL:https://archiv.hosiwien.at/event/orga-team-sitzung-9/2022-04-12/
LOCATION:Gugg – Salon Helga\, Heumühlgasse 14\, Vienna\, 1040\, Österreich
CATEGORIES:Intern
GEO:48.1961598;16.3617969
X-APPLE-STRUCTURED-LOCATION;VALUE=URI;X-ADDRESS=Gugg – Salon Helga Heumühlgasse 14 Vienna 1040 Österreich;X-APPLE-RADIUS=500;X-TITLE=Heumühlgasse 14:geo:16.3617969,48.1961598
END:VEVENT
BEGIN:VEVENT
DTSTART;TZID=Europe/Vienna:20220413T190000
DTEND;TZID=Europe/Vienna:20220413T210000
DTSTAMP:20260420T130254
CREATED:20210831T083841Z
LAST-MODIFIED:20210831T083841Z
UID:90858-1649876400-1649883600@archiv.hosiwien.at
SUMMARY:Resis.danse-Tanzworkshop
DESCRIPTION:Alle Informationen zu den Workshops auf: www.resisdanse.at
URL:https://archiv.hosiwien.at/event/resis-danse-tanzworkshop-11-2022-01-19/2022-04-13/
LOCATION:Gugg\, Heumühlgasse 14\, Wien\, 1040
CATEGORIES:Gruppen
ATTACH;FMTTYPE=image/png:https://archiv.hosiwien.at/img/image/2016/resisdanse-logo-trans.png
GEO:48.1961598;16.3617969
X-APPLE-STRUCTURED-LOCATION;VALUE=URI;X-ADDRESS=Gugg Heumühlgasse 14 Wien 1040;X-APPLE-RADIUS=500;X-TITLE=Heumühlgasse 14:geo:16.3617969,48.1961598
END:VEVENT
BEGIN:VEVENT
DTSTART;TZID=Europe/Vienna:20220414T153000
DTEND;TZID=Europe/Vienna:20220414T163000
DTSTAMP:20260420T130254
CREATED:20210928T131133Z
LAST-MODIFIED:20220405T090503Z
UID:91351-1649950200-1649953800@archiv.hosiwien.at
SUMMARY:Queer Base - Yoga for you!
DESCRIPTION:geschlossene Veranstaltung
URL:https://archiv.hosiwien.at/event/trauma-sensitives-yoga/2022-04-14/
LOCATION:Gugg – Giovannis Room\, Heumühlgasse 14\, Wien\, 1040\, Österreich
CATEGORIES:Intern
ATTACH;FMTTYPE=image/jpeg:https://archiv.hosiwien.at/img/image/2021/Yogaforyou-scaled.jpg
ORGANIZER;CN="Queer%20Base%20%E2%80%93%20Welcome%20and%20Support%20for%20LGBTIQ%20Refugees":MAILTO:office@queerbase.at
GEO:48.1961598;16.3617969
X-APPLE-STRUCTURED-LOCATION;VALUE=URI;X-ADDRESS=Gugg – Giovannis Room Heumühlgasse 14 Wien 1040 Österreich;X-APPLE-RADIUS=500;X-TITLE=Heumühlgasse 14:geo:16.3617969,48.1961598
END:VEVENT
BEGIN:VEVENT
DTSTART;TZID=Europe/Vienna:20220416T193000
DTEND;TZID=Europe/Vienna:20220417T000000
DTSTAMP:20260420T130254
CREATED:20220112T145724Z
LAST-MODIFIED:20220429T103242Z
UID:91261-1650137400-1650153600@archiv.hosiwien.at
SUMMARY:4 Drags & 1 Quiz!
DESCRIPTION:The Lipstick Ball presents:\n4 Drags & 1 Quiz!\nEin trivial lustiger Quiz-Abend moderiert von Lexi Labor\, Miss Patty Fanny\, Uschi Straight und Sassica Rabbit.\nBei diesem Abend tretet ihr im Team (bis zu 6 Personen) gegen andere Teams an. In den heiligen Hallen des Guggs werden euch Fragen gestellt und das Team mit den meisten richtigen Fragen gewinnt am Ende einen tollen Preis  – Pubquiz Style nur glamouröser!\nKeine Sorge: Wenn ihr zu wenige für ein Team seid\, dann finden wir eines für euch! Also keine falsche Scheu! Spoiler: there will be FREE Shots!\nHard Facts:\n16.04.2022\nEinlass 18:30\nBeginn: 19:30\nGugg – Heumühlgasse 14\, 1040 Wien\n15€ pro Person – https://shop.eventjet.at/thelipstickball\nGet your tickets and join us!\nTicketverkauf startet am 25.3.2022 um 14:30 \nBitte beachtet die aktuell gültigen COVID-Maßnahmen.\n\nWir freuen uns auf euch!\nBussi\n\n—\nEs gelten die Corona-Richtlinien für Gastronomie bzw. Veranstaltungen.\n\nAktuell: 2G-Regel\nEmpfehlung zur Registrierung für alle Gäste.\nÄnderungen in den Verordnungen können sich noch ergeben.
URL:https://archiv.hosiwien.at/event/4-drags-1-quiz/2022-04-16/
LOCATION:Gugg\, Heumühlgasse 14\, Wien\, 1040
CATEGORIES:kulturelle Veranstaltung
ATTACH;FMTTYPE=image/jpeg:https://archiv.hosiwien.at/img/image/2022/277161818_2850290091938740_5183638336206728355_n.jpg
ORGANIZER;CN="Kulturverein%20The%20Lipstick%20Ball":MAILTO:thelipstickball@gmail.com
GEO:48.1961598;16.3617969
X-APPLE-STRUCTURED-LOCATION;VALUE=URI;X-ADDRESS=Gugg Heumühlgasse 14 Wien 1040;X-APPLE-RADIUS=500;X-TITLE=Heumühlgasse 14:geo:16.3617969,48.1961598
END:VEVENT
BEGIN:VEVENT
DTSTART;TZID=Europe/Vienna:20220419T180000
DTEND;TZID=Europe/Vienna:20220420T000000
DTSTAMP:20260420T130254
CREATED:20210528T110055Z
LAST-MODIFIED:20221117T111441Z
UID:88440-1650391200-1650412800@archiv.hosiwien.at
SUMMARY:50+ Prime Timers
DESCRIPTION:Die 50+ Prime Timers sind eine Gruppe speziell für Menschen über 50 Jahren.\nDu suchst Anschluss oder möchtest dich in der gemütlichen Atmosphäre des Guggs mit anderen austauschen?\nDann komm‘ doch einfach zum Treffen der Prime Timers\, die sich jeden 3. Dienstag im Monat ab 18 Uhr im Gugg treffen. \nDas Treffen findet im Barbereich statt. \nHINWEIS: Das umfangreiche Serviceangebot der HOSI Wien wird durch ehrenamtliches Engagement erbracht. Wie du die wichtige Arbeit des Vereins durch Spende oder Mitgliedschaft unterstützen kannst\, erfährst du unter archiv.hosiwien.at/mitgliedschaft.
URL:https://archiv.hosiwien.at/event/50-prime-timers-31/2022-04-19/
LOCATION:Gugg\, Heumühlgasse 14\, Wien\, 1040
CATEGORIES:Gruppen
ATTACH;FMTTYPE=image/jpeg:https://archiv.hosiwien.at/img/50+.jpg
GEO:48.1961598;16.3617969
X-APPLE-STRUCTURED-LOCATION;VALUE=URI;X-ADDRESS=Gugg Heumühlgasse 14 Wien 1040;X-APPLE-RADIUS=500;X-TITLE=Heumühlgasse 14:geo:16.3617969,48.1961598
END:VEVENT
BEGIN:VEVENT
DTSTART;TZID=Europe/Vienna:20220422T164500
DTEND;TZID=Europe/Vienna:20220422T210000
DTSTAMP:20260420T130254
CREATED:20220503T161332Z
LAST-MODIFIED:20220518T163738Z
UID:91665-1650645900-1650661200@archiv.hosiwien.at
SUMMARY:Resis.danse-Tanzworkshop
DESCRIPTION:Die Tanzworkshops finden von 16:45 bis 18:45 und von 19:00 bis 21:00 statt.\nAlle Informationen zu den Workshops auf: www.resisdanse.at  \nAb 21 Uhr findet im Anschluss der Tanzabend statt zu dem alle tanzbegeisterten Frauen herzlich eingeladen sind. \nWir weisen darauf hin\, dass aktuell die 2G+ Regel gilt (geimpft/genesen plus gültiger PCR-Test).\nAufgrund der Corona-Lage kann es dazu kommen\, dass einzelne oder alle Workshops (auch kurzfristig) abgesagt werden.\nWir bitten um Verständnis. \n 
URL:https://archiv.hosiwien.at/event/resis-danse-tanzworkshop-12/2022-04-22/
LOCATION:Gugg\, Heumühlgasse 14\, Wien\, 1040
CATEGORIES:Gruppen
ATTACH;FMTTYPE=image/png:https://archiv.hosiwien.at/img/image/2016/resisdanse-logo-trans.png
ORGANIZER;CN="Resis.danse%20-%20FrauenTanzClub":MAILTO:tanzclub@resisdanse.at
GEO:48.1961598;16.3617969
X-APPLE-STRUCTURED-LOCATION;VALUE=URI;X-ADDRESS=Gugg Heumühlgasse 14 Wien 1040;X-APPLE-RADIUS=500;X-TITLE=Heumühlgasse 14:geo:16.3617969,48.1961598
END:VEVENT
BEGIN:VEVENT
DTSTART;TZID=Europe/Vienna:20220423T100000
DTEND;TZID=Europe/Vienna:20220423T150000
DTSTAMP:20260420T130254
CREATED:20220201T101125Z
LAST-MODIFIED:20220320T211446Z
UID:91040-1650708000-1650726000@archiv.hosiwien.at
SUMMARY:Workshop Gewaltprävention
DESCRIPTION:Workshop Gewaltprävention – HOSI-Team intern \nWorkshopleiterin: Lisa Hermanns
URL:https://archiv.hosiwien.at/event/workshop-gewaltpraevention/
LOCATION:Gugg – Giovannis Room\, Heumühlgasse 14\, Wien\, 1040\, Österreich
CATEGORIES:Intern
GEO:48.1961598;16.3617969
X-APPLE-STRUCTURED-LOCATION;VALUE=URI;X-ADDRESS=Gugg – Giovannis Room Heumühlgasse 14 Wien 1040 Österreich;X-APPLE-RADIUS=500;X-TITLE=Heumühlgasse 14:geo:16.3617969,48.1961598
END:VEVENT
BEGIN:VEVENT
DTSTART;TZID=Europe/Vienna:20220423T190000
DTEND;TZID=Europe/Vienna:20220424T000000
DTSTAMP:20260420T130254
CREATED:20211001T140428Z
LAST-MODIFIED:20221024T103326Z
UID:90101-1650740400-1650758400@archiv.hosiwien.at
SUMMARY:OGAE Austria Preview Bewertung 2022
DESCRIPTION:Unser jährliches ESC Songs-Schauen – zurück als Live-Event:\n alle 40 Songs des ESC 2022\n Online-Voting für alle Zuseher*innen und Mitglieder\n Kür des Gewinner-Beitrags der OGAE Austria (geht als österreichisches Ergebnis an die OGAE International)\n ESC-DJs\n Eurovision Quiz &\n einige weitere Überraschungen\nEintritt frei!\nEverybody is welcome!\n———-\nErgänzende Informationen für das Live-Event:\n Die konkreten Rahmenbedingungen für das Event vor Ort werden wir rechtzeitig bekannt geben: Wieviele können dabei sein? Welche Zutrittsregeln werden gelten? Wann sind Masken zu tragen? Wir sind in enger Abstimmung mit allen Beteiligten und werden uns auf die Situation Ende April vorbereiten. Leider lassen sich dazu jetzt noch keine fixen Aussagen treffen.\n Jedenfalls wird es – wie schon in den letzten Jahren – für alle die Möglichkeit geben\, ihre Wertung online abzugeben. Die Infos dazu folgen!
URL:https://archiv.hosiwien.at/event/ogae-austria-esc-previews/2022-04-23/
LOCATION:Gugg\, Heumühlgasse 14\, Wien\, 1040
CATEGORIES:kulturelle Veranstaltung
ATTACH;FMTTYPE=image/jpeg:https://archiv.hosiwien.at/img/image/2022/275508444_2158430307647724_6297365522514701332_n.jpg
ORGANIZER;CN="OGAE%20Austria":MAILTO:club@ogae-austria.at
GEO:48.1961598;16.3617969
X-APPLE-STRUCTURED-LOCATION;VALUE=URI;X-ADDRESS=Gugg Heumühlgasse 14 Wien 1040;X-APPLE-RADIUS=500;X-TITLE=Heumühlgasse 14:geo:16.3617969,48.1961598
END:VEVENT
BEGIN:VEVENT
DTSTART;TZID=Europe/Vienna:20220426T193000
DTEND;TZID=Europe/Vienna:20220426T233000
DTSTAMP:20260420T130254
CREATED:20210730T115645Z
LAST-MODIFIED:20220926T125458Z
UID:91399-1651001400-1651015800@archiv.hosiwien.at
SUMMARY:Werwolf-Abend
DESCRIPTION:Der Spiele-Klassiker „Die Werwölfe vom Düsterwald“ zieht regelmäßig unsere Besucher*innen in seinen Bann. Warum? Hat es mit dunkler Magie zu tun\, oder ist es das gesellige Beisammensein\, das die besondere Atmosphäre des Abends ausmacht? \nFinde es heraus und mach dir ein eigenes Bild vom Werwolf-Abend im Gugg! Komm alleine oder nimm Freund*innen mit – wir freuen uns auf dich! Es sind keine Vorkenntnisse erforderlich. Im Gegenteil: Die Spielrunden dauern nicht lange\, und wir erklären Neulingen gerne die Regeln. Eine Runde aussetzen oder erst später ins Spiel einsteigen ist somit auch kein Problem. \nWir freuen uns sehr auf einen blutrünstigen Abend! \nP.S.: Infos zum Spiel unter: http://de.wikipedia.org/wiki/Werwölfe_von_Düsterwald \nDer Eintritt ist frei! \nEinlass: 19:00\nBeginn: 19:30 \nAchtung: Bitte haltet euch an die zum Zeitpunkt der Veranstaltung bestehenden Corona-Sicherheitsregeln in Gastroräumen.
URL:https://archiv.hosiwien.at/event/werwolf-abend-35/2022-04-26/
LOCATION:Gugg\, Heumühlgasse 14\, Wien\, 1040
CATEGORIES:kulturelle Veranstaltung
ATTACH;FMTTYPE=image/jpeg:https://archiv.hosiwien.at/img/werwoelfe_duesterwald.jpg
ORGANIZER;CN="HOSI%20Wien":MAILTO:office@archiv.hosiwien.at
GEO:48.1961598;16.3617969
X-APPLE-STRUCTURED-LOCATION;VALUE=URI;X-ADDRESS=Gugg Heumühlgasse 14 Wien 1040;X-APPLE-RADIUS=500;X-TITLE=Heumühlgasse 14:geo:16.3617969,48.1961598
END:VEVENT
BEGIN:VEVENT
DTSTART;TZID=Europe/Vienna:20220427T090000
DTEND;TZID=Europe/Vienna:20220427T160000
DTSTAMP:20260420T130254
CREATED:20220126T135747Z
LAST-MODIFIED:20220126T135747Z
UID:91030-1651050000-1651075200@archiv.hosiwien.at
SUMMARY:Leitungsklausur Integration Wien
DESCRIPTION:geschlossene Veranstaltung. \nLeitungsklausur der Projektleiter*innen des Vereins Integration Wien. \nVerantwortlich: Stefanie Hiller
URL:https://archiv.hosiwien.at/event/leitungsklausur-integration-wien/
LOCATION:Gugg\, Heumühlgasse 14\, Wien\, 1040
CATEGORIES:Privat
ATTACH;FMTTYPE=image/png:https://archiv.hosiwien.at/img/image/2022/download___iwi_logo.png
GEO:48.1961598;16.3617969
X-APPLE-STRUCTURED-LOCATION;VALUE=URI;X-ADDRESS=Gugg Heumühlgasse 14 Wien 1040;X-APPLE-RADIUS=500;X-TITLE=Heumühlgasse 14:geo:16.3617969,48.1961598
END:VEVENT
BEGIN:VEVENT
DTSTART;TZID=Europe/Vienna:20220427T190000
DTEND;TZID=Europe/Vienna:20220427T210000
DTSTAMP:20260420T130254
CREATED:20210831T083841Z
LAST-MODIFIED:20210831T083841Z
UID:90859-1651086000-1651093200@archiv.hosiwien.at
SUMMARY:Resis.danse-Tanzworkshop
DESCRIPTION:Alle Informationen zu den Workshops auf: www.resisdanse.at
URL:https://archiv.hosiwien.at/event/resis-danse-tanzworkshop-11-2022-01-19/2022-04-27/
LOCATION:Gugg\, Heumühlgasse 14\, Wien\, 1040
CATEGORIES:Gruppen
ATTACH;FMTTYPE=image/png:https://archiv.hosiwien.at/img/image/2016/resisdanse-logo-trans.png
GEO:48.1961598;16.3617969
X-APPLE-STRUCTURED-LOCATION;VALUE=URI;X-ADDRESS=Gugg Heumühlgasse 14 Wien 1040;X-APPLE-RADIUS=500;X-TITLE=Heumühlgasse 14:geo:16.3617969,48.1961598
END:VEVENT
BEGIN:VEVENT
DTSTART;TZID=Europe/Vienna:20220429T160000
DTEND;TZID=Europe/Vienna:20220429T200000
DTSTAMP:20260420T130254
CREATED:20220426T110932Z
LAST-MODIFIED:20220503T162838Z
UID:91554-1651248000-1651262400@archiv.hosiwien.at
SUMMARY:Grätzelfest zur Einweihung des Helga-Pankratz-Platzes
DESCRIPTION:Der Helga-Pankratz-Platz an der Ecke Strobachgasse/Schönbrunner Straße wird feierlich eingeweiht\, dazu laden die HOSI Wien und die Bezirksvorstehung Margareten zu einem Grätzelfest ein!\n\n\nAb 16:30 Uhr: Eröffnung und Gedenken an Helga Pankratz \n\n\nAb 17:00 Uhr: Musik und Living Books: Menschen aus der LGBTIQ-Community sind als Living Books für Fragen und zum Geschichten erzählen auf dem Platz unterwegs. Einige von ihnen haben Helga noch gekannt und erzählen von der Pionierin der Lesbenbewegung.\n\n\nDanach: After-Party im Gugg
URL:https://archiv.hosiwien.at/event/graetzelfest-zur-einweihung-des-helga-pankratz-platzes/
LOCATION:Helga-Pankratz-Platz\, Strobachgasse Ecke Schönbrunner Straße\, Wien\, 1050
CATEGORIES:cultural event,kulturelle Veranstaltung,Party
ATTACH;FMTTYPE=image/jpeg:https://archiv.hosiwien.at/img/image/2022/278608528_10159875073741420_3064892350520520939_n-1.jpg
ORGANIZER;CN="HOSI%20Wien":MAILTO:office@archiv.hosiwien.at
END:VEVENT
BEGIN:VEVENT
DTSTART;TZID=Europe/Vienna:20220429T164500
DTEND;TZID=Europe/Vienna:20220429T210000
DTSTAMP:20260420T130254
CREATED:20220503T161332Z
LAST-MODIFIED:20220518T163739Z
UID:91678-1651250700-1651266000@archiv.hosiwien.at
SUMMARY:Resis.danse-Tanzworkshop
DESCRIPTION:Die Tanzworkshops finden von 16:45 bis 18:45 und von 19:00 bis 21:00 statt.\nAlle Informationen zu den Workshops auf: www.resisdanse.at  \nAb 21 Uhr findet im Anschluss der Tanzabend statt zu dem alle tanzbegeisterten Frauen herzlich eingeladen sind. \nWir weisen darauf hin\, dass aktuell die 2G+ Regel gilt (geimpft/genesen plus gültiger PCR-Test).\nAufgrund der Corona-Lage kann es dazu kommen\, dass einzelne oder alle Workshops (auch kurzfristig) abgesagt werden.\nWir bitten um Verständnis. \n 
URL:https://archiv.hosiwien.at/event/resis-danse-tanzworkshop-12/2022-04-29/
LOCATION:Gugg\, Heumühlgasse 14\, Wien\, 1040
CATEGORIES:Gruppen
ATTACH;FMTTYPE=image/png:https://archiv.hosiwien.at/img/image/2016/resisdanse-logo-trans.png
ORGANIZER;CN="Resis.danse%20-%20FrauenTanzClub":MAILTO:tanzclub@resisdanse.at
GEO:48.1961598;16.3617969
X-APPLE-STRUCTURED-LOCATION;VALUE=URI;X-ADDRESS=Gugg Heumühlgasse 14 Wien 1040;X-APPLE-RADIUS=500;X-TITLE=Heumühlgasse 14:geo:16.3617969,48.1961598
END:VEVENT
BEGIN:VEVENT
DTSTART;TZID=Europe/Vienna:20220430T170000
DTEND;TZID=Europe/Vienna:20220430T220000
DTSTAMP:20260420T130254
CREATED:20220125T171625Z
LAST-MODIFIED:20220125T171625Z
UID:91020-1651338000-1651356000@archiv.hosiwien.at
SUMMARY:Private Feier Silvia Ulrich
DESCRIPTION:geschlossene Gesellschaft. \nPrivate Feier Silvia Ulrich
URL:https://archiv.hosiwien.at/event/private-feier-silvia-ulrich/
LOCATION:Gugg\, Heumühlgasse 14\, Wien\, 1040
CATEGORIES:Privat
ATTACH;FMTTYPE=image/jpeg:https://archiv.hosiwien.at/img/image/2018/lesbenparty4.jpg
GEO:48.1961598;16.3617969
X-APPLE-STRUCTURED-LOCATION;VALUE=URI;X-ADDRESS=Gugg Heumühlgasse 14 Wien 1040;X-APPLE-RADIUS=500;X-TITLE=Heumühlgasse 14:geo:16.3617969,48.1961598
END:VEVENT
END:VCALENDAR