BEGIN:VCALENDAR
VERSION:2.0
PRODID:-//Homosexuelle Initiative (HOSI) Wien - ECPv5.16.4//NONSGML v1.0//EN
CALSCALE:GREGORIAN
METHOD:PUBLISH
X-WR-CALNAME:Homosexuelle Initiative (HOSI) Wien
X-ORIGINAL-URL:https://archiv.hosiwien.at
X-WR-CALDESC:Events for Homosexuelle Initiative (HOSI) Wien
REFRESH-INTERVAL;VALUE=DURATION:PT1H
X-Robots-Tag:noindex
X-PUBLISHED-TTL:PT1H
BEGIN:VTIMEZONE
TZID:Europe/Vienna
BEGIN:DAYLIGHT
TZOFFSETFROM:+0100
TZOFFSETTO:+0200
TZNAME:CEST
DTSTART:20220327T010000
END:DAYLIGHT
BEGIN:STANDARD
TZOFFSETFROM:+0200
TZOFFSETTO:+0100
TZNAME:CET
DTSTART:20221030T010000
END:STANDARD
END:VTIMEZONE
BEGIN:VEVENT
DTSTART;TZID=Europe/Vienna:20220701T130000
DTEND;TZID=Europe/Vienna:20220701T160000
DTSTAMP:20260420T231818
CREATED:20220328T130854Z
LAST-MODIFIED:20220929T080655Z
UID:93158-1656680400-1656691200@archiv.hosiwien.at
SUMMARY:Contact Improvisation // FINTAQ* Jam
DESCRIPTION:This is an anarchist\, queer-feminist Contact Improvisation space for FINTAQ* (women\, inter\, non-binary\, trans*gender\, agender\, queergender people) only. \nThe jam space is open to exploring human.animal – contact at eye level\, (re)finding inner guidance and pleasure in moving our bodies\, nourishing our agency and connection to ourselves\, others\, space and ground\, investigating our changing roles and places in a collective web\, exhaling_defecating indoctrinated patriarcal shit. \n\n\nDie Veranstaltung ist offen für alle FINTAQ* Personen\, also wenn wer dazukommen mag\, dann sehr gerne!\nBitte aber nur getestet kommen!\nOrganisation: Levi Ezra Mühlbacher\, Alen Somanarchy \n 
URL:https://archiv.hosiwien.at/event/flintaq-contact-impro-jam/2022-07-01/
LOCATION:Gugg – Giovannis Room\, Heumühlgasse 14\, Wien\, 1040\, Österreich
CATEGORIES:Gruppen
GEO:48.1961598;16.3617969
X-APPLE-STRUCTURED-LOCATION;VALUE=URI;X-ADDRESS=Gugg – Giovannis Room Heumühlgasse 14 Wien 1040 Österreich;X-APPLE-RADIUS=500;X-TITLE=Heumühlgasse 14:geo:16.3617969,48.1961598
END:VEVENT
BEGIN:VEVENT
DTSTART;TZID=Europe/Vienna:20220710T190000
DTEND;TZID=Europe/Vienna:20220710T203000
DTSTAMP:20260420T231818
CREATED:20220620T094940Z
LAST-MODIFIED:20220620T094940Z
UID:92402-1657479600-1657485000@archiv.hosiwien.at
SUMMARY:Queer-Yoga
DESCRIPTION:Warum Queer-Yoga? Dafür gibt es so viele Gründe wie Farben im Regenbogen. Gemeinsam im Hier und Jetzt ankommen. Die Dinge\, deine Gefühle\, deinen Körper\, so anzunehmen\, wie sie sind. Achtsam mit sich und dem Umfeld umgehen. Die Abwehrkräfte stärken\, gerade in diesen Zeiten so wichtig. Tief einatmen\, tief ausatmen. Den Körper spüren\, alle Muskeln einsetzen vom kleinsten zum größten. Die Verbundenheit untereinander in einer Gruppe erleben. \nMatías ist unser Yogi\, der uns auf eine Reise durch die Welt von Hatha und Vinyasa Yoga mitnimmt. Du kannst mit diesen Begriffen nichts anfangen? Kein Problem\, er holt dich als Anfänger*in dort ab wo du gerade bist. Leitet an\, wo nötig\, gibt Tipps für leichtere Varianten und achtet bei jedem/r Teilnehmer*in auf die richtige Ausführung. \nIn jeder Yoga-Einheit werden deine Chakras\, Muskeln und Sehnen durch Dreh-\, Beuge- und Dehnübungen der verschiedenen Asanas aktiviert\, vom Kronen Chakra bis hin zu den Zehenspitzen. \nJede*r ist willkommen\, das Angebot richtet sich an alle LGBTIQs und ihre Freund*innen. \nBitte kommt in bequemer\, lockerer Kleidung und bringt eine eigene Yogamatte mit. \nEintritt: freie Spende \nDatum und Uhrzeit: jeden Sonntag\, 19:00 – 20:30. Achtung: eventuelle Terminänderungen sind möglich\, daher bitte immer vorher den online-Kalender und/oder die Facebook-Seite checken! \nWir beginnen pünktlich und öffnen bereits um 18:30 für euch\, damit ihr euch umziehen könnt. \nOrt: Das Gugg – Heumühlgasse 14\, 1040 Wien \nKontakt: yoga@archiv.hosiwien.at
URL:https://archiv.hosiwien.at/event/queer-yoga-6/2022-07-10/
LOCATION:Gugg\, Heumühlgasse 14\, Wien\, 1040
CATEGORIES:Gruppen
GEO:48.1961598;16.3617969
X-APPLE-STRUCTURED-LOCATION;VALUE=URI;X-ADDRESS=Gugg Heumühlgasse 14 Wien 1040;X-APPLE-RADIUS=500;X-TITLE=Heumühlgasse 14:geo:16.3617969,48.1961598
END:VEVENT
BEGIN:VEVENT
DTSTART;TZID=Europe/Vienna:20220711T183000
DTEND;TZID=Europe/Vienna:20220711T183000
DTSTAMP:20260420T231818
CREATED:20210803T073415Z
LAST-MODIFIED:20221011T090440Z
UID:93284-1657564200-1657564200@archiv.hosiwien.at
SUMMARY:Vorstandssitzung
DESCRIPTION:Der Vorstand der HOSI Wien ist gemäß Statuten das leitende und geschäftsführende Organ des Vereins. Er tritt monatlich mindestens einmal zu einer allen Mitgliedern zugänglichen Sitzung zusammen.
URL:https://archiv.hosiwien.at/event/vorstandssitzung-26-2021-10-04-2021-12-06/2022-07-11/
LOCATION:Gugg – Salon Helga\, Heumühlgasse 14\, Vienna\, 1040\, Österreich
CATEGORIES:Intern
ATTACH;FMTTYPE=image/jpeg:https://archiv.hosiwien.at/img/image/2022/hosi-wien-logo-ohne-Schein-ab-2022-scaled.jpg
GEO:48.1961598;16.3617969
X-APPLE-STRUCTURED-LOCATION;VALUE=URI;X-ADDRESS=Gugg – Salon Helga Heumühlgasse 14 Vienna 1040 Österreich;X-APPLE-RADIUS=500;X-TITLE=Heumühlgasse 14:geo:16.3617969,48.1961598
END:VEVENT
BEGIN:VEVENT
DTSTART;TZID=Europe/Vienna:20220714T170000
DTEND;TZID=Europe/Vienna:20220714T170000
DTSTAMP:20260420T231818
CREATED:20220706T181032Z
LAST-MODIFIED:20220706T181032Z
UID:92460-1657818000-1657818000@archiv.hosiwien.at
SUMMARY:Eröffnungsfeier für Bücherschrank\, Ort des Gedenkens an homosexuelle NS-Opfer
DESCRIPTION:Die SoHo Wien und die Bezirksvorstehung Alsergrund laden gemeinsam mit der HOSI Wien zur Eröffnungsfeier für den neuen offenen Bücherschrank ein!\nDieser soll nicht nur den Grätzl-Bewohner*innen einen anregenden Literaturaustausch ermöglichen\, sondern wird auch ein Ort des Gedenkens an die unzähligen homosexuellen Opfer des Nazi-Regimes sein. \nWo: Im Heinz-Heger-Park\, Zimmermannplatz 1\, 1090 Wien\nWann: Ab 17 Uhr \nWir freuen uns auf euer Kommen!\nBei Schlechtwetter kann die Eröffnung leider nicht stattfinden.
URL:https://archiv.hosiwien.at/event/eroeffnungsfeier-fuer-buecherschrank-ort-des-gedenkens-an-homosexuelle-ns-opfer/
LOCATION:Heinz-Heger-Park\, Zimmermannplatz 1\, Wien\, 1090
CATEGORIES:cultural event,kulturelle Veranstaltung
END:VEVENT
BEGIN:VEVENT
DTSTART;TZID=Europe/Vienna:20220717T190000
DTEND;TZID=Europe/Vienna:20220717T203000
DTSTAMP:20260420T231818
CREATED:20220620T094940Z
LAST-MODIFIED:20220620T094940Z
UID:92404-1658084400-1658089800@archiv.hosiwien.at
SUMMARY:Queer-Yoga
DESCRIPTION:Warum Queer-Yoga? Dafür gibt es so viele Gründe wie Farben im Regenbogen. Gemeinsam im Hier und Jetzt ankommen. Die Dinge\, deine Gefühle\, deinen Körper\, so anzunehmen\, wie sie sind. Achtsam mit sich und dem Umfeld umgehen. Die Abwehrkräfte stärken\, gerade in diesen Zeiten so wichtig. Tief einatmen\, tief ausatmen. Den Körper spüren\, alle Muskeln einsetzen vom kleinsten zum größten. Die Verbundenheit untereinander in einer Gruppe erleben. \nMatías ist unser Yogi\, der uns auf eine Reise durch die Welt von Hatha und Vinyasa Yoga mitnimmt. Du kannst mit diesen Begriffen nichts anfangen? Kein Problem\, er holt dich als Anfänger*in dort ab wo du gerade bist. Leitet an\, wo nötig\, gibt Tipps für leichtere Varianten und achtet bei jedem/r Teilnehmer*in auf die richtige Ausführung. \nIn jeder Yoga-Einheit werden deine Chakras\, Muskeln und Sehnen durch Dreh-\, Beuge- und Dehnübungen der verschiedenen Asanas aktiviert\, vom Kronen Chakra bis hin zu den Zehenspitzen. \nJede*r ist willkommen\, das Angebot richtet sich an alle LGBTIQs und ihre Freund*innen. \nBitte kommt in bequemer\, lockerer Kleidung und bringt eine eigene Yogamatte mit. \nEintritt: freie Spende \nDatum und Uhrzeit: jeden Sonntag\, 19:00 – 20:30. Achtung: eventuelle Terminänderungen sind möglich\, daher bitte immer vorher den online-Kalender und/oder die Facebook-Seite checken! \nWir beginnen pünktlich und öffnen bereits um 18:30 für euch\, damit ihr euch umziehen könnt. \nOrt: Das Gugg – Heumühlgasse 14\, 1040 Wien \nKontakt: yoga@archiv.hosiwien.at
URL:https://archiv.hosiwien.at/event/queer-yoga-6/2022-07-17/
LOCATION:Gugg\, Heumühlgasse 14\, Wien\, 1040
CATEGORIES:Gruppen
GEO:48.1961598;16.3617969
X-APPLE-STRUCTURED-LOCATION;VALUE=URI;X-ADDRESS=Gugg Heumühlgasse 14 Wien 1040;X-APPLE-RADIUS=500;X-TITLE=Heumühlgasse 14:geo:16.3617969,48.1961598
END:VEVENT
BEGIN:VEVENT
DTSTART;TZID=Europe/Vienna:20220719T180000
DTEND;TZID=Europe/Vienna:20220720T000000
DTSTAMP:20260420T231818
CREATED:20210528T110055Z
LAST-MODIFIED:20221117T111442Z
UID:89022-1658253600-1658275200@archiv.hosiwien.at
SUMMARY:50+ Prime Timers
DESCRIPTION:Die 50+ Prime Timers sind eine Gruppe speziell für Menschen über 50 Jahren.\nDu suchst Anschluss oder möchtest dich in der gemütlichen Atmosphäre des Guggs mit anderen austauschen?\nDann komm‘ doch einfach zum Treffen der Prime Timers\, die sich jeden 3. Dienstag im Monat ab 18 Uhr im Gugg treffen. \nDas Treffen findet im Barbereich statt. \nHINWEIS: Das umfangreiche Serviceangebot der HOSI Wien wird durch ehrenamtliches Engagement erbracht. Wie du die wichtige Arbeit des Vereins durch Spende oder Mitgliedschaft unterstützen kannst\, erfährst du unter archiv.hosiwien.at/mitgliedschaft.
URL:https://archiv.hosiwien.at/event/50-prime-timers-31/2022-07-19/
LOCATION:Gugg\, Heumühlgasse 14\, Wien\, 1040
CATEGORIES:Gruppen
ATTACH;FMTTYPE=image/jpeg:https://archiv.hosiwien.at/img/50+.jpg
GEO:48.1961598;16.3617969
X-APPLE-STRUCTURED-LOCATION;VALUE=URI;X-ADDRESS=Gugg Heumühlgasse 14 Wien 1040;X-APPLE-RADIUS=500;X-TITLE=Heumühlgasse 14:geo:16.3617969,48.1961598
END:VEVENT
BEGIN:VEVENT
DTSTART;TZID=Europe/Vienna:20220723T140000
DTEND;TZID=Europe/Vienna:20220723T170000
DTSTAMP:20260420T231818
CREATED:20220715T164355Z
LAST-MODIFIED:20220720T141906Z
UID:92488-1658584800-1658595600@archiv.hosiwien.at
SUMMARY:FLINTA* only: Selbstverteidigungs-Workshop mit Krav Maga
DESCRIPTION:Nachdem leider auch der Pride Month dieses Jahr deutlich gezeigt hat\, dass queerfeindliche Angriffe Teil unserer Realität sind\, soll dieser Kurs Werkzeuge aus dem KRAV MAGA vermitteln\, um potentielle Übergriffe zu stoppen.\nMartina Schröder wird uns zeigen\, dass wir auch körperlichen Angriffen nicht schutzlos ausgeliefert sind! \nMitzunehmen:\nGetränke und eine Kleinigkeit zum Essen\, Sportkleidung und – falls vorhanden – eine Schutzausrüstung für Kampfsport \nWichtig: Begrenzte Teilnehmer*innenanzahl\, bitte um schriftliche Voranmeldung unter alena.fuerlinger@archiv.hosiwien.at oder an +43 660 2166605 bis spätestens 21. Juli! \nDie beiden Workshops sind ein Schnuppern ins Krav Maga und bei genug Interesse organisieren wir ab Herbst gerne Follow-up-Trainings auf einer regelmäßigen Basis.\nAlso lasst es uns gerne wissen\, falls ihr Interesse aber an den beiden Tagen keine Zeit habt.
URL:https://archiv.hosiwien.at/event/flinta-only-selbstverteidigungs-workshop-mit-krav-maga/
LOCATION:Gugg\, Heumühlgasse 14\, Wien\, 1040
CATEGORIES:Workshop
ATTACH;FMTTYPE=image/jpeg:https://archiv.hosiwien.at/img/image/2022/FLINTA-Selbstverteidigungskurs.jpeg
GEO:48.1961598;16.3617969
X-APPLE-STRUCTURED-LOCATION;VALUE=URI;X-ADDRESS=Gugg Heumühlgasse 14 Wien 1040;X-APPLE-RADIUS=500;X-TITLE=Heumühlgasse 14:geo:16.3617969,48.1961598
END:VEVENT
BEGIN:VEVENT
DTSTART;TZID=Europe/Vienna:20220724T140000
DTEND;TZID=Europe/Vienna:20220724T170000
DTSTAMP:20260420T231818
CREATED:20220715T164718Z
LAST-MODIFIED:20220720T141543Z
UID:92490-1658671200-1658682000@archiv.hosiwien.at
SUMMARY:Selbstverteidigungs-Workshop mit Krav Maga
DESCRIPTION:Nachdem leider auch der Pride Month dieses Jahr deutlich gezeigt hat\, dass queerfeindliche Angriffe Teil unserer Realität sind\, soll dieser Kurs Werkzeuge aus dem KRAV MAGA vermitteln\, um potentielle Übergriffe zu stoppen.\nMartina Schröder wird uns zeigen\, dass wir auch körperlichen Angriffen nicht schutzlos ausgeliefert sind! \nMitzunehmen:\nGetränke und eine Kleinigkeit zum Essen\, Sportkleidung und – falls vorhanden – eine Schutzausrüstung für Kampfsport \nWichtig: Begrenzte Teilnehmer*innenanzahl\, bitte um schriftliche Voranmeldung unter alena.fuerlinger@archiv.hosiwien.at oder an +43 660 2166605 bis spätestens 21. Juli! \nDie beiden Workshops sind ein Schnuppern ins Krav Maga und bei genug Interesse organisieren wir ab Herbst gerne Follow-up-Trainings auf einer regelmäßigen Basis.\nAlso lasst es uns gerne wissen\, falls ihr Interesse aber an den beiden Tagen keine Zeit habt.
URL:https://archiv.hosiwien.at/event/selbstverteidigungs-workshop-mit-krav-maga/
LOCATION:Gugg\, Heumühlgasse 14\, Wien\, 1040
CATEGORIES:Workshop
ATTACH;FMTTYPE=image/jpeg:https://archiv.hosiwien.at/img/image/2022/Selbstverteidigungskurs.jpeg
GEO:48.1961598;16.3617969
X-APPLE-STRUCTURED-LOCATION;VALUE=URI;X-ADDRESS=Gugg Heumühlgasse 14 Wien 1040;X-APPLE-RADIUS=500;X-TITLE=Heumühlgasse 14:geo:16.3617969,48.1961598
END:VEVENT
BEGIN:VEVENT
DTSTART;TZID=Europe/Vienna:20220724T190000
DTEND;TZID=Europe/Vienna:20220724T203000
DTSTAMP:20260420T231818
CREATED:20220620T094940Z
LAST-MODIFIED:20220620T094940Z
UID:92405-1658689200-1658694600@archiv.hosiwien.at
SUMMARY:Queer-Yoga
DESCRIPTION:Warum Queer-Yoga? Dafür gibt es so viele Gründe wie Farben im Regenbogen. Gemeinsam im Hier und Jetzt ankommen. Die Dinge\, deine Gefühle\, deinen Körper\, so anzunehmen\, wie sie sind. Achtsam mit sich und dem Umfeld umgehen. Die Abwehrkräfte stärken\, gerade in diesen Zeiten so wichtig. Tief einatmen\, tief ausatmen. Den Körper spüren\, alle Muskeln einsetzen vom kleinsten zum größten. Die Verbundenheit untereinander in einer Gruppe erleben. \nMatías ist unser Yogi\, der uns auf eine Reise durch die Welt von Hatha und Vinyasa Yoga mitnimmt. Du kannst mit diesen Begriffen nichts anfangen? Kein Problem\, er holt dich als Anfänger*in dort ab wo du gerade bist. Leitet an\, wo nötig\, gibt Tipps für leichtere Varianten und achtet bei jedem/r Teilnehmer*in auf die richtige Ausführung. \nIn jeder Yoga-Einheit werden deine Chakras\, Muskeln und Sehnen durch Dreh-\, Beuge- und Dehnübungen der verschiedenen Asanas aktiviert\, vom Kronen Chakra bis hin zu den Zehenspitzen. \nJede*r ist willkommen\, das Angebot richtet sich an alle LGBTIQs und ihre Freund*innen. \nBitte kommt in bequemer\, lockerer Kleidung und bringt eine eigene Yogamatte mit. \nEintritt: freie Spende \nDatum und Uhrzeit: jeden Sonntag\, 19:00 – 20:30. Achtung: eventuelle Terminänderungen sind möglich\, daher bitte immer vorher den online-Kalender und/oder die Facebook-Seite checken! \nWir beginnen pünktlich und öffnen bereits um 18:30 für euch\, damit ihr euch umziehen könnt. \nOrt: Das Gugg – Heumühlgasse 14\, 1040 Wien \nKontakt: yoga@archiv.hosiwien.at
URL:https://archiv.hosiwien.at/event/queer-yoga-6/2022-07-24/
LOCATION:Gugg\, Heumühlgasse 14\, Wien\, 1040
CATEGORIES:Gruppen
GEO:48.1961598;16.3617969
X-APPLE-STRUCTURED-LOCATION;VALUE=URI;X-ADDRESS=Gugg Heumühlgasse 14 Wien 1040;X-APPLE-RADIUS=500;X-TITLE=Heumühlgasse 14:geo:16.3617969,48.1961598
END:VEVENT
BEGIN:VEVENT
DTSTART;TZID=Europe/Vienna:20220727T210000
DTEND;TZID=Europe/Vienna:20220728T000000
DTSTAMP:20260420T231818
CREATED:20220504T173142Z
LAST-MODIFIED:20220926T124304Z
UID:92286-1658955600-1658966400@archiv.hosiwien.at
SUMMARY:LesBiFem presents: Karaoke-Abend
DESCRIPTION:Es ist endlich wieder soweit: Die LesBiFemGruppe veranstaltet den nächsten Karaoke-Abend!🎤\nBringt eure lesbischsten Songs und eure queersten Freundinnen mit und seid dabei\, ab 21 Uhr wird gesungen!\nGesungen werden kann alles\, was Youtube-Karaoke hergibt. \nWir freuen uns auf euch!
URL:https://archiv.hosiwien.at/event/lesbifem-presents-karaoke-abend/2022-07-27/
LOCATION:Gugg\, Heumühlgasse 14\, Wien\, 1040
CATEGORIES:Gruppen
ATTACH;FMTTYPE=image/jpeg:https://archiv.hosiwien.at/img/image/2022/278796289_10159883136226420_4579774430384432002_n.jpg
GEO:48.1961598;16.3617969
X-APPLE-STRUCTURED-LOCATION;VALUE=URI;X-ADDRESS=Gugg Heumühlgasse 14 Wien 1040;X-APPLE-RADIUS=500;X-TITLE=Heumühlgasse 14:geo:16.3617969,48.1961598
END:VEVENT
BEGIN:VEVENT
DTSTART;TZID=Europe/Vienna:20220730T200000
DTEND;TZID=Europe/Vienna:20220731T010000
DTSTAMP:20260420T231818
CREATED:20220524T082217Z
LAST-MODIFIED:20220524T082538Z
UID:92238-1659211200-1659229200@archiv.hosiwien.at
SUMMARY:Resis.danse Tanzabend
DESCRIPTION:Eine Übungsmöglichkeit für alle tanzbegeisterten Frauen! Einfach vorbeikommen und mittanzen. Immer nach den Resis.danse-Tanzworkshops in der gemütlichen Atmosphäre des Gugg ab 20 Uhr. \nGenauere Informationen auf der eigenen Website: www.resisdanse.at. \nAlle Tanzabende sind bei freiem Eintritt!
URL:https://archiv.hosiwien.at/event/resis-danse-tanzabend-3/
LOCATION:Gugg\, Heumühlgasse 14\, Wien\, 1040
CATEGORIES:Tanzabende
ATTACH;FMTTYPE=image/png:https://archiv.hosiwien.at/img/image/2016/resisdanse-logo-trans.png
ORGANIZER;CN="Resis.danse%20-%20FrauenTanzClub":MAILTO:tanzclub@resisdanse.at
GEO:48.1961598;16.3617969
X-APPLE-STRUCTURED-LOCATION;VALUE=URI;X-ADDRESS=Gugg Heumühlgasse 14 Wien 1040;X-APPLE-RADIUS=500;X-TITLE=Heumühlgasse 14:geo:16.3617969,48.1961598
END:VEVENT
BEGIN:VEVENT
DTSTART;TZID=Europe/Vienna:20220731T140000
DTEND;TZID=Europe/Vienna:20220731T183000
DTSTAMP:20260420T231818
CREATED:20220708T150326Z
LAST-MODIFIED:20220708T153738Z
UID:92470-1659276000-1659292200@archiv.hosiwien.at
SUMMARY:Ace Aro Community Meeting und Spielenachmittag
DESCRIPTION:Die AceAroWien lädt zum ersten a-spec Spielenachmittag\, für alle auf dem asexuellen und aromantischen Spektrum sowie deren Freund*innen.\nEs werden Brett- und Kartenspiele zur Verfügung gestellt\, aber ihr könnt auch eure eigenen Lieblingsspiele mitbringen\, oder einfach nur zum Chillen und Quatschen vorbei kommen!
URL:https://archiv.hosiwien.at/event/ace-aro-community-meeting-und-spielenachmittag/
LOCATION:Gugg\, Heumühlgasse 14\, Wien\, 1040
CATEGORIES:Bar service,Café-Betrieb,Gruppen
ATTACH;FMTTYPE=image/jpeg:https://archiv.hosiwien.at/img/image/2022/AceAro-Banner.jpeg
GEO:48.1961598;16.3617969
X-APPLE-STRUCTURED-LOCATION;VALUE=URI;X-ADDRESS=Gugg Heumühlgasse 14 Wien 1040;X-APPLE-RADIUS=500;X-TITLE=Heumühlgasse 14:geo:16.3617969,48.1961598
END:VEVENT
BEGIN:VEVENT
DTSTART;TZID=Europe/Vienna:20220731T190000
DTEND;TZID=Europe/Vienna:20220731T203000
DTSTAMP:20260420T231818
CREATED:20220620T094940Z
LAST-MODIFIED:20220620T094940Z
UID:92406-1659294000-1659299400@archiv.hosiwien.at
SUMMARY:Queer-Yoga
DESCRIPTION:Warum Queer-Yoga? Dafür gibt es so viele Gründe wie Farben im Regenbogen. Gemeinsam im Hier und Jetzt ankommen. Die Dinge\, deine Gefühle\, deinen Körper\, so anzunehmen\, wie sie sind. Achtsam mit sich und dem Umfeld umgehen. Die Abwehrkräfte stärken\, gerade in diesen Zeiten so wichtig. Tief einatmen\, tief ausatmen. Den Körper spüren\, alle Muskeln einsetzen vom kleinsten zum größten. Die Verbundenheit untereinander in einer Gruppe erleben. \nMatías ist unser Yogi\, der uns auf eine Reise durch die Welt von Hatha und Vinyasa Yoga mitnimmt. Du kannst mit diesen Begriffen nichts anfangen? Kein Problem\, er holt dich als Anfänger*in dort ab wo du gerade bist. Leitet an\, wo nötig\, gibt Tipps für leichtere Varianten und achtet bei jedem/r Teilnehmer*in auf die richtige Ausführung. \nIn jeder Yoga-Einheit werden deine Chakras\, Muskeln und Sehnen durch Dreh-\, Beuge- und Dehnübungen der verschiedenen Asanas aktiviert\, vom Kronen Chakra bis hin zu den Zehenspitzen. \nJede*r ist willkommen\, das Angebot richtet sich an alle LGBTIQs und ihre Freund*innen. \nBitte kommt in bequemer\, lockerer Kleidung und bringt eine eigene Yogamatte mit. \nEintritt: freie Spende \nDatum und Uhrzeit: jeden Sonntag\, 19:00 – 20:30. Achtung: eventuelle Terminänderungen sind möglich\, daher bitte immer vorher den online-Kalender und/oder die Facebook-Seite checken! \nWir beginnen pünktlich und öffnen bereits um 18:30 für euch\, damit ihr euch umziehen könnt. \nOrt: Das Gugg – Heumühlgasse 14\, 1040 Wien \nKontakt: yoga@archiv.hosiwien.at
URL:https://archiv.hosiwien.at/event/queer-yoga-6/2022-07-31/
LOCATION:Gugg\, Heumühlgasse 14\, Wien\, 1040
CATEGORIES:Gruppen
GEO:48.1961598;16.3617969
X-APPLE-STRUCTURED-LOCATION;VALUE=URI;X-ADDRESS=Gugg Heumühlgasse 14 Wien 1040;X-APPLE-RADIUS=500;X-TITLE=Heumühlgasse 14:geo:16.3617969,48.1961598
END:VEVENT
END:VCALENDAR