BEGIN:VCALENDAR
VERSION:2.0
PRODID:-//Homosexuelle Initiative (HOSI) Wien - ECPv5.16.4//NONSGML v1.0//EN
CALSCALE:GREGORIAN
METHOD:PUBLISH
X-WR-CALNAME:Homosexuelle Initiative (HOSI) Wien
X-ORIGINAL-URL:https://archiv.hosiwien.at
X-WR-CALDESC:Events for Homosexuelle Initiative (HOSI) Wien
REFRESH-INTERVAL;VALUE=DURATION:PT1H
X-Robots-Tag:noindex
X-PUBLISHED-TTL:PT1H
BEGIN:VTIMEZONE
TZID:Europe/Vienna
BEGIN:DAYLIGHT
TZOFFSETFROM:+0100
TZOFFSETTO:+0200
TZNAME:CEST
DTSTART:20230326T010000
END:DAYLIGHT
BEGIN:STANDARD
TZOFFSETFROM:+0200
TZOFFSETTO:+0100
TZNAME:CET
DTSTART:20231029T010000
END:STANDARD
END:VTIMEZONE
BEGIN:VEVENT
DTSTART;TZID=Europe/Vienna:20230705T190000
DTEND;TZID=Europe/Vienna:20230706T000000
DTSTAMP:20260422T022223
CREATED:20230220T131628Z
LAST-MODIFIED:20230623T105916Z
UID:94443-1688583600-1688601600@archiv.hosiwien.at
SUMMARY:LesBiFem-Abend
DESCRIPTION:Lesbisch\, bi\, pan\, queer\, feministisch – diese Schlagwörter stehen jeden Mittwoch im Mittelpunkt\, wenn die LesBiFem-Gruppe sich ab 19 Uhr im Gugg trifft. \nDie 1981 in der HOSI Wien gegründete Gruppe (bis 2021: Lesben(*)gruppe) trifft sich seit jeher mittwochs und heißt alle willkommen\, die sich als lesbische\, bisexuelle und queere Frauen verstehen. \nAuch Menschen abseits der binären Geschlechterwelt\, die sich als queer und auf dem weiblichen Spektrum identifizieren\, sind herzlich willkommen! \nEs gibt keine Konsumationspflicht. \nMehr zur LesBiFem-Gruppe findest du hier: https://archiv.hosiwien.at/gruppen-angebot/lesbengruppe/\nund wenn du dich genauer über unsere Gruppe informieren möchtest\, melde dich gern bei Lisa. Oder noch besser: Komm einfach mal vorbei! \nlisa.hermanns@archiv.hosiwien.at \nWir freuen uns auf dich!
URL:https://archiv.hosiwien.at/event/lesbifem-abend/2023-07-05/
LOCATION:Gugg\, Heumühlgasse 14\, Wien\, 1040
CATEGORIES:Café-Betrieb,Gruppen
ATTACH;FMTTYPE=image/png:https://archiv.hosiwien.at/img/image/2022/LesBiFem.png
GEO:48.1961598;16.3617969
X-APPLE-STRUCTURED-LOCATION;VALUE=URI;X-ADDRESS=Gugg Heumühlgasse 14 Wien 1040;X-APPLE-RADIUS=500;X-TITLE=Heumühlgasse 14:geo:16.3617969,48.1961598
END:VEVENT
BEGIN:VEVENT
DTSTART;TZID=Europe/Vienna:20230708T140000
DTEND;TZID=Europe/Vienna:20230708T180000
DTSTAMP:20260422T022223
CREATED:20230329T134112Z
LAST-MODIFIED:20230329T134112Z
UID:94676-1688824800-1688839200@archiv.hosiwien.at
SUMMARY:AceAro Spielenachmittag
DESCRIPTION:AceAroWien lädt euch ganz herzlich zum Spielenachmittag im Gugg ein.\nAb 14:00 könnt ihr euch wieder zu Brett- und Kartenspielen zusammenfinden und austauschen. \nWie immer seid ihr auch herzlich willkommen eure eignen Spiele mitzubringen. \nWir freuen uns auf neue Gesichter und alte Freund*innen.
URL:https://archiv.hosiwien.at/event/acearo-spielenachmittag/2023-07-08/
LOCATION:Gugg\, Heumühlgasse 14\, Wien\, 1040
CATEGORIES:Gruppen
ATTACH;FMTTYPE=image/jpeg:https://archiv.hosiwien.at/img/image/2023/Ace-Aro-Spielenachmittag.jpg
GEO:48.1961598;16.3617969
X-APPLE-STRUCTURED-LOCATION;VALUE=URI;X-ADDRESS=Gugg Heumühlgasse 14 Wien 1040;X-APPLE-RADIUS=500;X-TITLE=Heumühlgasse 14:geo:16.3617969,48.1961598
END:VEVENT
BEGIN:VEVENT
DTSTART;TZID=Europe/Vienna:20230709T183000
DTEND;TZID=Europe/Vienna:20230709T200000
DTSTAMP:20260422T022223
CREATED:20230511T062559Z
LAST-MODIFIED:20230612T212856Z
UID:95156-1688927400-1688932800@archiv.hosiwien.at
SUMMARY:Queer-Yoga
DESCRIPTION:Warum Queer-Yoga? Dafür gibt es so viele Gründe wie Farben im Regenbogen. Gemeinsam im Hier und Jetzt ankommen. Die Dinge\, deine Gefühle\, deinen Körper\, so anzunehmen\, wie sie sind. Achtsam mit sich und dem Umfeld umgehen. Die Abwehrkräfte stärken\, immer so wichtig. Tief einatmen\, tief ausatmen. Den Körper spüren\, alle Muskeln einsetzen vom kleinsten zum größten. Die Verbundenheit untereinander in einer Gruppe erleben. \nMatías ist unser Yogi\, der uns auf eine Reise durch die Welt von Hatha und Vinyasa Yoga mitnimmt. Du kannst mit diesen Begriffen nichts anfangen? Kein Problem\, er holt dich als Anfänger*in dort ab wo du gerade bist. Leitet an\, wo nötig\, gibt Tipps für leichtere Varianten und achtet bei jedem/r Teilnehmer*in auf die richtige Ausführung. \nIn jeder Yoga-Einheit werden deine Chakras\, Muskeln und Sehnen durch Dreh-\, Beuge- und Dehnübungen der verschiedenen Asanas aktiviert\, vom Kronen Chakra bis hin zu den Zehenspitzen. \nEin Safe Space in der Queer-Community\, jede*r ist willkommen: das Angebot richtet sich an alle LGBTIQ*s und ihre Freund*innen. \nBitte kommt in bequemer\, lockerer Kleidung und bringt eine eigene Yogamatte mit. Es gibt vor Ort eine begrenzte Anzahl von Yogamatten zur Verfügung.\n \nDatum und Uhrzeit: sonntags von 18:30 – 20:00. Achtung: eventuelle Termin-oder Uhrzeit-Änderungen sind möglich\, daher bitte immer vorher den online-Kalender und/oder die Facebook-Seite checken! \nWir beginnen pünktlich und öffnen bereits um 18:00 für euch\, damit ihr euch umziehen könnt. \nOrt: Das Gugg – Heumühlgasse 14\, 1040 Wien \nEintritt: freie Spende \nKontakt: yoga@archiv.hosiwien.at
URL:https://archiv.hosiwien.at/event/queer-yoga-2023-07_08/2023-07-09/
LOCATION:Gugg\, Heumühlgasse 14\, Wien\, 1040
CATEGORIES:Gruppen
GEO:48.1961598;16.3617969
X-APPLE-STRUCTURED-LOCATION;VALUE=URI;X-ADDRESS=Gugg Heumühlgasse 14 Wien 1040;X-APPLE-RADIUS=500;X-TITLE=Heumühlgasse 14:geo:16.3617969,48.1961598
END:VEVENT
BEGIN:VEVENT
DTSTART;TZID=Europe/Vienna:20230712T190000
DTEND;TZID=Europe/Vienna:20230713T000000
DTSTAMP:20260422T022223
CREATED:20230220T131628Z
LAST-MODIFIED:20230623T105916Z
UID:94444-1689188400-1689206400@archiv.hosiwien.at
SUMMARY:LesBiFem-Abend
DESCRIPTION:Lesbisch\, bi\, pan\, queer\, feministisch – diese Schlagwörter stehen jeden Mittwoch im Mittelpunkt\, wenn die LesBiFem-Gruppe sich ab 19 Uhr im Gugg trifft. \nDie 1981 in der HOSI Wien gegründete Gruppe (bis 2021: Lesben(*)gruppe) trifft sich seit jeher mittwochs und heißt alle willkommen\, die sich als lesbische\, bisexuelle und queere Frauen verstehen. \nAuch Menschen abseits der binären Geschlechterwelt\, die sich als queer und auf dem weiblichen Spektrum identifizieren\, sind herzlich willkommen! \nEs gibt keine Konsumationspflicht. \nMehr zur LesBiFem-Gruppe findest du hier: https://archiv.hosiwien.at/gruppen-angebot/lesbengruppe/\nund wenn du dich genauer über unsere Gruppe informieren möchtest\, melde dich gern bei Lisa. Oder noch besser: Komm einfach mal vorbei! \nlisa.hermanns@archiv.hosiwien.at \nWir freuen uns auf dich!
URL:https://archiv.hosiwien.at/event/lesbifem-abend/2023-07-12/
LOCATION:Gugg\, Heumühlgasse 14\, Wien\, 1040
CATEGORIES:Café-Betrieb,Gruppen
ATTACH;FMTTYPE=image/png:https://archiv.hosiwien.at/img/image/2022/LesBiFem.png
GEO:48.1961598;16.3617969
X-APPLE-STRUCTURED-LOCATION;VALUE=URI;X-ADDRESS=Gugg Heumühlgasse 14 Wien 1040;X-APPLE-RADIUS=500;X-TITLE=Heumühlgasse 14:geo:16.3617969,48.1961598
END:VEVENT
BEGIN:VEVENT
DTSTART;TZID=Europe/Vienna:20230714T200000
DTEND;TZID=Europe/Vienna:20230715T020000
DTSTAMP:20260422T022223
CREATED:20230707T075106Z
LAST-MODIFIED:20230711T084213Z
UID:95685-1689364800-1689386400@archiv.hosiwien.at
SUMMARY:Regenbogenbogen presented by HOSI Wien
DESCRIPTION:Am 14. Juli ist es wieder soweit: Regenbogenbogen presented by HOSI Wien ab 20 Uhr!🌈\nUnsere legendäre Regenbogenbogen-Party ist DER Place-to-be\, wenn ihr die HOSI unterstützen und bei günstigen Getränken und mit den besten Pride Hits mit euren liebsten Queers shaken und chillen wollt. \nHier sind die wichtigsten Infos im Überblick: \nDatum: Freitag 14. Juli\nUhrzeit: Ab 20:00 Uhr\nAdresse: U-Bahn Bogen 36\, 1080 Wien \nEs wird großartig ❤️ Let’s party
URL:https://archiv.hosiwien.at/event/regenbogenbogen-presented-by-hosi-wien/
LOCATION:Roter Bogen\, U-Bahn Bogen 36\, Wien\, 1080\, Österreich
CATEGORIES:Party
ATTACH;FMTTYPE=image/jpeg:https://archiv.hosiwien.at/img/image/2023/Regenbogenbogen-14.07-scaled.jpg
ORGANIZER;CN="HOSI%20Wien":MAILTO:office@archiv.hosiwien.at
END:VEVENT
BEGIN:VEVENT
DTSTART;TZID=Europe/Vienna:20230716T183000
DTEND;TZID=Europe/Vienna:20230716T200000
DTSTAMP:20260422T022223
CREATED:20230511T062559Z
LAST-MODIFIED:20230612T212857Z
UID:95159-1689532200-1689537600@archiv.hosiwien.at
SUMMARY:Queer-Yoga
DESCRIPTION:Warum Queer-Yoga? Dafür gibt es so viele Gründe wie Farben im Regenbogen. Gemeinsam im Hier und Jetzt ankommen. Die Dinge\, deine Gefühle\, deinen Körper\, so anzunehmen\, wie sie sind. Achtsam mit sich und dem Umfeld umgehen. Die Abwehrkräfte stärken\, immer so wichtig. Tief einatmen\, tief ausatmen. Den Körper spüren\, alle Muskeln einsetzen vom kleinsten zum größten. Die Verbundenheit untereinander in einer Gruppe erleben. \nMatías ist unser Yogi\, der uns auf eine Reise durch die Welt von Hatha und Vinyasa Yoga mitnimmt. Du kannst mit diesen Begriffen nichts anfangen? Kein Problem\, er holt dich als Anfänger*in dort ab wo du gerade bist. Leitet an\, wo nötig\, gibt Tipps für leichtere Varianten und achtet bei jedem/r Teilnehmer*in auf die richtige Ausführung. \nIn jeder Yoga-Einheit werden deine Chakras\, Muskeln und Sehnen durch Dreh-\, Beuge- und Dehnübungen der verschiedenen Asanas aktiviert\, vom Kronen Chakra bis hin zu den Zehenspitzen. \nEin Safe Space in der Queer-Community\, jede*r ist willkommen: das Angebot richtet sich an alle LGBTIQ*s und ihre Freund*innen. \nBitte kommt in bequemer\, lockerer Kleidung und bringt eine eigene Yogamatte mit. Es gibt vor Ort eine begrenzte Anzahl von Yogamatten zur Verfügung.\n \nDatum und Uhrzeit: sonntags von 18:30 – 20:00. Achtung: eventuelle Termin-oder Uhrzeit-Änderungen sind möglich\, daher bitte immer vorher den online-Kalender und/oder die Facebook-Seite checken! \nWir beginnen pünktlich und öffnen bereits um 18:00 für euch\, damit ihr euch umziehen könnt. \nOrt: Das Gugg – Heumühlgasse 14\, 1040 Wien \nEintritt: freie Spende \nKontakt: yoga@archiv.hosiwien.at
URL:https://archiv.hosiwien.at/event/queer-yoga-2023-07_08/2023-07-16/
LOCATION:Gugg\, Heumühlgasse 14\, Wien\, 1040
CATEGORIES:Gruppen
GEO:48.1961598;16.3617969
X-APPLE-STRUCTURED-LOCATION;VALUE=URI;X-ADDRESS=Gugg Heumühlgasse 14 Wien 1040;X-APPLE-RADIUS=500;X-TITLE=Heumühlgasse 14:geo:16.3617969,48.1961598
END:VEVENT
BEGIN:VEVENT
DTSTART;TZID=Europe/Vienna:20230718T190000
DTEND;TZID=Europe/Vienna:20230719T000000
DTSTAMP:20260422T022223
CREATED:20210528T110055Z
LAST-MODIFIED:20231114T110103Z
UID:93920-1689706800-1689724800@archiv.hosiwien.at
SUMMARY:50+ Prime Timers
DESCRIPTION:Die 50+ Prime Timers sind eine Gruppe speziell für Menschen über 50 Jahren.\nDu suchst Anschluss oder möchtest dich in der gemütlichen Atmosphäre des Guggs mit anderen austauschen?\nDann komm‘ doch einfach zum Treffen der Prime Timers\, die sich jeden 3. Dienstag im Monat ab 19 Uhr im Gugg treffen. \nDas Treffen findet im Barbereich statt. \nHINWEIS: Das umfangreiche Serviceangebot der HOSI Wien wird durch ehrenamtliches Engagement erbracht. Wie du die wichtige Arbeit des Vereins durch Spende oder Mitgliedschaft unterstützen kannst\, erfährst du unter archiv.hosiwien.at/mitgliedschaft.
URL:https://archiv.hosiwien.at/event/50-prime-timers-31-2022-12-20/2023-07-18/
LOCATION:Gugg\, Heumühlgasse 14\, Wien\, 1040
CATEGORIES:Gruppen
ATTACH;FMTTYPE=image/jpeg:https://archiv.hosiwien.at/img/50+.jpg
ORGANIZER;CN="HOSI%20Wien":MAILTO:office@archiv.hosiwien.at
GEO:48.1961598;16.3617969
X-APPLE-STRUCTURED-LOCATION;VALUE=URI;X-ADDRESS=Gugg Heumühlgasse 14 Wien 1040;X-APPLE-RADIUS=500;X-TITLE=Heumühlgasse 14:geo:16.3617969,48.1961598
END:VEVENT
BEGIN:VEVENT
DTSTART;TZID=Europe/Vienna:20230719T190000
DTEND;TZID=Europe/Vienna:20230720T000000
DTSTAMP:20260422T022223
CREATED:20230220T131628Z
LAST-MODIFIED:20230623T105916Z
UID:94445-1689793200-1689811200@archiv.hosiwien.at
SUMMARY:LesBiFem-Abend
DESCRIPTION:Lesbisch\, bi\, pan\, queer\, feministisch – diese Schlagwörter stehen jeden Mittwoch im Mittelpunkt\, wenn die LesBiFem-Gruppe sich ab 19 Uhr im Gugg trifft. \nDie 1981 in der HOSI Wien gegründete Gruppe (bis 2021: Lesben(*)gruppe) trifft sich seit jeher mittwochs und heißt alle willkommen\, die sich als lesbische\, bisexuelle und queere Frauen verstehen. \nAuch Menschen abseits der binären Geschlechterwelt\, die sich als queer und auf dem weiblichen Spektrum identifizieren\, sind herzlich willkommen! \nEs gibt keine Konsumationspflicht. \nMehr zur LesBiFem-Gruppe findest du hier: https://archiv.hosiwien.at/gruppen-angebot/lesbengruppe/\nund wenn du dich genauer über unsere Gruppe informieren möchtest\, melde dich gern bei Lisa. Oder noch besser: Komm einfach mal vorbei! \nlisa.hermanns@archiv.hosiwien.at \nWir freuen uns auf dich!
URL:https://archiv.hosiwien.at/event/lesbifem-abend/2023-07-19/
LOCATION:Gugg\, Heumühlgasse 14\, Wien\, 1040
CATEGORIES:Café-Betrieb,Gruppen
ATTACH;FMTTYPE=image/png:https://archiv.hosiwien.at/img/image/2022/LesBiFem.png
GEO:48.1961598;16.3617969
X-APPLE-STRUCTURED-LOCATION;VALUE=URI;X-ADDRESS=Gugg Heumühlgasse 14 Wien 1040;X-APPLE-RADIUS=500;X-TITLE=Heumühlgasse 14:geo:16.3617969,48.1961598
END:VEVENT
BEGIN:VEVENT
DTSTART;TZID=Europe/Vienna:20230720T193000
DTEND;TZID=Europe/Vienna:20230720T220000
DTSTAMP:20260422T022223
CREATED:20230221T130032Z
LAST-MODIFIED:20230726T130454Z
UID:94497-1689881400-1689890400@archiv.hosiwien.at
SUMMARY:QYVIE-Quiz
DESCRIPTION:Jeden 3. Donnerstag im Monat findet das QYVIE-Quiz statt. \nKommt alle zahlreich\, habt Spaß bei einem gemeinsamen Quiz-Abend und gewinnt tolle Preise! \nAnmeldung ist keine notwendig – einfach vorbei kommen und Spaß haben. \nWir freuen uns auf euch! \n  \nDas Angebot richtet sich an alle queeren Menschen unter 29 Jahren.
URL:https://archiv.hosiwien.at/event/qyvie-quiz-2/2023-07-20/
LOCATION:Gugg\, Heumühlgasse 14\, Wien\, 1040
CATEGORIES:Café-Betrieb,Gruppen
ATTACH;FMTTYPE=image/png:https://archiv.hosiwien.at/img/image/2023/QYVIE-Quiz.png
ORGANIZER;CN="QYVIE":MAILTO:jugend@archiv.hosiwien.at
GEO:48.1961598;16.3617969
X-APPLE-STRUCTURED-LOCATION;VALUE=URI;X-ADDRESS=Gugg Heumühlgasse 14 Wien 1040;X-APPLE-RADIUS=500;X-TITLE=Heumühlgasse 14:geo:16.3617969,48.1961598
END:VEVENT
BEGIN:VEVENT
DTSTART;TZID=Europe/Vienna:20230722T200000
DTEND;TZID=Europe/Vienna:20230723T010000
DTSTAMP:20260422T022223
CREATED:20230524T170756Z
LAST-MODIFIED:20230525T103116Z
UID:95232-1690056000-1690074000@archiv.hosiwien.at
SUMMARY:Resis.danse Sommertanzabend
DESCRIPTION:Heiße Rhythmen und coole Drinks.
URL:https://archiv.hosiwien.at/event/resis-danse-sommertanzabend-8/2023-07-22/
LOCATION:Gugg\, Heumühlgasse 14\, Wien\, 1040
CATEGORIES:Tanzabende
ATTACH;FMTTYPE=image/png:https://archiv.hosiwien.at/img/image/2018/tranzclub_resisdanse_black.png
GEO:48.1961598;16.3617969
X-APPLE-STRUCTURED-LOCATION;VALUE=URI;X-ADDRESS=Gugg Heumühlgasse 14 Wien 1040;X-APPLE-RADIUS=500;X-TITLE=Heumühlgasse 14:geo:16.3617969,48.1961598
END:VEVENT
BEGIN:VEVENT
DTSTART;TZID=Europe/Vienna:20230723T183000
DTEND;TZID=Europe/Vienna:20230723T200000
DTSTAMP:20260422T022223
CREATED:20230511T062559Z
LAST-MODIFIED:20230612T212857Z
UID:95160-1690137000-1690142400@archiv.hosiwien.at
SUMMARY:Queer-Yoga
DESCRIPTION:Warum Queer-Yoga? Dafür gibt es so viele Gründe wie Farben im Regenbogen. Gemeinsam im Hier und Jetzt ankommen. Die Dinge\, deine Gefühle\, deinen Körper\, so anzunehmen\, wie sie sind. Achtsam mit sich und dem Umfeld umgehen. Die Abwehrkräfte stärken\, immer so wichtig. Tief einatmen\, tief ausatmen. Den Körper spüren\, alle Muskeln einsetzen vom kleinsten zum größten. Die Verbundenheit untereinander in einer Gruppe erleben. \nMatías ist unser Yogi\, der uns auf eine Reise durch die Welt von Hatha und Vinyasa Yoga mitnimmt. Du kannst mit diesen Begriffen nichts anfangen? Kein Problem\, er holt dich als Anfänger*in dort ab wo du gerade bist. Leitet an\, wo nötig\, gibt Tipps für leichtere Varianten und achtet bei jedem/r Teilnehmer*in auf die richtige Ausführung. \nIn jeder Yoga-Einheit werden deine Chakras\, Muskeln und Sehnen durch Dreh-\, Beuge- und Dehnübungen der verschiedenen Asanas aktiviert\, vom Kronen Chakra bis hin zu den Zehenspitzen. \nEin Safe Space in der Queer-Community\, jede*r ist willkommen: das Angebot richtet sich an alle LGBTIQ*s und ihre Freund*innen. \nBitte kommt in bequemer\, lockerer Kleidung und bringt eine eigene Yogamatte mit. Es gibt vor Ort eine begrenzte Anzahl von Yogamatten zur Verfügung.\n \nDatum und Uhrzeit: sonntags von 18:30 – 20:00. Achtung: eventuelle Termin-oder Uhrzeit-Änderungen sind möglich\, daher bitte immer vorher den online-Kalender und/oder die Facebook-Seite checken! \nWir beginnen pünktlich und öffnen bereits um 18:00 für euch\, damit ihr euch umziehen könnt. \nOrt: Das Gugg – Heumühlgasse 14\, 1040 Wien \nEintritt: freie Spende \nKontakt: yoga@archiv.hosiwien.at
URL:https://archiv.hosiwien.at/event/queer-yoga-2023-07_08/2023-07-23/
LOCATION:Gugg\, Heumühlgasse 14\, Wien\, 1040
CATEGORIES:Gruppen
GEO:48.1961598;16.3617969
X-APPLE-STRUCTURED-LOCATION;VALUE=URI;X-ADDRESS=Gugg Heumühlgasse 14 Wien 1040;X-APPLE-RADIUS=500;X-TITLE=Heumühlgasse 14:geo:16.3617969,48.1961598
END:VEVENT
BEGIN:VEVENT
DTSTART;TZID=Europe/Vienna:20230726T190000
DTEND;TZID=Europe/Vienna:20230727T000000
DTSTAMP:20260422T022223
CREATED:20230220T131628Z
LAST-MODIFIED:20230623T105917Z
UID:94446-1690398000-1690416000@archiv.hosiwien.at
SUMMARY:LesBiFem-Abend
DESCRIPTION:Lesbisch\, bi\, pan\, queer\, feministisch – diese Schlagwörter stehen jeden Mittwoch im Mittelpunkt\, wenn die LesBiFem-Gruppe sich ab 19 Uhr im Gugg trifft. \nDie 1981 in der HOSI Wien gegründete Gruppe (bis 2021: Lesben(*)gruppe) trifft sich seit jeher mittwochs und heißt alle willkommen\, die sich als lesbische\, bisexuelle und queere Frauen verstehen. \nAuch Menschen abseits der binären Geschlechterwelt\, die sich als queer und auf dem weiblichen Spektrum identifizieren\, sind herzlich willkommen! \nEs gibt keine Konsumationspflicht. \nMehr zur LesBiFem-Gruppe findest du hier: https://archiv.hosiwien.at/gruppen-angebot/lesbengruppe/\nund wenn du dich genauer über unsere Gruppe informieren möchtest\, melde dich gern bei Lisa. Oder noch besser: Komm einfach mal vorbei! \nlisa.hermanns@archiv.hosiwien.at \nWir freuen uns auf dich!
URL:https://archiv.hosiwien.at/event/lesbifem-abend/2023-07-26/
LOCATION:Gugg\, Heumühlgasse 14\, Wien\, 1040
CATEGORIES:Café-Betrieb,Gruppen
ATTACH;FMTTYPE=image/png:https://archiv.hosiwien.at/img/image/2022/LesBiFem.png
GEO:48.1961598;16.3617969
X-APPLE-STRUCTURED-LOCATION;VALUE=URI;X-ADDRESS=Gugg Heumühlgasse 14 Wien 1040;X-APPLE-RADIUS=500;X-TITLE=Heumühlgasse 14:geo:16.3617969,48.1961598
END:VEVENT
BEGIN:VEVENT
DTSTART;TZID=Europe/Vienna:20230727T200000
DTEND;TZID=Europe/Vienna:20230727T230000
DTSTAMP:20260422T022223
CREATED:20230524T163446Z
LAST-MODIFIED:20230726T130137Z
UID:95223-1690488000-1690498800@archiv.hosiwien.at
SUMMARY:QYVIE Improtheater Workshop - ABGESAGT
DESCRIPTION:ABGESAGT!\nIm Juli fällt das Improtheater leider aus! \nLass den Impro-Funken überspringen beim QYVIE Jugendabend der HOSI! 🎭🎉\nBist du bereit für eine explosive Mischung aus Lachen\, Kreativität und improvisiertem Chaos? \nDann mach mit jeden letzten Donnerstag im Monat. \nWir spielen zusammen ein best of Improtheater. Übungen\, ganz ohne Druck oder Verpflichtungen.\nZusammen mit Jakob und Jo um 20 Uhr.
URL:https://archiv.hosiwien.at/event/qyvie-improtheater-workshop-2023-07-27/
LOCATION:Gugg\, Heumühlgasse 14\, Wien\, 1040
CATEGORIES:Workshop
ATTACH;FMTTYPE=image/jpeg:https://archiv.hosiwien.at/img/image/2023/Impro-QYVIE.jpg
GEO:48.1961598;16.3617969
X-APPLE-STRUCTURED-LOCATION;VALUE=URI;X-ADDRESS=Gugg Heumühlgasse 14 Wien 1040;X-APPLE-RADIUS=500;X-TITLE=Heumühlgasse 14:geo:16.3617969,48.1961598
END:VEVENT
BEGIN:VEVENT
DTSTART;TZID=Europe/Vienna:20230730T183000
DTEND;TZID=Europe/Vienna:20230730T200000
DTSTAMP:20260422T022223
CREATED:20230511T062559Z
LAST-MODIFIED:20230612T212857Z
UID:95161-1690741800-1690747200@archiv.hosiwien.at
SUMMARY:Queer-Yoga
DESCRIPTION:Warum Queer-Yoga? Dafür gibt es so viele Gründe wie Farben im Regenbogen. Gemeinsam im Hier und Jetzt ankommen. Die Dinge\, deine Gefühle\, deinen Körper\, so anzunehmen\, wie sie sind. Achtsam mit sich und dem Umfeld umgehen. Die Abwehrkräfte stärken\, immer so wichtig. Tief einatmen\, tief ausatmen. Den Körper spüren\, alle Muskeln einsetzen vom kleinsten zum größten. Die Verbundenheit untereinander in einer Gruppe erleben. \nMatías ist unser Yogi\, der uns auf eine Reise durch die Welt von Hatha und Vinyasa Yoga mitnimmt. Du kannst mit diesen Begriffen nichts anfangen? Kein Problem\, er holt dich als Anfänger*in dort ab wo du gerade bist. Leitet an\, wo nötig\, gibt Tipps für leichtere Varianten und achtet bei jedem/r Teilnehmer*in auf die richtige Ausführung. \nIn jeder Yoga-Einheit werden deine Chakras\, Muskeln und Sehnen durch Dreh-\, Beuge- und Dehnübungen der verschiedenen Asanas aktiviert\, vom Kronen Chakra bis hin zu den Zehenspitzen. \nEin Safe Space in der Queer-Community\, jede*r ist willkommen: das Angebot richtet sich an alle LGBTIQ*s und ihre Freund*innen. \nBitte kommt in bequemer\, lockerer Kleidung und bringt eine eigene Yogamatte mit. Es gibt vor Ort eine begrenzte Anzahl von Yogamatten zur Verfügung.\n \nDatum und Uhrzeit: sonntags von 18:30 – 20:00. Achtung: eventuelle Termin-oder Uhrzeit-Änderungen sind möglich\, daher bitte immer vorher den online-Kalender und/oder die Facebook-Seite checken! \nWir beginnen pünktlich und öffnen bereits um 18:00 für euch\, damit ihr euch umziehen könnt. \nOrt: Das Gugg – Heumühlgasse 14\, 1040 Wien \nEintritt: freie Spende \nKontakt: yoga@archiv.hosiwien.at
URL:https://archiv.hosiwien.at/event/queer-yoga-2023-07_08/2023-07-30/
LOCATION:Gugg\, Heumühlgasse 14\, Wien\, 1040
CATEGORIES:Gruppen
GEO:48.1961598;16.3617969
X-APPLE-STRUCTURED-LOCATION;VALUE=URI;X-ADDRESS=Gugg Heumühlgasse 14 Wien 1040;X-APPLE-RADIUS=500;X-TITLE=Heumühlgasse 14:geo:16.3617969,48.1961598
END:VEVENT
END:VCALENDAR