BEGIN:VCALENDAR
VERSION:2.0
PRODID:-//Homosexuelle Initiative (HOSI) Wien - ECPv5.16.4//NONSGML v1.0//EN
CALSCALE:GREGORIAN
METHOD:PUBLISH
X-ORIGINAL-URL:https://archiv.hosiwien.at
X-WR-CALDESC:Events for Homosexuelle Initiative (HOSI) Wien
REFRESH-INTERVAL;VALUE=DURATION:PT1H
X-Robots-Tag:noindex
X-PUBLISHED-TTL:PT1H
BEGIN:VTIMEZONE
TZID:Europe/Vienna
BEGIN:DAYLIGHT
TZOFFSETFROM:+0100
TZOFFSETTO:+0200
TZNAME:CEST
DTSTART:20230326T010000
END:DAYLIGHT
BEGIN:STANDARD
TZOFFSETFROM:+0200
TZOFFSETTO:+0100
TZNAME:CET
DTSTART:20231029T010000
END:STANDARD
BEGIN:DAYLIGHT
TZOFFSETFROM:+0100
TZOFFSETTO:+0200
TZNAME:CEST
DTSTART:20240331T010000
END:DAYLIGHT
BEGIN:STANDARD
TZOFFSETFROM:+0200
TZOFFSETTO:+0100
TZNAME:CET
DTSTART:20241027T010000
END:STANDARD
END:VTIMEZONE
BEGIN:VEVENT
DTSTART;TZID=Europe/Vienna:20231201T163000
DTEND;TZID=Europe/Vienna:20231201T190000
DTSTAMP:20260422T124527
CREATED:20230622T143303Z
LAST-MODIFIED:20230622T143303Z
UID:95494-1701448200-1701457200@archiv.hosiwien.at
SUMMARY:Resis.danse Tanzworkshop
DESCRIPTION:Aufbau 4
URL:https://archiv.hosiwien.at/event/resis-danse-tanzworkshop-15/2023-12-01/
LOCATION:Gugg\, Heumühlgasse 14\, Wien\, 1040
CATEGORIES:Workshop
ATTACH;FMTTYPE=image/png:https://archiv.hosiwien.at/img/image/2016/resisdanse-logo-trans.png
ORGANIZER;CN="Resis.danse%20-%20FrauenTanzClub":MAILTO:tanzclub@resisdanse.at
GEO:48.1961598;16.3617969
X-APPLE-STRUCTURED-LOCATION;VALUE=URI;X-ADDRESS=Gugg Heumühlgasse 14 Wien 1040;X-APPLE-RADIUS=500;X-TITLE=Heumühlgasse 14:geo:16.3617969,48.1961598
END:VEVENT
BEGIN:VEVENT
DTSTART;TZID=Europe/Vienna:20231201T190000
DTEND;TZID=Europe/Vienna:20231201T210000
DTSTAMP:20260422T124527
CREATED:20230623T102614Z
LAST-MODIFIED:20230623T102614Z
UID:95540-1701457200-1701464400@archiv.hosiwien.at
SUMMARY:Resis.danse Tanzworkshop
DESCRIPTION:Aufbau 2
URL:https://archiv.hosiwien.at/event/resis-danse-tanzworkshop-25/2023-12-01/
LOCATION:Gugg\, Heumühlgasse 14\, Wien\, 1040
CATEGORIES:Workshop
ATTACH;FMTTYPE=image/png:https://archiv.hosiwien.at/img/image/2016/resisdanse-logo-trans.png
ORGANIZER;CN="Resis.danse%20-%20FrauenTanzClub":MAILTO:tanzclub@resisdanse.at
GEO:48.1961598;16.3617969
X-APPLE-STRUCTURED-LOCATION;VALUE=URI;X-ADDRESS=Gugg Heumühlgasse 14 Wien 1040;X-APPLE-RADIUS=500;X-TITLE=Heumühlgasse 14:geo:16.3617969,48.1961598
END:VEVENT
BEGIN:VEVENT
DTSTART;TZID=Europe/Vienna:20231201T210000
DTEND;TZID=Europe/Vienna:20231202T000000
DTSTAMP:20260422T124527
CREATED:20230622T135833Z
LAST-MODIFIED:20230622T142412Z
UID:95413-1701464400-1701475200@archiv.hosiwien.at
SUMMARY:Resis.danse Tanzabend
DESCRIPTION:Eine Übungsmöglichkeit für alle tanzbegeisterten Frauen.\nEinfach vorbeikommen und mittanzen! \nImmer am Freitag nach den Resis.danse-Tanzworkshops in der gemütlichen Atmosphäre des Guggs\, ab 21 Uhr. \nGenauere Informationen auf der eigenen Website: www.resisdanse.at. \nFreier Eintritt!
URL:https://archiv.hosiwien.at/event/resis-danse-tanzabend-5/2023-12-01/
LOCATION:Gugg\, Heumühlgasse 14\, Wien\, 1040
CATEGORIES:Tanzabende
ATTACH;FMTTYPE=image/jpeg:https://archiv.hosiwien.at/img/image/2018/resisdance-5.jpg
ORGANIZER;CN="Resis.danse%20-%20FrauenTanzClub":MAILTO:tanzclub@resisdanse.at
GEO:48.1961598;16.3617969
X-APPLE-STRUCTURED-LOCATION;VALUE=URI;X-ADDRESS=Gugg Heumühlgasse 14 Wien 1040;X-APPLE-RADIUS=500;X-TITLE=Heumühlgasse 14:geo:16.3617969,48.1961598
END:VEVENT
BEGIN:VEVENT
DTSTART;TZID=Europe/Vienna:20231203T180000
DTEND;TZID=Europe/Vienna:20231203T193000
DTSTAMP:20260422T124527
CREATED:20230907T124825Z
LAST-MODIFIED:20230907T124825Z
UID:96702-1701626400-1701631800@archiv.hosiwien.at
SUMMARY:Queer-Yoga
DESCRIPTION:Warum Queer-Yoga? Dafür gibt es so viele Gründe wie Farben im Regenbogen. Gemeinsam im Hier und Jetzt ankommen. Die Dinge\, deine Gefühle\, deinen Körper\, so anzunehmen\, wie sie sind. Achtsam mit sich und dem Umfeld umgehen. Die Abwehrkräfte stärken\, immer so wichtig. Tief einatmen\, tief ausatmen. Den Körper spüren\, alle Muskeln einsetzen vom kleinsten zum größten. Die Verbundenheit untereinander in einer Gruppe erleben. \nMatías ist unser Yogi\, der uns auf eine Reise durch die Welt von Hatha und Vinyasa Yoga mitnimmt. Du kannst mit diesen Begriffen nichts anfangen? Kein Problem\, er holt dich als Anfänger*in dort ab wo du gerade bist. Leitet an\, wo nötig\, gibt Tipps für leichtere Varianten und achtet bei jedem/r Teilnehmer*in auf die richtige Ausführung. \nIn jeder Yoga-Einheit werden deine Chakras\, Muskeln und Sehnen durch Dreh-\, Beuge- und Dehnübungen der verschiedenen Asanas aktiviert\, vom Kronen Chakra bis hin zu den Zehenspitzen. \nEin Safe Space in der Queer-Community\, jede*r ist willkommen: das Angebot richtet sich an alle LGBTIQ*s und ihre Freund*innen. \nBitte kommt in bequemer\, lockerer Kleidung und bringt eine eigene Yogamatte mit. Es gibt vor Ort eine begrenzte Anzahl von Yogamatten zur Verfügung.\n \nDatum und Uhrzeit: sonntags\, von 18:00 – 19:30. Achtung: eventuelle Termin-oder Uhrzeit-Änderungen sind möglich\, daher bitte immer vorher den online-Kalender und/oder die Facebook-Seite checken! \nWir beginnen pünktlich und öffnen bereits um ca. 17:30 für euch\, damit ihr euch umziehen könnt. \nOrt: Das Gugg – Heumühlgasse 14\, 1040 Wien \nEintritt: freie Spende \nKontakt: yoga@archiv.hosiwien.at
URL:https://archiv.hosiwien.at/event/queer-yoga-2023_12/2023-12-03/
LOCATION:Gugg\, Heumühlgasse 14\, Wien\, 1040
CATEGORIES:Gruppen
GEO:48.1961598;16.3617969
X-APPLE-STRUCTURED-LOCATION;VALUE=URI;X-ADDRESS=Gugg Heumühlgasse 14 Wien 1040;X-APPLE-RADIUS=500;X-TITLE=Heumühlgasse 14:geo:16.3617969,48.1961598
END:VEVENT
BEGIN:VEVENT
DTSTART;TZID=Europe/Vienna:20231205T193000
DTEND;TZID=Europe/Vienna:20231206T000000
DTSTAMP:20260422T124527
CREATED:20230223T145315Z
LAST-MODIFIED:20230223T145315Z
UID:96467-1701804600-1701820800@archiv.hosiwien.at
SUMMARY:Werwolf-Abend
DESCRIPTION:Der Spiele-Klassiker „Die Werwölfe vom Düsterwald“ zieht regelmäßig unsere Besucher*innen in seinen Bann. Warum? Hat es mit dunkler Magie zu tun\, oder ist es das gesellige Beisammensein\, das die besondere Atmosphäre des Abends ausmacht? \nFinde es heraus und mach dir ein eigenes Bild vom Werwolf-Abend im Gugg! Komm alleine oder nimm Freund*innen mit – wir freuen uns auf dich! Es sind keine Vorkenntnisse erforderlich. Im Gegenteil: Die Spielrunden dauern nicht lange\, und wir erklären Neulingen gerne die Regeln. Eine Runde aussetzen oder erst später ins Spiel einsteigen ist somit auch kein Problem. \nWir freuen uns sehr auf einen blutrünstigen Abend! \nP.S.: Infos zum Spiel unter: http://de.wikipedia.org/wiki/Werwölfe_von_Düsterwald \nDer Eintritt ist frei! \nEinlass: 19:00\nBeginn: 19:30
URL:https://archiv.hosiwien.at/event/werwolf-abend-36/2023-12-05/
LOCATION:Gugg\, Heumühlgasse 14\, Wien\, 1040
CATEGORIES:Bar service,Café-Betrieb,kulturelle Veranstaltung
ATTACH;FMTTYPE=image/png:https://archiv.hosiwien.at/img/image/2023/Werwolfabend-1.png
ORGANIZER;CN="HOSI%20Wien":MAILTO:office@archiv.hosiwien.at
GEO:48.1961598;16.3617969
X-APPLE-STRUCTURED-LOCATION;VALUE=URI;X-ADDRESS=Gugg Heumühlgasse 14 Wien 1040;X-APPLE-RADIUS=500;X-TITLE=Heumühlgasse 14:geo:16.3617969,48.1961598
END:VEVENT
BEGIN:VEVENT
DTSTART;TZID=Europe/Vienna:20231206T190000
DTEND;TZID=Europe/Vienna:20231206T230000
DTSTAMP:20260422T124527
CREATED:20231115T113647Z
LAST-MODIFIED:20231115T113647Z
UID:96932-1701889200-1701903600@archiv.hosiwien.at
SUMMARY:LesBiFem Wuzzelturnier
DESCRIPTION:Am 06.12. rollen in der LesBiFem-Gruppe wieder die Tischfußbälle beim allseits beliebten Wuzzelturnier. \nKomm vorbei\, spiele mit oder feuere die Gruppen an. \nWir freuen uns auf dich!
URL:https://archiv.hosiwien.at/event/lesbifem-wuzzelturnier/
LOCATION:Gugg\, Heumühlgasse 14\, Wien\, 1040
CATEGORIES:Gruppen
ATTACH;FMTTYPE=image/png:https://archiv.hosiwien.at/img/image/2023/Die-LesBiFem-Gruppe-laedt-zum.png
GEO:48.1961598;16.3617969
X-APPLE-STRUCTURED-LOCATION;VALUE=URI;X-ADDRESS=Gugg Heumühlgasse 14 Wien 1040;X-APPLE-RADIUS=500;X-TITLE=Heumühlgasse 14:geo:16.3617969,48.1961598
END:VEVENT
BEGIN:VEVENT
DTSTART;TZID=Europe/Vienna:20231207T180000
DTEND;TZID=Europe/Vienna:20231207T193000
DTSTAMP:20260422T124527
CREATED:20231206T102100Z
LAST-MODIFIED:20231206T102235Z
UID:97478-1701972000-1701977400@archiv.hosiwien.at
SUMMARY:Austria has to stand with the russian LGBTIQ-Community
DESCRIPTION:Die Repressalien gegen russische Aktivist*innen der LGBTIQ Community hat einen neuen Höhepunkt erreicht. In einem undurchsichtigen Eilverfahren wurde am Donnerstag die “Internationale LGBT-Bewegung” als extremistisch eingestuft. Da es bekanntlich keine Organisation dieses Namens gibt\, öffnet die Einstufung Tür und Tor für ein vollkommen willkürliches Vorgehen gegen Organisationen\, Lokale und Privatpersonen: am Freitag folgten erste Razzien in Moskau. Der älteste queere Club St. Petersburgs hat nach dem Urteil seine Schließung bekanntgegeben. Schon jetzt melden sich russischstämmige Wiener*innen bei uns ob es noch sicher ist Mitglied einer LGBTIQ-Organisation zu sein. Dieser Strategie der Angst und der Unterdrückung dürfen wir uns nicht gefallen lassen. Darum wollen wir gemeinsam ein Zeichen der Solidarität mit unseren queeren Geschwistern in Russland setzen und fordern Karl Nehammer und Alexander Schallenberg dazu auf\, klar gegen dieses Vorgehen Stellung zu beziehen. Kommt mit uns zur Mahnwache am Donnerstag um 18 Uhr zum Minoritenplatz!
URL:https://archiv.hosiwien.at/event/austria-has-to-stand-with-the-russian-lgbtiq-community/
LOCATION:Minoritenplatz\, Minoritenplatz\, Wien\, Wien\, 1010
CATEGORIES:Demonstration
ATTACH;FMTTYPE=image/jpeg:https://archiv.hosiwien.at/img/image/2023/Russia.jpg
ORGANIZER;CN="HOSI%20Wien":MAILTO:office@archiv.hosiwien.at
END:VEVENT
BEGIN:VEVENT
DTSTART;TZID=Europe/Vienna:20231207T183000
DTEND;TZID=Europe/Vienna:20231207T203000
DTSTAMP:20260422T124527
CREATED:20231102T144507Z
LAST-MODIFIED:20231207T092630Z
UID:96866-1701973800-1701981000@archiv.hosiwien.at
SUMMARY:ABGESAGT Names Project Workshop bei Queer Youth Vienna
DESCRIPTION:Leider müssen wir den Workshop absagen. Ein neuer Termin wird so schnell als möglich bekanntgegeben. \n  \nAm 07.12. werden Brigitte Zika-Holoubek und Barbara Fröhlich über das Names Project Wien berichten. Dabei wird über die Entstehung des Projekts berichtet und Geschichten von Opfern aus der Zeit der Aidskrise erzählt. Wie wichtig ist die Erinnerung an diese schwierige Zeit für die LGBTIQ+ Community und was war der Beweggrund das Projekt nach Wien zu holen? Diese und viele weitere Fragen werden die zwei wichtigen Zeitzeuginnen beantworten. \nAußerdem werden einige der historischen Quilts und ihre traditionelle Präsentation und Falttechnik gezeigt. \nWeitere Informationen über das Names Project Wien findest du hier: Names Project Wien :: Der österreichische AIDS-Memorial-Quilt
URL:https://archiv.hosiwien.at/event/names-project-workshop-bei-queer-youth-vienna/
LOCATION:Gugg\, Heumühlgasse 14\, Wien\, 1040
CATEGORIES:Information,Workshop
ATTACH;FMTTYPE=image/jpeg:https://archiv.hosiwien.at/img/image/2023/20221110_200028-scaled.jpg
GEO:48.1961598;16.3617969
X-APPLE-STRUCTURED-LOCATION;VALUE=URI;X-ADDRESS=Gugg Heumühlgasse 14 Wien 1040;X-APPLE-RADIUS=500;X-TITLE=Heumühlgasse 14:geo:16.3617969,48.1961598
END:VEVENT
BEGIN:VEVENT
DTSTART;TZID=Europe/Vienna:20231209T190000
DTEND;TZID=Europe/Vienna:20231209T233000
DTSTAMP:20260422T124527
CREATED:20231019T090227Z
LAST-MODIFIED:20231019T090227Z
UID:96785-1702148400-1702164600@archiv.hosiwien.at
SUMMARY:HOSI Weihnachtsfeier
DESCRIPTION:Am 09. Dezember\, ab 19:00 Uhr\, laden wir alle HOSI Mitglieder sowie Freund*innen des Vereins zur großen Weihnachtsfeier ein. \nNeben der Verleihung des zweiten HOSI-Wien-Awards wird es eine Fotoausstellung und viele weitere Programmpunkte geben. \nFür ausreichend Punsch und Kekse ist natürlich gesorgt. ;) \nWir freuen uns darauf mit euch zu feiern! \nEurer Vorstand
URL:https://archiv.hosiwien.at/event/hosi-weihnachtsfeier/
LOCATION:Gugg\, Heumühlgasse 14\, Wien\, 1040
CATEGORIES:Bar service,Party
ATTACH;FMTTYPE=image/jpeg:https://archiv.hosiwien.at/img/image/2023/Weihnachtsfeier.jpg
GEO:48.1961598;16.3617969
X-APPLE-STRUCTURED-LOCATION;VALUE=URI;X-ADDRESS=Gugg Heumühlgasse 14 Wien 1040;X-APPLE-RADIUS=500;X-TITLE=Heumühlgasse 14:geo:16.3617969,48.1961598
END:VEVENT
BEGIN:VEVENT
DTSTART;TZID=Europe/Vienna:20231210T180000
DTEND;TZID=Europe/Vienna:20231210T193000
DTSTAMP:20260422T124527
CREATED:20230907T124825Z
LAST-MODIFIED:20231009T085852Z
UID:96534-1702231200-1702236600@archiv.hosiwien.at
SUMMARY:Queer-Yoga
DESCRIPTION:Warum Queer-Yoga? Dafür gibt es so viele Gründe wie Farben im Regenbogen. Gemeinsam im Hier und Jetzt ankommen. Die Dinge\, deine Gefühle\, deinen Körper\, so anzunehmen\, wie sie sind. Achtsam mit sich und dem Umfeld umgehen. Die Abwehrkräfte stärken\, immer so wichtig. Tief einatmen\, tief ausatmen. Den Körper spüren\, alle Muskeln einsetzen vom kleinsten zum größten. Die Verbundenheit untereinander in einer Gruppe erleben. \nMatías ist unser Yogi\, der uns auf eine Reise durch die Welt von Hatha und Vinyasa Yoga mitnimmt. Du kannst mit diesen Begriffen nichts anfangen? Kein Problem\, er holt dich als Anfänger*in dort ab wo du gerade bist. Leitet an\, wo nötig\, gibt Tipps für leichtere Varianten und achtet bei jedem/r Teilnehmer*in auf die richtige Ausführung. \nIn jeder Yoga-Einheit werden deine Chakras\, Muskeln und Sehnen durch Dreh-\, Beuge- und Dehnübungen der verschiedenen Asanas aktiviert\, vom Kronen Chakra bis hin zu den Zehenspitzen. \nEin Safe Space in der Queer-Community\, jede*r ist willkommen: das Angebot richtet sich an alle LGBTIQ*s und ihre Freund*innen. \nBitte kommt in bequemer\, lockerer Kleidung und bringt eine eigene Yogamatte mit. Es gibt vor Ort eine begrenzte Anzahl von Yogamatten zur Verfügung.\n \nDatum und Uhrzeit: sonntags\, von 18:00 – 19:30. Achtung: eventuelle Termin-oder Uhrzeit-Änderungen sind möglich\, daher bitte immer vorher den online-Kalender und/oder die Facebook-Seite checken! \nWir beginnen pünktlich und öffnen bereits um ca. 17:30 für euch\, damit ihr euch umziehen könnt. \nOrt: Das Gugg – Heumühlgasse 14\, 1040 Wien \nEintritt: freie Spende \nKontakt: yoga@archiv.hosiwien.at
URL:https://archiv.hosiwien.at/event/queer-yoga-2023_12/2023-12-10/
LOCATION:Gugg\, Heumühlgasse 14\, Wien\, 1040
CATEGORIES:Gruppen
GEO:48.1961598;16.3617969
X-APPLE-STRUCTURED-LOCATION;VALUE=URI;X-ADDRESS=Gugg Heumühlgasse 14 Wien 1040;X-APPLE-RADIUS=500;X-TITLE=Heumühlgasse 14:geo:16.3617969,48.1961598
END:VEVENT
BEGIN:VEVENT
DTSTART;TZID=Europe/Vienna:20231215T163000
DTEND;TZID=Europe/Vienna:20231215T190000
DTSTAMP:20260422T124527
CREATED:20230622T143519Z
LAST-MODIFIED:20230622T143519Z
UID:95496-1702657800-1702666800@archiv.hosiwien.at
SUMMARY:Resis.danse Tanzworkshop
DESCRIPTION:Rock 1
URL:https://archiv.hosiwien.at/event/resis-danse-tanzworkshop-16/2023-12-15/
LOCATION:Gugg\, Heumühlgasse 14\, Wien\, 1040
CATEGORIES:Workshop
ATTACH;FMTTYPE=image/png:https://archiv.hosiwien.at/img/image/2016/resisdanse-logo-trans.png
ORGANIZER;CN="Resis.danse%20-%20FrauenTanzClub":MAILTO:tanzclub@resisdanse.at
GEO:48.1961598;16.3617969
X-APPLE-STRUCTURED-LOCATION;VALUE=URI;X-ADDRESS=Gugg Heumühlgasse 14 Wien 1040;X-APPLE-RADIUS=500;X-TITLE=Heumühlgasse 14:geo:16.3617969,48.1961598
END:VEVENT
BEGIN:VEVENT
DTSTART;TZID=Europe/Vienna:20231215T190000
DTEND;TZID=Europe/Vienna:20231215T210000
DTSTAMP:20260422T124527
CREATED:20230623T102614Z
LAST-MODIFIED:20230623T102614Z
UID:95543-1702666800-1702674000@archiv.hosiwien.at
SUMMARY:Resis.danse Tanzworkshop
DESCRIPTION:Aufbau 2
URL:https://archiv.hosiwien.at/event/resis-danse-tanzworkshop-25/2023-12-15/
LOCATION:Gugg\, Heumühlgasse 14\, Wien\, 1040
CATEGORIES:Workshop
ATTACH;FMTTYPE=image/png:https://archiv.hosiwien.at/img/image/2016/resisdanse-logo-trans.png
ORGANIZER;CN="Resis.danse%20-%20FrauenTanzClub":MAILTO:tanzclub@resisdanse.at
GEO:48.1961598;16.3617969
X-APPLE-STRUCTURED-LOCATION;VALUE=URI;X-ADDRESS=Gugg Heumühlgasse 14 Wien 1040;X-APPLE-RADIUS=500;X-TITLE=Heumühlgasse 14:geo:16.3617969,48.1961598
END:VEVENT
BEGIN:VEVENT
DTSTART;TZID=Europe/Vienna:20231215T210000
DTEND;TZID=Europe/Vienna:20231216T000000
DTSTAMP:20260422T124527
CREATED:20230622T135833Z
LAST-MODIFIED:20230622T142413Z
UID:95415-1702674000-1702684800@archiv.hosiwien.at
SUMMARY:Resis.danse Tanzabend
DESCRIPTION:Eine Übungsmöglichkeit für alle tanzbegeisterten Frauen.\nEinfach vorbeikommen und mittanzen! \nImmer am Freitag nach den Resis.danse-Tanzworkshops in der gemütlichen Atmosphäre des Guggs\, ab 21 Uhr. \nGenauere Informationen auf der eigenen Website: www.resisdanse.at. \nFreier Eintritt!
URL:https://archiv.hosiwien.at/event/resis-danse-tanzabend-5/2023-12-15/
LOCATION:Gugg\, Heumühlgasse 14\, Wien\, 1040
CATEGORIES:Tanzabende
ATTACH;FMTTYPE=image/jpeg:https://archiv.hosiwien.at/img/image/2018/resisdance-5.jpg
ORGANIZER;CN="Resis.danse%20-%20FrauenTanzClub":MAILTO:tanzclub@resisdanse.at
GEO:48.1961598;16.3617969
X-APPLE-STRUCTURED-LOCATION;VALUE=URI;X-ADDRESS=Gugg Heumühlgasse 14 Wien 1040;X-APPLE-RADIUS=500;X-TITLE=Heumühlgasse 14:geo:16.3617969,48.1961598
END:VEVENT
BEGIN:VEVENT
DTSTART;TZID=Europe/Vienna:20231216T190000
DTEND;TZID=Europe/Vienna:20231216T233000
DTSTAMP:20260422T124527
CREATED:20231019T090607Z
LAST-MODIFIED:20231019T090618Z
UID:96788-1702753200-1702769400@archiv.hosiwien.at
SUMMARY:Gays an theys comedy
DESCRIPTION:Gays and theys christmasedition. \nMore info coming soon.
URL:https://archiv.hosiwien.at/event/gays-an-theys-comedy/
LOCATION:Gugg\, Heumühlgasse 14\, Wien\, 1040
CATEGORIES:kulturelle Veranstaltung
ATTACH;FMTTYPE=image/jpeg:https://archiv.hosiwien.at/img/image/2022/Gays-and-Theys-Comedy-Logo.jpg
GEO:48.1961598;16.3617969
X-APPLE-STRUCTURED-LOCATION;VALUE=URI;X-ADDRESS=Gugg Heumühlgasse 14 Wien 1040;X-APPLE-RADIUS=500;X-TITLE=Heumühlgasse 14:geo:16.3617969,48.1961598
END:VEVENT
BEGIN:VEVENT
DTSTART;TZID=Europe/Vienna:20231217T180000
DTEND;TZID=Europe/Vienna:20231217T193000
DTSTAMP:20260422T124527
CREATED:20230907T124825Z
LAST-MODIFIED:20231009T085853Z
UID:96535-1702836000-1702841400@archiv.hosiwien.at
SUMMARY:Queer-Yoga
DESCRIPTION:Warum Queer-Yoga? Dafür gibt es so viele Gründe wie Farben im Regenbogen. Gemeinsam im Hier und Jetzt ankommen. Die Dinge\, deine Gefühle\, deinen Körper\, so anzunehmen\, wie sie sind. Achtsam mit sich und dem Umfeld umgehen. Die Abwehrkräfte stärken\, immer so wichtig. Tief einatmen\, tief ausatmen. Den Körper spüren\, alle Muskeln einsetzen vom kleinsten zum größten. Die Verbundenheit untereinander in einer Gruppe erleben. \nMatías ist unser Yogi\, der uns auf eine Reise durch die Welt von Hatha und Vinyasa Yoga mitnimmt. Du kannst mit diesen Begriffen nichts anfangen? Kein Problem\, er holt dich als Anfänger*in dort ab wo du gerade bist. Leitet an\, wo nötig\, gibt Tipps für leichtere Varianten und achtet bei jedem/r Teilnehmer*in auf die richtige Ausführung. \nIn jeder Yoga-Einheit werden deine Chakras\, Muskeln und Sehnen durch Dreh-\, Beuge- und Dehnübungen der verschiedenen Asanas aktiviert\, vom Kronen Chakra bis hin zu den Zehenspitzen. \nEin Safe Space in der Queer-Community\, jede*r ist willkommen: das Angebot richtet sich an alle LGBTIQ*s und ihre Freund*innen. \nBitte kommt in bequemer\, lockerer Kleidung und bringt eine eigene Yogamatte mit. Es gibt vor Ort eine begrenzte Anzahl von Yogamatten zur Verfügung.\n \nDatum und Uhrzeit: sonntags\, von 18:00 – 19:30. Achtung: eventuelle Termin-oder Uhrzeit-Änderungen sind möglich\, daher bitte immer vorher den online-Kalender und/oder die Facebook-Seite checken! \nWir beginnen pünktlich und öffnen bereits um ca. 17:30 für euch\, damit ihr euch umziehen könnt. \nOrt: Das Gugg – Heumühlgasse 14\, 1040 Wien \nEintritt: freie Spende \nKontakt: yoga@archiv.hosiwien.at
URL:https://archiv.hosiwien.at/event/queer-yoga-2023_12/2023-12-17/
LOCATION:Gugg\, Heumühlgasse 14\, Wien\, 1040
CATEGORIES:Gruppen
GEO:48.1961598;16.3617969
X-APPLE-STRUCTURED-LOCATION;VALUE=URI;X-ADDRESS=Gugg Heumühlgasse 14 Wien 1040;X-APPLE-RADIUS=500;X-TITLE=Heumühlgasse 14:geo:16.3617969,48.1961598
END:VEVENT
BEGIN:VEVENT
DTSTART;TZID=Europe/Vienna:20231219T190000
DTEND;TZID=Europe/Vienna:20231220T000000
DTSTAMP:20260422T124527
CREATED:20210528T110055Z
LAST-MODIFIED:20210528T110055Z
UID:96902-1703012400-1703030400@archiv.hosiwien.at
SUMMARY:50+ Prime Timers
DESCRIPTION:Die 50+ Prime Timers sind eine Gruppe speziell für Menschen über 50 Jahren.\nDu suchst Anschluss oder möchtest dich in der gemütlichen Atmosphäre des Guggs mit anderen austauschen?\nDann komm‘ doch einfach zum Treffen der Prime Timers\, die sich jeden 3. Dienstag im Monat ab 19 Uhr im Gugg treffen. \nDas Treffen findet im Barbereich statt. \nHINWEIS: Das umfangreiche Serviceangebot der HOSI Wien wird durch ehrenamtliches Engagement erbracht. Wie du die wichtige Arbeit des Vereins durch Spende oder Mitgliedschaft unterstützen kannst\, erfährst du unter archiv.hosiwien.at/mitgliedschaft.
URL:https://archiv.hosiwien.at/event/50-prime-timers-31-2022-12-20/2023-12-19/
LOCATION:Gugg\, Heumühlgasse 14\, Wien\, 1040
CATEGORIES:Gruppen
ATTACH;FMTTYPE=image/jpeg:https://archiv.hosiwien.at/img/50+.jpg
ORGANIZER;CN="HOSI%20Wien":MAILTO:office@archiv.hosiwien.at
GEO:48.1961598;16.3617969
X-APPLE-STRUCTURED-LOCATION;VALUE=URI;X-ADDRESS=Gugg Heumühlgasse 14 Wien 1040;X-APPLE-RADIUS=500;X-TITLE=Heumühlgasse 14:geo:16.3617969,48.1961598
END:VEVENT
BEGIN:VEVENT
DTSTART;TZID=Europe/Vienna:20231219T193000
DTEND;TZID=Europe/Vienna:20231220T000000
DTSTAMP:20260422T124527
CREATED:20230223T145754Z
LAST-MODIFIED:20230831T085851Z
UID:96447-1703014200-1703030400@archiv.hosiwien.at
SUMMARY:Spieleabend
DESCRIPTION:Scrabble\, UNO Spin\, Trivial Pursuit\, Schach oder doch Monopoly? Bei unseren Spieleabenden hast du die Qual der Wahl!\nSuche dir ein Spiel aus und leg los! An Spielpartner*innen wird es keinen Mangel geben.\nDer Spieleabend steht bei uns mittlerweile fix im Programm und zieht immer wieder neue Besucher*innen in das allseits bekannte Lokal in der Heumühlgasse 14.\nKomm auch du am Dienstag ins Gugg und spiel mit! \nDer Eintritt ist frei! \nEinlass: 19:00\nBeginn: 19:30
URL:https://archiv.hosiwien.at/event/spieleabend-2/2023-12-19/
LOCATION:Gugg\, Heumühlgasse 14\, Wien\, 1040
CATEGORIES:Bar service,Café-Betrieb,kulturelle Veranstaltung
ATTACH;FMTTYPE=image/jpeg:https://archiv.hosiwien.at/img/image/2023/HOSI-Spieleabend.jpg
ORGANIZER;CN="HOSI%20Wien":MAILTO:office@archiv.hosiwien.at
GEO:48.1961598;16.3617969
X-APPLE-STRUCTURED-LOCATION;VALUE=URI;X-ADDRESS=Gugg Heumühlgasse 14 Wien 1040;X-APPLE-RADIUS=500;X-TITLE=Heumühlgasse 14:geo:16.3617969,48.1961598
END:VEVENT
BEGIN:VEVENT
DTSTART;TZID=Europe/Vienna:20231221T173000
DTEND;TZID=Europe/Vienna:20231221T230000
DTSTAMP:20260422T124527
CREATED:20231102T144724Z
LAST-MODIFIED:20231218T095930Z
UID:96869-1703179800-1703199600@archiv.hosiwien.at
SUMMARY:QYVIE Winterfest
DESCRIPTION:HO HO HO es ist so weit\, „Gay Christmas“ steht vor der Türe. Wir laden euch zum QYVIE-Winterfest am 21. Dezember 2023 im Gugg ein. 🎉 \nNicht nur ein festlich geschmückter Baum erwartet euch\, sondern auch eine kleine Überraschung von unserem Winter-Wichtel. Außerdem werden wir Karaoke singen und den Abend gemeinsam gemütlich ausklingen lassen.🎁🎀 \nLadet gerne eure Freund*innen ein und lasst uns gemeinsam feiern. \nWir weisen darauf hin\, dass wie regulär am Jugendabend unsere Altersgrenze besteht und nur Personen unter 29 Jahren teilnehmen dürfen. \nWir freuen uns auf euch!🧡
URL:https://archiv.hosiwien.at/event/qyvie-winterfest/
LOCATION:Gugg\, Heumühlgasse 14\, Wien\, 1040
CATEGORIES:Gruppen
ATTACH;FMTTYPE=image/jpeg:https://archiv.hosiwien.at/img/image/2023/QYVIE-Winterfest.jpg
GEO:48.1961598;16.3617969
X-APPLE-STRUCTURED-LOCATION;VALUE=URI;X-ADDRESS=Gugg Heumühlgasse 14 Wien 1040;X-APPLE-RADIUS=500;X-TITLE=Heumühlgasse 14:geo:16.3617969,48.1961598
END:VEVENT
BEGIN:VEVENT
DTSTART;VALUE=DATE:20231223
DTEND;VALUE=DATE:20240103
DTSTAMP:20260422T124527
CREATED:20231117T114326Z
LAST-MODIFIED:20231117T114530Z
UID:96938-1703307600-1704171599@archiv.hosiwien.at
SUMMARY:Büro Winterpause
DESCRIPTION:Liebe Freund*innen\, Kolleg*innen und Besucher*innen\, \nunser Büro geht vom 23.12.2023 bis 01.01.2024 in die Weihnachts- und Neujahrspause. \nAb 02.01.2024 sind wir wieder für euch da. \nDie Gruppenabende finden alle\, wie gewohnt\, statt. \nWir wünschen euch allen eine besinnliche Zeit mit euren Lieben und einen großartiges Neujahrsfest! \n  \nEuer HOSI Wien Team
URL:https://archiv.hosiwien.at/event/buero-winterpause/
LOCATION:Gugg\, Heumühlgasse 14\, Wien\, 1040
CATEGORIES:Bürozeiten
ATTACH;FMTTYPE=image/jpeg:https://archiv.hosiwien.at/img/image/2023/Pause.jpg
GEO:48.1961598;16.3617969
X-APPLE-STRUCTURED-LOCATION;VALUE=URI;X-ADDRESS=Gugg Heumühlgasse 14 Wien 1040;X-APPLE-RADIUS=500;X-TITLE=Heumühlgasse 14:geo:16.3617969,48.1961598
END:VEVENT
END:VCALENDAR