BEGIN:VCALENDAR
VERSION:2.0
PRODID:-//Homosexuelle Initiative (HOSI) Wien - ECPv5.16.4//NONSGML v1.0//EN
CALSCALE:GREGORIAN
METHOD:PUBLISH
X-ORIGINAL-URL:https://archiv.hosiwien.at
X-WR-CALDESC:Events for Homosexuelle Initiative (HOSI) Wien
REFRESH-INTERVAL;VALUE=DURATION:PT1H
X-Robots-Tag:noindex
X-PUBLISHED-TTL:PT1H
BEGIN:VTIMEZONE
TZID:Europe/Vienna
BEGIN:DAYLIGHT
TZOFFSETFROM:+0100
TZOFFSETTO:+0200
TZNAME:CEST
DTSTART:20240331T010000
END:DAYLIGHT
BEGIN:STANDARD
TZOFFSETFROM:+0200
TZOFFSETTO:+0100
TZNAME:CET
DTSTART:20241027T010000
END:STANDARD
END:VTIMEZONE
BEGIN:VEVENT
DTSTART;TZID=Europe/Vienna:20240803T150000
DTEND;TZID=Europe/Vienna:20240803T200000
DTSTAMP:20260423T100516
CREATED:20240729T093844Z
LAST-MODIFIED:20240729T093844Z
UID:98539-1722697200-1722715200@archiv.hosiwien.at
SUMMARY:Trans Joy Art Market
DESCRIPTION:Hurra! Am 03.08.2024 wird der 2. TJAM (Trans Joy Art Market) im Vereinslokal der @hosiwien \, dem Gugg\, stattfinden! \nVon 15.00 bis 20.00 werdet ihr dort tolle trans artists finden können und die Möglichkeit haben Kunst zu kaufen oder euch einfach auszutauschen und gut zu unterhalten!
URL:https://archiv.hosiwien.at/event/trans-joy-art-market/
LOCATION:Gugg\, Heumühlgasse 14\, Wien\, 1040
ATTACH;FMTTYPE=image/jpeg:https://archiv.hosiwien.at/img/image/2024/Trans-Joy-Art-Market.jpg
GEO:48.1961598;16.3617969
X-APPLE-STRUCTURED-LOCATION;VALUE=URI;X-ADDRESS=Gugg Heumühlgasse 14 Wien 1040;X-APPLE-RADIUS=500;X-TITLE=Heumühlgasse 14:geo:16.3617969,48.1961598
END:VEVENT
BEGIN:VEVENT
DTSTART;TZID=Europe/Vienna:20240804T190000
DTEND;TZID=Europe/Vienna:20240804T203000
DTSTAMP:20260423T100516
CREATED:20240516T092701Z
LAST-MODIFIED:20240808T095636Z
UID:98396-1722798000-1722803400@archiv.hosiwien.at
SUMMARY:Queer-Yoga
DESCRIPTION:Warum Queer-Yoga? Dafür gibt es so viele Gründe wie Farben im Regenbogen: anzukommen – im Hier und Jetzt\, und bei sich selbst-\, den eigenen Körper anzunehmen\, Achtsamkeit zu üben\, die Abwehrkräfte zu stärken. In jeder Yogastunde geht es darum\, tief ein- und auszuatmen\, jeden Muskel zu spüren und die Verbundenheit in der Gruppe zu erleben. \nMatías (er/ihm) und Florian (er/ihm) führen uns durch die Welt des Hatha- und Vinyasa-Yoga. Egal ob du schon Erfahrung hast oder nicht\, sie passen sich deinem Niveau an und helfen dir\, die Übungen richtig auszuführen. \nEin Raum für Yoga\, aber auch ein Safe Space für die Queer-Community: Alle LGBTQIA*s und ihre Freund*innen sind herzlich willkommen! Kommt in bequemer Kleidung und bringt eure Yogamatte mit\, vor Ort sind aber auch einige Matten verfügbar. \nDatum und Uhrzeit: sonntags\, von 19:00 bis 20:30. Achtung: eventuelle Termin-oder Uhrzeit-Änderungen sind möglich\, daher bitte immer vorher den online-Kalender checken! \nWir öffnen bereits um ca. 18:45 Uhr\, damit ihr euch in Ruhe umziehen könnt\, und wir pünktlich beginnen können. \nOrt: Das Gugg – Heumühlgasse 14\, 1040 Wien \nEintritt: die HOSI Wien und unsere ehrenamtlichen Trainer freuen sich über jede freie Spende\, die am Ende der Einheit abgegeben werden kann – sie kommen vollumfänglich der Hosi Wien zugute.\n \nKontakt: yoga@archiv.hosiwien.at
URL:https://archiv.hosiwien.at/event/queer-yoga-2024_08/
LOCATION:Gugg\, Heumühlgasse 14\, Wien\, 1040
CATEGORIES:Gruppen
GEO:48.1961598;16.3617969
X-APPLE-STRUCTURED-LOCATION;VALUE=URI;X-ADDRESS=Gugg Heumühlgasse 14 Wien 1040;X-APPLE-RADIUS=500;X-TITLE=Heumühlgasse 14:geo:16.3617969,48.1961598
END:VEVENT
BEGIN:VEVENT
DTSTART;TZID=Europe/Vienna:20240810T193000
DTEND;TZID=Europe/Vienna:20240810T220000
DTSTAMP:20260423T100516
CREATED:20240729T090530Z
LAST-MODIFIED:20240801T143052Z
UID:98533-1723318200-1723327200@archiv.hosiwien.at
SUMMARY:Gays and Theys Comedy - *SUMMER* ENGLISH OPEN MIC
DESCRIPTION:18+ \nNo comedy experience needed\, just write „spot please“ into the Facebook event or PM us to perform. \nWhile the stage at this event is only open to LGBTQ+ (aspiring) comedians\, we very happily welcome allies into the audience! \nWe’re sure you’ll love our lineup of diverse\, unique\, hilarious newcomers and seasoned queer entertainers alike\, so join us and bring your friends along! \nThe entry is FREE!\n(we’re happy to accept donations to help fund our future shows) \n  \n*SUMMER* ENGLISH OPEN MIC – Gays and Theys Comedy – Tickets | Fienta
URL:https://archiv.hosiwien.at/event/gays-and-theys-comedy-summer-english-open-mic/
LOCATION:Gugg\, Heumühlgasse 14\, Wien\, 1040
CATEGORIES:kulturelle Veranstaltung
ATTACH;FMTTYPE=image/jpeg:https://archiv.hosiwien.at/img/image/2024/Gays-and-theys-August-2024.jpg
GEO:48.1961598;16.3617969
X-APPLE-STRUCTURED-LOCATION;VALUE=URI;X-ADDRESS=Gugg Heumühlgasse 14 Wien 1040;X-APPLE-RADIUS=500;X-TITLE=Heumühlgasse 14:geo:16.3617969,48.1961598
END:VEVENT
BEGIN:VEVENT
DTSTART;TZID=Europe/Vienna:20240811T130000
DTEND;TZID=Europe/Vienna:20240811T150000
DTSTAMP:20260423T100516
CREATED:20240805T102025Z
LAST-MODIFIED:20240805T141747Z
UID:98573-1723381200-1723388400@archiv.hosiwien.at
SUMMARY:Queer Sports Collective - Radtour mit Jakob
DESCRIPTION:Wir – Michi\, Jakob und Ina – freuen uns\, das 🌈Queer Sports Collective der @hosiwien vorzustellen! Als ehrenamtliche Initiative bieten wir ein vielfältiges Sportangebot in einem queerfreundlichen Umfeld an. Unser Programm umfasst unter anderem Wanderungen\, Radtouren und Laufgruppen. Das Angebot ist kostenfrei (außer Fahrtkosten) und richtet sich an alle Fitnesslevel. Seid dabei und erlebt mit uns die Freude an gemeinsamer Bewegung und Begegnung! \n  \nAm 11. August ist es endlich soweit – unser Auftaktevent auf der Donauinsel! 🌞🚴‍♀️ \nJakob führt unsere Radgruppe vom Startpunkt Prater Hauptallee bis zum Südende der Donauinsel (Hubertusdamm) und zurück. Die gesamte Tour dauert etwa 1\,5 Stunden. Wenn du Lust auf einen aktiven und geselligen Nachmittag hast\, schließe dich uns um 13 Uhr am Prater an! Wir freuen uns auf dich!\nDie Teilnahme ist kostenlos und auf eigene Verantwortung\, aus rechtlichen Gründen nur für volljährige Personen gestattet. Link zur (unverbindlichen) Anmeldung: bit.ly/4d9wCRd \n  \n11.August\, Sonntag\, 13:00: Radtour auf der Donauinsel \n\nTreffpunkt: Prater Hauptallee\, auf der Höhe zum Haupteingang vom Prater\nRoute: Prater – Hubertusdamm – Prater
URL:https://archiv.hosiwien.at/event/queer-sports-collective-radtour-mit-jakob/
LOCATION:Prater Hauptallee\, Prater Hauptallee\, Wien\, Österreich
CATEGORIES:Gruppen
ATTACH;FMTTYPE=image/jpeg:https://archiv.hosiwien.at/img/image/2024/Queer-sports-August-24.jpg
END:VEVENT
BEGIN:VEVENT
DTSTART;TZID=Europe/Vienna:20240811T190000
DTEND;TZID=Europe/Vienna:20240811T203000
DTSTAMP:20260423T100516
CREATED:20240516T092701Z
LAST-MODIFIED:20240808T095638Z
UID:98481-1723402800-1723408200@archiv.hosiwien.at
SUMMARY:Queer-Yoga
DESCRIPTION:Warum Queer-Yoga? Dafür gibt es so viele Gründe wie Farben im Regenbogen: anzukommen – im Hier und Jetzt\, und bei sich selbst-\, den eigenen Körper anzunehmen\, Achtsamkeit zu üben\, die Abwehrkräfte zu stärken. In jeder Yogastunde geht es darum\, tief ein- und auszuatmen\, jeden Muskel zu spüren und die Verbundenheit in der Gruppe zu erleben. \nMatías (er/ihm) und Florian (er/ihm) führen uns durch die Welt des Hatha- und Vinyasa-Yoga. Egal ob du schon Erfahrung hast oder nicht\, sie passen sich deinem Niveau an und helfen dir\, die Übungen richtig auszuführen. \nEin Raum für Yoga\, aber auch ein Safe Space für die Queer-Community: Alle LGBTQIA*s und ihre Freund*innen sind herzlich willkommen! Kommt in bequemer Kleidung und bringt eure Yogamatte mit\, vor Ort sind aber auch einige Matten verfügbar. \nDatum und Uhrzeit: sonntags\, von 19:00 bis 20:30. Achtung: eventuelle Termin-oder Uhrzeit-Änderungen sind möglich\, daher bitte immer vorher den online-Kalender checken! \nWir öffnen bereits um ca. 18:45 Uhr\, damit ihr euch in Ruhe umziehen könnt\, und wir pünktlich beginnen können. \nOrt: Das Gugg – Heumühlgasse 14\, 1040 Wien \nEintritt: die HOSI Wien und unsere ehrenamtlichen Trainer freuen sich über jede freie Spende\, die am Ende der Einheit abgegeben werden kann – sie kommen vollumfänglich der Hosi Wien zugute.\n \nKontakt: yoga@archiv.hosiwien.at
URL:https://archiv.hosiwien.at/event/queer-yoga-2024_08/2024-08-11/
LOCATION:Gugg\, Heumühlgasse 14\, Wien\, 1040
CATEGORIES:Gruppen
GEO:48.1961598;16.3617969
X-APPLE-STRUCTURED-LOCATION;VALUE=URI;X-ADDRESS=Gugg Heumühlgasse 14 Wien 1040;X-APPLE-RADIUS=500;X-TITLE=Heumühlgasse 14:geo:16.3617969,48.1961598
END:VEVENT
BEGIN:VEVENT
DTSTART;TZID=Europe/Vienna:20240815T190000
DTEND;TZID=Europe/Vienna:20240815T210000
DTSTAMP:20260423T100516
CREATED:20240625T090333Z
LAST-MODIFIED:20241120T122013Z
UID:98526-1723748400-1723755600@archiv.hosiwien.at
SUMMARY:QYVIE Quiz
DESCRIPTION:Schnapp dir am Quiz-Abend deine Freund*innen und trete gemeinsam mit ihnen oder auch mit ganz neuen Bekanntschaften gegen andere Teams an.
URL:https://archiv.hosiwien.at/event/qyvie-quiz-4/2024-08-15/
LOCATION:Gugg\, Heumühlgasse 14\, Wien\, 1040
CATEGORIES:Gruppen
ATTACH;FMTTYPE=image/png:https://archiv.hosiwien.at/img/image/2024/QYVIE-Quiz-2024.png
ORGANIZER;CN="QYVIE":MAILTO:jugend@archiv.hosiwien.at
GEO:48.1961598;16.3617969
X-APPLE-STRUCTURED-LOCATION;VALUE=URI;X-ADDRESS=Gugg Heumühlgasse 14 Wien 1040;X-APPLE-RADIUS=500;X-TITLE=Heumühlgasse 14:geo:16.3617969,48.1961598
END:VEVENT
BEGIN:VEVENT
DTSTART;TZID=Europe/Vienna:20240817T093000
DTEND;TZID=Europe/Vienna:20240817T170000
DTSTAMP:20260423T100516
CREATED:20240805T102405Z
LAST-MODIFIED:20240805T141905Z
UID:98577-1723887000-1723914000@archiv.hosiwien.at
SUMMARY:Queer Sports Collective - Wanderung mit Michi
DESCRIPTION:Wir – Michi\, Jakob und Ina – freuen uns\, das 🌈Queer Sports Collective der @hosiwien vorzustellen! Als ehrenamtliche Initiative bieten wir ein vielfältiges Sportangebot in einem queerfreundlichen Umfeld an. Unser Programm umfasst unter anderem Wanderungen\, Radtouren und Laufgruppen. Das Angebot ist kostenfrei (außer Fahrtkosten) und richtet sich an alle Fitnesslevel. Seid dabei und erlebt mit uns die Freude an gemeinsamer Bewegung und Begegnung! \nDer genaue Treffpunkt wird so schnell wie möglich mitgeteilt. Wir freuen uns auf dich!\nDie Teilnahme ist kostenlos und auf eigene Verantwortung\, aus rechtlichen Gründen nur für volljährige Personen gestattet. Link zur (unverbindlichen) Anmeldung: bit.ly/4d9wCRd \n17.August\, Samstag\, 09:45: Wanderung auf die Hohe Wand  \n\nTreffpunkt: Bahnsteig Wien Hbf (Zug Richtung Payerbach-Reichenau\, Abfahrt 09:53)\nRoute: Grünbach am Schneeberg – Eicherthütte – Plackles – Schleimhitt’n – Geländehütte – Grünbach
URL:https://archiv.hosiwien.at/event/queer-sports-collective-wanderung-mit-michi/
CATEGORIES:Gruppen
ATTACH;FMTTYPE=image/jpeg:https://archiv.hosiwien.at/img/image/2024/Queer-sports-August-24.jpg
END:VEVENT
BEGIN:VEVENT
DTSTART;TZID=Europe/Vienna:20240818T190000
DTEND;TZID=Europe/Vienna:20240818T203000
DTSTAMP:20260423T100516
CREATED:20240516T092701Z
LAST-MODIFIED:20240808T095639Z
UID:98482-1724007600-1724013000@archiv.hosiwien.at
SUMMARY:Queer-Yoga
DESCRIPTION:Warum Queer-Yoga? Dafür gibt es so viele Gründe wie Farben im Regenbogen: anzukommen – im Hier und Jetzt\, und bei sich selbst-\, den eigenen Körper anzunehmen\, Achtsamkeit zu üben\, die Abwehrkräfte zu stärken. In jeder Yogastunde geht es darum\, tief ein- und auszuatmen\, jeden Muskel zu spüren und die Verbundenheit in der Gruppe zu erleben. \nMatías (er/ihm) und Florian (er/ihm) führen uns durch die Welt des Hatha- und Vinyasa-Yoga. Egal ob du schon Erfahrung hast oder nicht\, sie passen sich deinem Niveau an und helfen dir\, die Übungen richtig auszuführen. \nEin Raum für Yoga\, aber auch ein Safe Space für die Queer-Community: Alle LGBTQIA*s und ihre Freund*innen sind herzlich willkommen! Kommt in bequemer Kleidung und bringt eure Yogamatte mit\, vor Ort sind aber auch einige Matten verfügbar. \nDatum und Uhrzeit: sonntags\, von 19:00 bis 20:30. Achtung: eventuelle Termin-oder Uhrzeit-Änderungen sind möglich\, daher bitte immer vorher den online-Kalender checken! \nWir öffnen bereits um ca. 18:45 Uhr\, damit ihr euch in Ruhe umziehen könnt\, und wir pünktlich beginnen können. \nOrt: Das Gugg – Heumühlgasse 14\, 1040 Wien \nEintritt: die HOSI Wien und unsere ehrenamtlichen Trainer freuen sich über jede freie Spende\, die am Ende der Einheit abgegeben werden kann – sie kommen vollumfänglich der Hosi Wien zugute.\n \nKontakt: yoga@archiv.hosiwien.at
URL:https://archiv.hosiwien.at/event/queer-yoga-2024_08/2024-08-18/
LOCATION:Gugg\, Heumühlgasse 14\, Wien\, 1040
CATEGORIES:Gruppen
GEO:48.1961598;16.3617969
X-APPLE-STRUCTURED-LOCATION;VALUE=URI;X-ADDRESS=Gugg Heumühlgasse 14 Wien 1040;X-APPLE-RADIUS=500;X-TITLE=Heumühlgasse 14:geo:16.3617969,48.1961598
END:VEVENT
BEGIN:VEVENT
DTSTART;TZID=Europe/Vienna:20240823T200000
DTEND;TZID=Europe/Vienna:20240824T020000
DTSTAMP:20260423T100516
CREATED:20240624T085652Z
LAST-MODIFIED:20240624T085652Z
UID:98490-1724443200-1724464800@archiv.hosiwien.at
SUMMARY:Resis.danse Sommertanzabend
DESCRIPTION:Resis.danse Sommertanzabend \nCoole Drinks & heiße Rhythmen! \nAb 20 Uhr *women* only \nhttp://www.resisdanse.at/
URL:https://archiv.hosiwien.at/event/resis-danse-sommertanzabend-9/2024-08-23/
LOCATION:Gugg\, Heumühlgasse 14\, Wien\, 1040
CATEGORIES:Party
ATTACH;FMTTYPE=image/jpeg:https://archiv.hosiwien.at/img/image/2024/Resis.danse-Sommertanzabend-2024.jpg
ORGANIZER;CN="Resis.danse%20-%20FrauenTanzClub":MAILTO:tanzclub@resisdanse.at
GEO:48.1961598;16.3617969
X-APPLE-STRUCTURED-LOCATION;VALUE=URI;X-ADDRESS=Gugg Heumühlgasse 14 Wien 1040;X-APPLE-RADIUS=500;X-TITLE=Heumühlgasse 14:geo:16.3617969,48.1961598
END:VEVENT
BEGIN:VEVENT
DTSTART;TZID=Europe/Vienna:20240825T190000
DTEND;TZID=Europe/Vienna:20240825T203000
DTSTAMP:20260423T100516
CREATED:20240516T092701Z
LAST-MODIFIED:20240808T095639Z
UID:98483-1724612400-1724617800@archiv.hosiwien.at
SUMMARY:Queer-Yoga
DESCRIPTION:Warum Queer-Yoga? Dafür gibt es so viele Gründe wie Farben im Regenbogen: anzukommen – im Hier und Jetzt\, und bei sich selbst-\, den eigenen Körper anzunehmen\, Achtsamkeit zu üben\, die Abwehrkräfte zu stärken. In jeder Yogastunde geht es darum\, tief ein- und auszuatmen\, jeden Muskel zu spüren und die Verbundenheit in der Gruppe zu erleben. \nMatías (er/ihm) und Florian (er/ihm) führen uns durch die Welt des Hatha- und Vinyasa-Yoga. Egal ob du schon Erfahrung hast oder nicht\, sie passen sich deinem Niveau an und helfen dir\, die Übungen richtig auszuführen. \nEin Raum für Yoga\, aber auch ein Safe Space für die Queer-Community: Alle LGBTQIA*s und ihre Freund*innen sind herzlich willkommen! Kommt in bequemer Kleidung und bringt eure Yogamatte mit\, vor Ort sind aber auch einige Matten verfügbar. \nDatum und Uhrzeit: sonntags\, von 19:00 bis 20:30. Achtung: eventuelle Termin-oder Uhrzeit-Änderungen sind möglich\, daher bitte immer vorher den online-Kalender checken! \nWir öffnen bereits um ca. 18:45 Uhr\, damit ihr euch in Ruhe umziehen könnt\, und wir pünktlich beginnen können. \nOrt: Das Gugg – Heumühlgasse 14\, 1040 Wien \nEintritt: die HOSI Wien und unsere ehrenamtlichen Trainer freuen sich über jede freie Spende\, die am Ende der Einheit abgegeben werden kann – sie kommen vollumfänglich der Hosi Wien zugute.\n \nKontakt: yoga@archiv.hosiwien.at
URL:https://archiv.hosiwien.at/event/queer-yoga-2024_08/2024-08-25/
LOCATION:Gugg\, Heumühlgasse 14\, Wien\, 1040
CATEGORIES:Gruppen
GEO:48.1961598;16.3617969
X-APPLE-STRUCTURED-LOCATION;VALUE=URI;X-ADDRESS=Gugg Heumühlgasse 14 Wien 1040;X-APPLE-RADIUS=500;X-TITLE=Heumühlgasse 14:geo:16.3617969,48.1961598
END:VEVENT
BEGIN:VEVENT
DTSTART;TZID=Europe/Vienna:20240826T193000
DTEND;TZID=Europe/Vienna:20240826T223000
DTSTAMP:20260423T100516
CREATED:20240801T102415Z
LAST-MODIFIED:20240801T102532Z
UID:98548-1724700600-1724711400@archiv.hosiwien.at
SUMMARY:Salon Blau - Staffel 2
DESCRIPTION:Salon Blau ist zurück! 🥳 Nach Zugabe-Rufen im ersten Akt letztes Frühjahr\, möchten wir euch Staffel II der Drag- und Travestieshow\, mit der Zeremonienmeisterin Frau Blau 💃 und ihren fulminanten Bühnen-Gäst*innen\, keinesfalls vorenthalten. Denn „Life is a Cabaret old chum”\, auch diesen Spätsommer\, Herbst und Winter\, wie gewohnt im Vereinszentrum Gugg 🎩\nUnsere Tore öffnen sich weiterhin bereits ab 19:30 Uhr\, die Vorhänge allerdings erst zur vollen Stunde 🕗 Damit noch genug Zeit bleibt sich mit Getränken oder Toasts an der Bar einzudecken.\nAber Achtung: zu den bisher gewohnten Montagsterminen\, gesellt sich auf vielfachen Wunsch hin auch ein Samstagstermin. Konkret sind das der Mo. 26.08.\, Sa. 19.10.\, Mo. 11.11. und Mo. 09.12.24 🗓 Unser Konzept soll so vielen Menschen wie möglich den Zugang zu Performamcekunst ermöglichen\, also freuen wir uns auch über einen Besuch\, falls das Geld bereits knapp werden sollte! Wer möchte\, kann sich sogar dem jeweiligen Thema entsprechend herrichten. Denn egal wer du bist oder wie du ausschaust\, trete ein in den Salon Blau 💙\nBarrierefrei erreichbar. Wir bitten falls möglich um Mitnahme von Bargeld. Fragen oder Feedback an fraumarschiablau@gmail.com
URL:https://archiv.hosiwien.at/event/salon-blau-staffel-2/2024-08-26/
LOCATION:Gugg\, Heumühlgasse 14\, Wien\, 1040
CATEGORIES:kulturelle Veranstaltung
ATTACH;FMTTYPE=image/jpeg:https://archiv.hosiwien.at/img/image/2024/Salon-Blau-Staffel-II-Insta-scaled.jpg
GEO:48.1961598;16.3617969
X-APPLE-STRUCTURED-LOCATION;VALUE=URI;X-ADDRESS=Gugg Heumühlgasse 14 Wien 1040;X-APPLE-RADIUS=500;X-TITLE=Heumühlgasse 14:geo:16.3617969,48.1961598
END:VEVENT
BEGIN:VEVENT
DTSTART;TZID=Europe/Vienna:20240829T180000
DTEND;TZID=Europe/Vienna:20240829T200000
DTSTAMP:20260423T100516
CREATED:20240805T102522Z
LAST-MODIFIED:20240805T141940Z
UID:98579-1724954400-1724961600@archiv.hosiwien.at
SUMMARY:Queer Sports Collective - Laufen mit Ina
DESCRIPTION:Wir – Michi\, Jakob und Ina – freuen uns\, das 🌈Queer Sports Collective der @hosiwien vorzustellen! Als ehrenamtliche Initiative bieten wir ein vielfältiges Sportangebot in einem queerfreundlichen Umfeld an. Unser Programm umfasst unter anderem Wanderungen\, Radtouren und Laufgruppen. Das Angebot ist kostenfrei (außer Fahrtkosten) und richtet sich an alle Fitnesslevel. Seid dabei und erlebt mit uns die Freude an gemeinsamer Bewegung und Begegnung! \nDer genaue Treffpunkt wird so schnell wie möglich mitgeteilt. Wir freuen uns auf dich!\nDie Teilnahme ist kostenlos und auf eigene Verantwortung\, aus rechtlichen Gründen nur für volljährige Personen gestattet. Link zur (unverbindlichen) Anmeldung: bit.ly/4d9wCRd \n  \n  \n29. August\, Donnerstag\, 18:00: Laufen im Prater (genaue Infos folgen)
URL:https://archiv.hosiwien.at/event/queer-sports-collective-laufen-mit-ina/
LOCATION:Gugg\, Heumühlgasse 14\, Wien\, 1040
CATEGORIES:Gruppen
ATTACH;FMTTYPE=image/jpeg:https://archiv.hosiwien.at/img/image/2024/Queer-sports-August-24.jpg
GEO:48.1961598;16.3617969
X-APPLE-STRUCTURED-LOCATION;VALUE=URI;X-ADDRESS=Gugg Heumühlgasse 14 Wien 1040;X-APPLE-RADIUS=500;X-TITLE=Heumühlgasse 14:geo:16.3617969,48.1961598
END:VEVENT
BEGIN:VEVENT
DTSTART;TZID=Europe/Vienna:20240829T200000
DTEND;TZID=Europe/Vienna:20240829T213000
DTSTAMP:20260423T100516
CREATED:20240625T090558Z
LAST-MODIFIED:20240916T111117Z
UID:98527-1724961600-1724967000@archiv.hosiwien.at
SUMMARY:QYVIE Improtheater
DESCRIPTION:Lass den Impro-Funken überspringen beim QYVIE Jugendabend. Jeden letzten Donnerstag um 20 Uhr im Monat spielen wir zusammen ein Best-of Improtheater (+Übungen)\, ganz ohne Druck oder Verpflichtungen.
URL:https://archiv.hosiwien.at/event/qyvie-improtheater-2/2024-08-29/
LOCATION:Gugg\, Heumühlgasse 14\, Wien\, 1040
CATEGORIES:Gruppen
ATTACH;FMTTYPE=image/jpeg:https://archiv.hosiwien.at/img/image/2024/Improtheater.jpg
ORGANIZER;CN="QYVIE":MAILTO:jugend@archiv.hosiwien.at
GEO:48.1961598;16.3617969
X-APPLE-STRUCTURED-LOCATION;VALUE=URI;X-ADDRESS=Gugg Heumühlgasse 14 Wien 1040;X-APPLE-RADIUS=500;X-TITLE=Heumühlgasse 14:geo:16.3617969,48.1961598
END:VEVENT
END:VCALENDAR