BEGIN:VCALENDAR
VERSION:2.0
PRODID:-//Homosexuelle Initiative (HOSI) Wien - ECPv5.16.4//NONSGML v1.0//EN
CALSCALE:GREGORIAN
METHOD:PUBLISH
X-WR-CALNAME:Homosexuelle Initiative (HOSI) Wien
X-ORIGINAL-URL:https://archiv.hosiwien.at
X-WR-CALDESC:Events for Homosexuelle Initiative (HOSI) Wien
REFRESH-INTERVAL;VALUE=DURATION:PT1H
X-Robots-Tag:noindex
X-PUBLISHED-TTL:PT1H
BEGIN:VTIMEZONE
TZID:Europe/Vienna
BEGIN:DAYLIGHT
TZOFFSETFROM:+0100
TZOFFSETTO:+0200
TZNAME:CEST
DTSTART:20240331T010000
END:DAYLIGHT
BEGIN:STANDARD
TZOFFSETFROM:+0200
TZOFFSETTO:+0100
TZNAME:CET
DTSTART:20241027T010000
END:STANDARD
END:VTIMEZONE
BEGIN:VEVENT
DTSTART;TZID=Europe/Vienna:20240901T190000
DTEND;TZID=Europe/Vienna:20240901T203000
DTSTAMP:20260423T105950
CREATED:20240516T092825Z
LAST-MODIFIED:20240919T113959Z
UID:98401-1725217200-1725222600@archiv.hosiwien.at
SUMMARY:Queer-Yoga
DESCRIPTION:Warum Queer-Yoga? Dafür gibt es so viele Gründe wie Farben im Regenbogen: anzukommen – im Hier und Jetzt\, und bei sich selbst-\, den eigenen Körper anzunehmen\, Achtsamkeit zu üben\, die Abwehrkräfte zu stärken. In jeder Yogastunde geht es darum\, tief ein- und auszuatmen\, jeden Muskel zu spüren und die Verbundenheit in der Gruppe zu erleben. \nMatías (er/ihm) und Florian (er/ihm) führen uns durch die Welt des Hatha- und Vinyasa-Yoga. Egal ob du schon Erfahrung hast oder nicht\, sie passen sich deinem Niveau an und helfen dir\, die Übungen richtig auszuführen. \nEin Raum für Yoga\, aber auch ein Safe Space für die Queer-Community: Alle LGBTQIA*s und ihre Freund*innen sind herzlich willkommen! Kommt in bequemer Kleidung und bringt eure Yogamatte mit\, vor Ort sind aber auch einige Matten verfügbar. \nDatum und Uhrzeit: sonntags\, von 19:00 bis 20:30. Achtung: eventuelle Termin-oder Uhrzeit-Änderungen sind möglich\, daher bitte immer vorher den online-Kalender checken! \nWir öffnen bereits um ca. 18:45 Uhr\, damit ihr euch in Ruhe umziehen könnt\, und wir pünktlich beginnen können. \nOrt: Das Gugg – Heumühlgasse 14\, 1040 Wien \nEintritt: die HOSI Wien und unsere ehrenamtlichen Trainer freuen sich über jede freie Spende\, die am Ende der Einheit abgegeben werden kann – sie kommen vollumfänglich der Hosi Wien zugute.\n \nKontakt: yoga@archiv.hosiwien.at
URL:https://archiv.hosiwien.at/event/queer-yoga-2024_09/2024-09-01/
LOCATION:Gugg\, Heumühlgasse 14\, Wien\, 1040
CATEGORIES:Gruppen
GEO:48.1961598;16.3617969
X-APPLE-STRUCTURED-LOCATION;VALUE=URI;X-ADDRESS=Gugg Heumühlgasse 14 Wien 1040;X-APPLE-RADIUS=500;X-TITLE=Heumühlgasse 14:geo:16.3617969,48.1961598
END:VEVENT
BEGIN:VEVENT
DTSTART;TZID=Europe/Vienna:20240902T193000
DTEND;TZID=Europe/Vienna:20240902T220000
DTSTAMP:20260423T105950
CREATED:20240822T085441Z
LAST-MODIFIED:20240822T085449Z
UID:98651-1725305400-1725314400@archiv.hosiwien.at
SUMMARY:GAYS AND THEYS - Comedy Turns THREE!
DESCRIPTION:18+ \nThree years ago\, three queers got together and decided to make Vienna’s English comedy scene a little gayer. The rest is history 🌈 \nLet’s celebrate the third anniversary of Gays and Theys Comedy at Hosi’s Gugg with some of our favourite local comedians: Barbara Beisteiner\, Philipp Kroiss\, Mehdi and Jacob Liss! \nBring your friends\, your lovers\, your closeted cousin\, we can’t wait to entertain you all with the most hilarious stories from our queer lives 🤗 \n  \nTickets: GAYS AND THEYS – Comedy Turns THREE! – Tickets | Fienta
URL:https://archiv.hosiwien.at/event/gays-and-theys-comedy-turns-three/
LOCATION:Gugg\, Heumühlgasse 14\, Wien\, 1040
GEO:48.1961598;16.3617969
X-APPLE-STRUCTURED-LOCATION;VALUE=URI;X-ADDRESS=Gugg Heumühlgasse 14 Wien 1040;X-APPLE-RADIUS=500;X-TITLE=Heumühlgasse 14:geo:16.3617969,48.1961598
END:VEVENT
BEGIN:VEVENT
DTSTART;TZID=Europe/Vienna:20240906T210000
DTEND;TZID=Europe/Vienna:20240907T000000
DTSTAMP:20260423T105950
CREATED:20240910T123748Z
LAST-MODIFIED:20240910T124248Z
UID:98670-1725656400-1725667200@archiv.hosiwien.at
SUMMARY:Resis.Danse Frauentanzabend
DESCRIPTION:Eine Übungsmöglichkeit für alle tanzbegeisterten Frauen.\nEinfach vorbeikommen und mittanzen! \nImmer am Freitag nach den Resis.danse-Tanzworkshops in der gemütlichen Atmosphäre des Guggs\, ab 21 Uhr. \nGenauere Informationen auf der eigenen Website: www.resisdanse.at. \nFreier Eintritt!
URL:https://archiv.hosiwien.at/event/resis-danse-frauentanzabend/2024-09-06/
LOCATION:Gugg\, Heumühlgasse 14\, Wien\, 1040
CATEGORIES:Tanzabende
ATTACH;FMTTYPE=image/jpeg:https://archiv.hosiwien.at/img/image/2018/resisdance-5.jpg
ORGANIZER;CN="Resis.danse%20-%20FrauenTanzClub":MAILTO:tanzclub@resisdanse.at
GEO:48.1961598;16.3617969
X-APPLE-STRUCTURED-LOCATION;VALUE=URI;X-ADDRESS=Gugg Heumühlgasse 14 Wien 1040;X-APPLE-RADIUS=500;X-TITLE=Heumühlgasse 14:geo:16.3617969,48.1961598
END:VEVENT
BEGIN:VEVENT
DTSTART;TZID=Europe/Vienna:20240908T190000
DTEND;TZID=Europe/Vienna:20240908T203000
DTSTAMP:20260423T105950
CREATED:20240516T092825Z
LAST-MODIFIED:20240808T095627Z
UID:98477-1725822000-1725827400@archiv.hosiwien.at
SUMMARY:kein Queer-Yoga
DESCRIPTION:Am Sonntag\, 8.9. findet kein Queer-Yoga statt.
URL:https://archiv.hosiwien.at/event/queer-yoga-2024_09-08/
LOCATION:Gugg\, Heumühlgasse 14\, Wien\, 1040
CATEGORIES:Sperre
GEO:48.1961598;16.3617969
X-APPLE-STRUCTURED-LOCATION;VALUE=URI;X-ADDRESS=Gugg Heumühlgasse 14 Wien 1040;X-APPLE-RADIUS=500;X-TITLE=Heumühlgasse 14:geo:16.3617969,48.1961598
END:VEVENT
BEGIN:VEVENT
DTSTART;TZID=Europe/Vienna:20240913T210000
DTEND;TZID=Europe/Vienna:20240914T000000
DTSTAMP:20260423T105950
CREATED:20240910T123748Z
LAST-MODIFIED:20240910T123748Z
UID:98675-1726261200-1726272000@archiv.hosiwien.at
SUMMARY:Resis.Danse Frauentanzabend
DESCRIPTION:Eine Übungsmöglichkeit für alle tanzbegeisterten Frauen.\nEinfach vorbeikommen und mittanzen! \nImmer am Freitag nach den Resis.danse-Tanzworkshops in der gemütlichen Atmosphäre des Guggs\, ab 21 Uhr. \nGenauere Informationen auf der eigenen Website: www.resisdanse.at. \nFreier Eintritt!
URL:https://archiv.hosiwien.at/event/resis-danse-frauentanzabend/2024-09-13/
LOCATION:Gugg\, Heumühlgasse 14\, Wien\, 1040
CATEGORIES:Tanzabende
ATTACH;FMTTYPE=image/jpeg:https://archiv.hosiwien.at/img/image/2018/resisdance-5.jpg
ORGANIZER;CN="Resis.danse%20-%20FrauenTanzClub":MAILTO:tanzclub@resisdanse.at
GEO:48.1961598;16.3617969
X-APPLE-STRUCTURED-LOCATION;VALUE=URI;X-ADDRESS=Gugg Heumühlgasse 14 Wien 1040;X-APPLE-RADIUS=500;X-TITLE=Heumühlgasse 14:geo:16.3617969,48.1961598
END:VEVENT
BEGIN:VEVENT
DTSTART;TZID=Europe/Vienna:20240915T190000
DTEND;TZID=Europe/Vienna:20240915T203000
DTSTAMP:20260423T105950
CREATED:20240516T092825Z
LAST-MODIFIED:20240919T113959Z
UID:98478-1726426800-1726432200@archiv.hosiwien.at
SUMMARY:Queer-Yoga
DESCRIPTION:Warum Queer-Yoga? Dafür gibt es so viele Gründe wie Farben im Regenbogen: anzukommen – im Hier und Jetzt\, und bei sich selbst-\, den eigenen Körper anzunehmen\, Achtsamkeit zu üben\, die Abwehrkräfte zu stärken. In jeder Yogastunde geht es darum\, tief ein- und auszuatmen\, jeden Muskel zu spüren und die Verbundenheit in der Gruppe zu erleben. \nMatías (er/ihm) und Florian (er/ihm) führen uns durch die Welt des Hatha- und Vinyasa-Yoga. Egal ob du schon Erfahrung hast oder nicht\, sie passen sich deinem Niveau an und helfen dir\, die Übungen richtig auszuführen. \nEin Raum für Yoga\, aber auch ein Safe Space für die Queer-Community: Alle LGBTQIA*s und ihre Freund*innen sind herzlich willkommen! Kommt in bequemer Kleidung und bringt eure Yogamatte mit\, vor Ort sind aber auch einige Matten verfügbar. \nDatum und Uhrzeit: sonntags\, von 19:00 bis 20:30. Achtung: eventuelle Termin-oder Uhrzeit-Änderungen sind möglich\, daher bitte immer vorher den online-Kalender checken! \nWir öffnen bereits um ca. 18:45 Uhr\, damit ihr euch in Ruhe umziehen könnt\, und wir pünktlich beginnen können. \nOrt: Das Gugg – Heumühlgasse 14\, 1040 Wien \nEintritt: die HOSI Wien und unsere ehrenamtlichen Trainer freuen sich über jede freie Spende\, die am Ende der Einheit abgegeben werden kann – sie kommen vollumfänglich der Hosi Wien zugute.\n \nKontakt: yoga@archiv.hosiwien.at
URL:https://archiv.hosiwien.at/event/queer-yoga-2024_09/2024-09-15/
LOCATION:Gugg\, Heumühlgasse 14\, Wien\, 1040
CATEGORIES:Gruppen
GEO:48.1961598;16.3617969
X-APPLE-STRUCTURED-LOCATION;VALUE=URI;X-ADDRESS=Gugg Heumühlgasse 14 Wien 1040;X-APPLE-RADIUS=500;X-TITLE=Heumühlgasse 14:geo:16.3617969,48.1961598
END:VEVENT
BEGIN:VEVENT
DTSTART;TZID=Europe/Vienna:20240917T183000
DTEND;TZID=Europe/Vienna:20240917T230000
DTSTAMP:20260423T105950
CREATED:20240215T114146Z
LAST-MODIFIED:20240219T091623Z
UID:97923-1726597800-1726614000@archiv.hosiwien.at
SUMMARY:Pub Quiz
DESCRIPTION:Es wird wieder gerätselt im Gugg! \nBeim Pub-Quiz-Abend gilt es\, kniffelige Fragen und kuriose Aufgaben in Kleingruppen zu lösen. Die Teams formen wir am Abend spontan. Dem Sieger*innenteam winkt am Ende natürlich auch ein Preis! Komm allein oder mit Freund*innen und zeig uns\, was du kannst! Ellen und Berni werden schwungvoll durch den Abend moderieren und freuen sich schon sehr auf dein kommen! \nEinlass: 18:30 Uhr \nBeginn: 19:00 Uhr \nEintritt frei!
URL:https://archiv.hosiwien.at/event/pub-quiz-2/2024-09-17/
LOCATION:Gugg\, Heumühlgasse 14\, Wien\, 1040
CATEGORIES:kulturelle Veranstaltung
ATTACH;FMTTYPE=image/jpeg:https://archiv.hosiwien.at/img/image/2024/Pub-Quiz-24-scaled.jpg
GEO:48.1961598;16.3617969
X-APPLE-STRUCTURED-LOCATION;VALUE=URI;X-ADDRESS=Gugg Heumühlgasse 14 Wien 1040;X-APPLE-RADIUS=500;X-TITLE=Heumühlgasse 14:geo:16.3617969,48.1961598
END:VEVENT
BEGIN:VEVENT
DTSTART;TZID=Europe/Vienna:20240919T190000
DTEND;TZID=Europe/Vienna:20240919T210000
DTSTAMP:20260423T105950
CREATED:20240625T090333Z
LAST-MODIFIED:20241120T122013Z
UID:98751-1726772400-1726779600@archiv.hosiwien.at
SUMMARY:QYVIE Quiz
DESCRIPTION:Schnapp dir am Quiz-Abend deine Freund*innen und trete gemeinsam mit ihnen oder auch mit ganz neuen Bekanntschaften gegen andere Teams an.
URL:https://archiv.hosiwien.at/event/qyvie-quiz-4/2024-09-19/
LOCATION:Gugg\, Heumühlgasse 14\, Wien\, 1040
CATEGORIES:Gruppen
ATTACH;FMTTYPE=image/png:https://archiv.hosiwien.at/img/image/2024/QYVIE-Quiz-2024.png
ORGANIZER;CN="QYVIE":MAILTO:jugend@archiv.hosiwien.at
GEO:48.1961598;16.3617969
X-APPLE-STRUCTURED-LOCATION;VALUE=URI;X-ADDRESS=Gugg Heumühlgasse 14 Wien 1040;X-APPLE-RADIUS=500;X-TITLE=Heumühlgasse 14:geo:16.3617969,48.1961598
END:VEVENT
BEGIN:VEVENT
DTSTART;TZID=Europe/Vienna:20240921T120000
DTEND;TZID=Europe/Vienna:20240921T210000
DTSTAMP:20260423T105950
CREATED:20240808T095018Z
LAST-MODIFIED:20240918T094213Z
UID:98586-1726920000-1726952400@archiv.hosiwien.at
SUMMARY:45 Jahre HOSI Wien Straßenfest
DESCRIPTION:Die HOSI wird 45! 🎉 \n  \nDie HOSI Wien wurde im Jahr 1979 gegründet und kämpft als größte politische Interessenvertretung für Lesben\, Schwule\, Bisexuelle\, transgender und intergeschlechtliche Menschen in Österreich für deren Gleichberechtigung. \nEines unserer Hauptanliegen ist die rechtliche Gleichstellung und Durchsetzung der Menschenrechte von queeren Menschen. Wir wollen zurückschauen auf die letzten 45 Jahre und auf unsere Erfolge. \n  \nOhne die Unermüdlichkeit der vielen Aktivist*innen der HOSI Wien wären wir heute nicht da\, wo wir sind. Es gilt Erfolge zu feiern\, innezuhalten und Kraft für die Kämpfe zu schöpfen\, die auf uns zukommen. \nDazu laden wir euch herzlich ein: Besucht uns auf unserem Straßenfest am 21.09.2024 in der Heumühlgasse\, von 12:00-21:00 Uhr. \n\n \nWas erwartet euch? \n\n\n \n🏳️‍🌈 12 Uhr – Beginn Straßenfest \n\n\n \n🏳️‍🌈 13:00 Uhr – Drag Performance @ju_nutjob \n\n\n \n🏳️‍🌈 13:15 Uhr – Eröffnung \n\n\n \n🏳️‍🌈 13:30 Uhr – DJ TnT @tatjana_katze \n\n\n \n🏳️‍🌈 15:00 Uhr – Drag Performance @karl.klit \n\n\n \n🏳️‍🌈 15:15 Uhr – DJ @katiekace \n\n\n \n🏳️‍🌈 17:10 Uhr – Drag Performance @the_honey_mustard \n\n\n \n🏳️‍🌈 17:30 Uhr – Festreden \n\n\n \n🏳️‍🌈 18:00 Uhr – DJ @djnicamusic \n\n\n \n🏳️‍🌈 19:10 Uhr – Drag Performance @fraumarschiablau \n\n\n \n🏳️‍🌈 19:30 Uhr – DJ & Drag Performance @metamorkid \n\n\n \n🏳️‍🌈 20:00 Uhr – DJ @djnicamusic \n\n\n \nNatürlich gibt es auch spannende Workshops von unseren Kolleg*innen und Freund*innen: \n\n\n \n🏳️‍🌈 13:00 Uhr – Queer History Workshop mit Sebastian Pay \n\n\n \n🏳️‍🌈 15:00 Uhr – Drag Workshop mit Honey Mustard \n\n\n \n🏳️‍🌈 18:00 Uhr – Führung um den Block von QWIEN – Zentrum für queere Geschichte \n\n\n \n  \n\n\n \nWir freuen uns auf ein fulminantes Fest mit euch!
URL:https://archiv.hosiwien.at/event/45-jahre-hosi-wien-strassenfest/
LOCATION:Gugg\, Heumühlgasse 14\, Wien\, 1040
CATEGORIES:kulturelle Veranstaltung,Party
ATTACH;FMTTYPE=image/jpeg:https://archiv.hosiwien.at/img/image/2024/45-Jahre-HOSI-Strassenfest-1-scaled.jpg
GEO:48.1961598;16.3617969
X-APPLE-STRUCTURED-LOCATION;VALUE=URI;X-ADDRESS=Gugg Heumühlgasse 14 Wien 1040;X-APPLE-RADIUS=500;X-TITLE=Heumühlgasse 14:geo:16.3617969,48.1961598
END:VEVENT
BEGIN:VEVENT
DTSTART;TZID=Europe/Vienna:20240922T190000
DTEND;TZID=Europe/Vienna:20240922T203000
DTSTAMP:20260423T105950
CREATED:20240919T114208Z
LAST-MODIFIED:20240919T114228Z
UID:98789-1727031600-1727037000@archiv.hosiwien.at
SUMMARY:kein Queer-Yoga
DESCRIPTION:Aufgrund des Straßenfestes am Vortag findet am Sonntag\, 22.9. kein Queer-Yoga statt.
URL:https://archiv.hosiwien.at/event/kein-queer-yoga-2024_09_22/
LOCATION:Gugg\, Heumühlgasse 14\, Wien\, 1040
CATEGORIES:Sperre
GEO:48.1961598;16.3617969
X-APPLE-STRUCTURED-LOCATION;VALUE=URI;X-ADDRESS=Gugg Heumühlgasse 14 Wien 1040;X-APPLE-RADIUS=500;X-TITLE=Heumühlgasse 14:geo:16.3617969,48.1961598
END:VEVENT
BEGIN:VEVENT
DTSTART;TZID=Europe/Vienna:20240924T190000
DTEND;TZID=Europe/Vienna:20240924T230000
DTSTAMP:20260423T105950
CREATED:20240625T113923Z
LAST-MODIFIED:20240912T085705Z
UID:98499-1727204400-1727218800@archiv.hosiwien.at
SUMMARY:50+ Prime Timers
DESCRIPTION:Die 50+ Prime Timers sind eine Gruppe speziell für Menschen über 50 Jahren.\nDu suchst Anschluss oder möchtest dich in der gemütlichen Atmosphäre des Guggs mit anderen austauschen?\nDann komm‘ doch einfach zum Treffen der Prime Timers\, die sich jeden 3. Dienstag im Monat ab 19 Uhr im Gugg treffen. \nDas Treffen findet im Barbereich statt. \nHINWEIS: Das umfangreiche Serviceangebot der HOSI Wien wird durch ehrenamtliches Engagement erbracht. Wie du die wichtige Arbeit des Vereins durch Spende oder Mitgliedschaft unterstützen kannst\, erfährst du unter archiv.hosiwien.at/mitgliedschaft.
URL:https://archiv.hosiwien.at/event/50-prime-timers-32-2024-09-17/
LOCATION:Gugg\, Heumühlgasse 14\, Wien\, 1040
CATEGORIES:Gruppen
ATTACH;FMTTYPE=image/png:https://archiv.hosiwien.at/img/primetimers-event.png
GEO:48.1961598;16.3617969
X-APPLE-STRUCTURED-LOCATION;VALUE=URI;X-ADDRESS=Gugg Heumühlgasse 14 Wien 1040;X-APPLE-RADIUS=500;X-TITLE=Heumühlgasse 14:geo:16.3617969,48.1961598
END:VEVENT
BEGIN:VEVENT
DTSTART;TZID=Europe/Vienna:20240926T200000
DTEND;TZID=Europe/Vienna:20240926T213000
DTSTAMP:20260423T105950
CREATED:20240625T090558Z
LAST-MODIFIED:20240625T090558Z
UID:98753-1727380800-1727386200@archiv.hosiwien.at
SUMMARY:QYVIE Improtheater
DESCRIPTION:Lass den Impro-Funken überspringen beim QYVIE Jugendabend. Jeden letzten Donnerstag um 20 Uhr im Monat spielen wir zusammen ein Best-of Improtheater (+Übungen)\, ganz ohne Druck oder Verpflichtungen.
URL:https://archiv.hosiwien.at/event/qyvie-improtheater-2/2024-09-26/
LOCATION:Gugg\, Heumühlgasse 14\, Wien\, 1040
CATEGORIES:Gruppen
ATTACH;FMTTYPE=image/jpeg:https://archiv.hosiwien.at/img/image/2024/Improtheater.jpg
ORGANIZER;CN="QYVIE":MAILTO:jugend@archiv.hosiwien.at
GEO:48.1961598;16.3617969
X-APPLE-STRUCTURED-LOCATION;VALUE=URI;X-ADDRESS=Gugg Heumühlgasse 14 Wien 1040;X-APPLE-RADIUS=500;X-TITLE=Heumühlgasse 14:geo:16.3617969,48.1961598
END:VEVENT
BEGIN:VEVENT
DTSTART;TZID=Europe/Vienna:20240927T210000
DTEND;TZID=Europe/Vienna:20240928T000000
DTSTAMP:20260423T105950
CREATED:20240910T123748Z
LAST-MODIFIED:20240910T123748Z
UID:98676-1727470800-1727481600@archiv.hosiwien.at
SUMMARY:Resis.Danse Frauentanzabend
DESCRIPTION:Eine Übungsmöglichkeit für alle tanzbegeisterten Frauen.\nEinfach vorbeikommen und mittanzen! \nImmer am Freitag nach den Resis.danse-Tanzworkshops in der gemütlichen Atmosphäre des Guggs\, ab 21 Uhr. \nGenauere Informationen auf der eigenen Website: www.resisdanse.at. \nFreier Eintritt!
URL:https://archiv.hosiwien.at/event/resis-danse-frauentanzabend/2024-09-27/
LOCATION:Gugg\, Heumühlgasse 14\, Wien\, 1040
CATEGORIES:Tanzabende
ATTACH;FMTTYPE=image/jpeg:https://archiv.hosiwien.at/img/image/2018/resisdance-5.jpg
ORGANIZER;CN="Resis.danse%20-%20FrauenTanzClub":MAILTO:tanzclub@resisdanse.at
GEO:48.1961598;16.3617969
X-APPLE-STRUCTURED-LOCATION;VALUE=URI;X-ADDRESS=Gugg Heumühlgasse 14 Wien 1040;X-APPLE-RADIUS=500;X-TITLE=Heumühlgasse 14:geo:16.3617969,48.1961598
END:VEVENT
BEGIN:VEVENT
DTSTART;TZID=Europe/Vienna:20240929T190000
DTEND;TZID=Europe/Vienna:20240929T203000
DTSTAMP:20260423T105950
CREATED:20240516T092825Z
LAST-MODIFIED:20240919T113959Z
UID:98480-1727636400-1727641800@archiv.hosiwien.at
SUMMARY:Queer-Yoga
DESCRIPTION:Warum Queer-Yoga? Dafür gibt es so viele Gründe wie Farben im Regenbogen: anzukommen – im Hier und Jetzt\, und bei sich selbst-\, den eigenen Körper anzunehmen\, Achtsamkeit zu üben\, die Abwehrkräfte zu stärken. In jeder Yogastunde geht es darum\, tief ein- und auszuatmen\, jeden Muskel zu spüren und die Verbundenheit in der Gruppe zu erleben. \nMatías (er/ihm) und Florian (er/ihm) führen uns durch die Welt des Hatha- und Vinyasa-Yoga. Egal ob du schon Erfahrung hast oder nicht\, sie passen sich deinem Niveau an und helfen dir\, die Übungen richtig auszuführen. \nEin Raum für Yoga\, aber auch ein Safe Space für die Queer-Community: Alle LGBTQIA*s und ihre Freund*innen sind herzlich willkommen! Kommt in bequemer Kleidung und bringt eure Yogamatte mit\, vor Ort sind aber auch einige Matten verfügbar. \nDatum und Uhrzeit: sonntags\, von 19:00 bis 20:30. Achtung: eventuelle Termin-oder Uhrzeit-Änderungen sind möglich\, daher bitte immer vorher den online-Kalender checken! \nWir öffnen bereits um ca. 18:45 Uhr\, damit ihr euch in Ruhe umziehen könnt\, und wir pünktlich beginnen können. \nOrt: Das Gugg – Heumühlgasse 14\, 1040 Wien \nEintritt: die HOSI Wien und unsere ehrenamtlichen Trainer freuen sich über jede freie Spende\, die am Ende der Einheit abgegeben werden kann – sie kommen vollumfänglich der Hosi Wien zugute.\n \nKontakt: yoga@archiv.hosiwien.at
URL:https://archiv.hosiwien.at/event/queer-yoga-2024_09/2024-09-29/
LOCATION:Gugg\, Heumühlgasse 14\, Wien\, 1040
CATEGORIES:Gruppen
GEO:48.1961598;16.3617969
X-APPLE-STRUCTURED-LOCATION;VALUE=URI;X-ADDRESS=Gugg Heumühlgasse 14 Wien 1040;X-APPLE-RADIUS=500;X-TITLE=Heumühlgasse 14:geo:16.3617969,48.1961598
END:VEVENT
END:VCALENDAR