BEGIN:VCALENDAR
VERSION:2.0
PRODID:-//Homosexuelle Initiative (HOSI) Wien - ECPv5.16.4//NONSGML v1.0//EN
CALSCALE:GREGORIAN
METHOD:PUBLISH
X-ORIGINAL-URL:https://archiv.hosiwien.at
X-WR-CALDESC:Events for Homosexuelle Initiative (HOSI) Wien
REFRESH-INTERVAL;VALUE=DURATION:PT1H
X-Robots-Tag:noindex
X-PUBLISHED-TTL:PT1H
BEGIN:VTIMEZONE
TZID:Europe/Vienna
BEGIN:DAYLIGHT
TZOFFSETFROM:+0100
TZOFFSETTO:+0200
TZNAME:CEST
DTSTART:20240331T010000
END:DAYLIGHT
BEGIN:STANDARD
TZOFFSETFROM:+0200
TZOFFSETTO:+0100
TZNAME:CET
DTSTART:20241027T010000
END:STANDARD
END:VTIMEZONE
BEGIN:VEVENT
DTSTART;TZID=Europe/Vienna:20241003T190000
DTEND;TZID=Europe/Vienna:20241003T210000
DTSTAMP:20260423T134532
CREATED:20240916T111357Z
LAST-MODIFIED:20240916T112048Z
UID:98757-1727982000-1727989200@archiv.hosiwien.at
SUMMARY:QYVIE Karaoke
DESCRIPTION:
URL:https://archiv.hosiwien.at/event/qyvie-karaoke/
LOCATION:Gugg\, Heumühlgasse 14\, Wien\, 1040
CATEGORIES:Gruppen
ORGANIZER;CN="QYVIE":MAILTO:jugend@archiv.hosiwien.at
GEO:48.1961598;16.3617969
X-APPLE-STRUCTURED-LOCATION;VALUE=URI;X-ADDRESS=Gugg Heumühlgasse 14 Wien 1040;X-APPLE-RADIUS=500;X-TITLE=Heumühlgasse 14:geo:16.3617969,48.1961598
END:VEVENT
BEGIN:VEVENT
DTSTART;TZID=Europe/Vienna:20241004T210000
DTEND;TZID=Europe/Vienna:20241005T000000
DTSTAMP:20260423T134532
CREATED:20240910T123748Z
LAST-MODIFIED:20240910T123748Z
UID:98677-1728075600-1728086400@archiv.hosiwien.at
SUMMARY:Resis.Danse Frauentanzabend
DESCRIPTION:Eine Übungsmöglichkeit für alle tanzbegeisterten Frauen.\nEinfach vorbeikommen und mittanzen! \nImmer am Freitag nach den Resis.danse-Tanzworkshops in der gemütlichen Atmosphäre des Guggs\, ab 21 Uhr. \nGenauere Informationen auf der eigenen Website: www.resisdanse.at. \nFreier Eintritt!
URL:https://archiv.hosiwien.at/event/resis-danse-frauentanzabend/2024-10-04/
LOCATION:Gugg\, Heumühlgasse 14\, Wien\, 1040
CATEGORIES:Tanzabende
ATTACH;FMTTYPE=image/jpeg:https://archiv.hosiwien.at/img/image/2018/resisdance-5.jpg
ORGANIZER;CN="Resis.danse%20-%20FrauenTanzClub":MAILTO:tanzclub@resisdanse.at
GEO:48.1961598;16.3617969
X-APPLE-STRUCTURED-LOCATION;VALUE=URI;X-ADDRESS=Gugg Heumühlgasse 14 Wien 1040;X-APPLE-RADIUS=500;X-TITLE=Heumühlgasse 14:geo:16.3617969,48.1961598
END:VEVENT
BEGIN:VEVENT
DTSTART;TZID=Europe/Vienna:20241005T190000
DTEND;TZID=Europe/Vienna:20241006T020000
DTSTAMP:20260423T134532
CREATED:20240911T103559Z
LAST-MODIFIED:20240911T103559Z
UID:98704-1728154800-1728180000@archiv.hosiwien.at
SUMMARY:Eurovision Live 2024 mit Cover Contest
DESCRIPTION:Das legendäre Club-Event im Herbst \n\nESC-Stargäste auf der OGAE-Austria-Bühne\nCover Contest für Mitglieder & Freund*innen\nLive-DJs\nDas Gugg\, Heumühlgasse 14/1\, 1040 Wien\nSamstag\, 5. Oktober 2024\nab 19:00 Uhr\n\nEintritt frei – Everybody welcome! \nCover Contest: Nur ein Lied für Malta\nBeim Eurovision Weekend in Hamburg im Juli hat Martina Fenech als Repräsentantin für Malta den FANvision 2024 gewonnen – übrigens mit einer überragenden Interpretation des österreichischen Siegertitels „Rise Like A Phoenix“ von Conchita Wurst. Für Österreich hat Elisabeth Sutrich mit „Same Heart“ von Mei Feingold den dritten Platz belegt und wir können stolzer nicht sein. \nDamit wird der FANvision 2025 voraussichtlich in Malta stattfinden und wir suchen unsere*n Vertreter*in für Österreich. Willst du in Elisabeth stimmgewaltige Fußstapfen treten? Dann wähle deine liebste ESC-Nummer oder einen Beitrag aus einem ESC-Vorentscheid aus und mach mit beim Cover Contest am 5. Oktober. \n  \nWeiter Infos auf der Website des OGAE Austria: OGAE Austria – Österreichs offizieller Song Contest-Fanclub (ogae-austria.at)
URL:https://archiv.hosiwien.at/event/eurovision-live-2024-mit-cover-contest/
LOCATION:Gugg\, Heumühlgasse 14\, Wien\, 1040
CATEGORIES:kulturelle Veranstaltung
ATTACH;FMTTYPE=image/jpeg:https://archiv.hosiwien.at/img/image/2024/2024-10-05-Eurovision-Live-16-9-2048x1152-1.jpg
ORGANIZER;CN="OGAE%20Austria":MAILTO:club@ogae-austria.at
GEO:48.1961598;16.3617969
X-APPLE-STRUCTURED-LOCATION;VALUE=URI;X-ADDRESS=Gugg Heumühlgasse 14 Wien 1040;X-APPLE-RADIUS=500;X-TITLE=Heumühlgasse 14:geo:16.3617969,48.1961598
END:VEVENT
BEGIN:VEVENT
DTSTART;TZID=Europe/Vienna:20241006T180000
DTEND;TZID=Europe/Vienna:20241006T193000
DTSTAMP:20260423T134532
CREATED:20240808T095519Z
LAST-MODIFIED:20240808T095519Z
UID:98591-1728237600-1728243000@archiv.hosiwien.at
SUMMARY:Queer-Yoga
DESCRIPTION:Warum Queer-Yoga? Dafür gibt es so viele Gründe wie Farben im Regenbogen: anzukommen – im Hier und Jetzt\, und bei sich selbst-\, den eigenen Körper anzunehmen\, Achtsamkeit zu üben\, die Abwehrkräfte zu stärken. In jeder Yogastunde geht es darum\, tief ein- und auszuatmen\, jeden Muskel zu spüren und die Verbundenheit in der Gruppe zu erleben. \nMatías (er/ihm) und Florian (er/ihm) führen uns durch die Welt des Hatha- und Vinyasa-Yoga. Egal ob du schon Erfahrung hast oder nicht\, sie passen sich deinem Niveau an und helfen dir\, die Übungen richtig auszuführen. \nEin Raum für Yoga\, aber auch ein Safe Space für die Queer-Community: Alle LGBTQIA*s und ihre Freund*innen sind herzlich willkommen! Kommt in bequemer Kleidung und bringt eure Yogamatte mit\, vor Ort sind aber auch einige Matten verfügbar. \nDatum und Uhrzeit: sonntags\, ab Oktober von 18:00 bis 19:30. Achtung: eventuelle Termin-oder Uhrzeit-Änderungen sind möglich\, daher bitte immer vorher den online-Kalender checken! \nWir öffnen bereits um ca. 17:45 Uhr\, damit ihr euch in Ruhe umziehen könnt\, und wir pünktlich beginnen können. \nOrt: Das Gugg – Heumühlgasse 14\, 1040 Wien \nEintritt: die HOSI Wien und unsere ehrenamtlichen Trainer freuen sich über jede freie Spende\, die am Ende der Einheit abgegeben werden kann – sie kommen vollumfänglich der Hosi Wien zugute.\n \nKontakt: yoga@archiv.hosiwien.at
URL:https://archiv.hosiwien.at/event/queer-yoga-2024_10/
LOCATION:Gugg\, Heumühlgasse 14\, Wien\, 1040
CATEGORIES:Gruppen
GEO:48.1961598;16.3617969
X-APPLE-STRUCTURED-LOCATION;VALUE=URI;X-ADDRESS=Gugg Heumühlgasse 14 Wien 1040;X-APPLE-RADIUS=500;X-TITLE=Heumühlgasse 14:geo:16.3617969,48.1961598
END:VEVENT
BEGIN:VEVENT
DTSTART;TZID=Europe/Vienna:20241010T190000
DTEND;TZID=Europe/Vienna:20241010T210000
DTSTAMP:20260423T134532
CREATED:20240916T111305Z
LAST-MODIFIED:20240916T111305Z
UID:98755-1728586800-1728594000@archiv.hosiwien.at
SUMMARY:Coming-out Workshop
DESCRIPTION:Du willst deine Geschichte teilen und dabei kreativ werden? Wir veranstalten wieder einen Coming-out Workshop  – komm vorbei! Anlässlich des Coming-out Days am 11.10. werden wir über unsere Coming-out Geschichten sprechen\, während wir kleine Kunstwerke gestalten. So kannst du dich in einem gemütlichen Setting mit anderen austauschen\, von dir erzählen und andere queere Menschen kennenlernen.
URL:https://archiv.hosiwien.at/event/coming-out-workshop/
LOCATION:Gugg\, Heumühlgasse 14\, Wien\, 1040
CATEGORIES:Gruppen
ORGANIZER;CN="QYVIE":MAILTO:jugend@archiv.hosiwien.at
GEO:48.1961598;16.3617969
X-APPLE-STRUCTURED-LOCATION;VALUE=URI;X-ADDRESS=Gugg Heumühlgasse 14 Wien 1040;X-APPLE-RADIUS=500;X-TITLE=Heumühlgasse 14:geo:16.3617969,48.1961598
END:VEVENT
BEGIN:VEVENT
DTSTART;TZID=Europe/Vienna:20241011T210000
DTEND;TZID=Europe/Vienna:20241012T000000
DTSTAMP:20260423T134532
CREATED:20240910T123748Z
LAST-MODIFIED:20240910T123748Z
UID:98678-1728680400-1728691200@archiv.hosiwien.at
SUMMARY:Resis.Danse Frauentanzabend
DESCRIPTION:Eine Übungsmöglichkeit für alle tanzbegeisterten Frauen.\nEinfach vorbeikommen und mittanzen! \nImmer am Freitag nach den Resis.danse-Tanzworkshops in der gemütlichen Atmosphäre des Guggs\, ab 21 Uhr. \nGenauere Informationen auf der eigenen Website: www.resisdanse.at. \nFreier Eintritt!
URL:https://archiv.hosiwien.at/event/resis-danse-frauentanzabend/2024-10-11/
LOCATION:Gugg\, Heumühlgasse 14\, Wien\, 1040
CATEGORIES:Tanzabende
ATTACH;FMTTYPE=image/jpeg:https://archiv.hosiwien.at/img/image/2018/resisdance-5.jpg
ORGANIZER;CN="Resis.danse%20-%20FrauenTanzClub":MAILTO:tanzclub@resisdanse.at
GEO:48.1961598;16.3617969
X-APPLE-STRUCTURED-LOCATION;VALUE=URI;X-ADDRESS=Gugg Heumühlgasse 14 Wien 1040;X-APPLE-RADIUS=500;X-TITLE=Heumühlgasse 14:geo:16.3617969,48.1961598
END:VEVENT
BEGIN:VEVENT
DTSTART;TZID=Europe/Vienna:20241013T180000
DTEND;TZID=Europe/Vienna:20241013T193000
DTSTAMP:20260423T134532
CREATED:20240808T095519Z
LAST-MODIFIED:20240808T095519Z
UID:98597-1728842400-1728847800@archiv.hosiwien.at
SUMMARY:Queer-Yoga
DESCRIPTION:Warum Queer-Yoga? Dafür gibt es so viele Gründe wie Farben im Regenbogen: anzukommen – im Hier und Jetzt\, und bei sich selbst-\, den eigenen Körper anzunehmen\, Achtsamkeit zu üben\, die Abwehrkräfte zu stärken. In jeder Yogastunde geht es darum\, tief ein- und auszuatmen\, jeden Muskel zu spüren und die Verbundenheit in der Gruppe zu erleben. \nMatías (er/ihm) und Florian (er/ihm) führen uns durch die Welt des Hatha- und Vinyasa-Yoga. Egal ob du schon Erfahrung hast oder nicht\, sie passen sich deinem Niveau an und helfen dir\, die Übungen richtig auszuführen. \nEin Raum für Yoga\, aber auch ein Safe Space für die Queer-Community: Alle LGBTQIA*s und ihre Freund*innen sind herzlich willkommen! Kommt in bequemer Kleidung und bringt eure Yogamatte mit\, vor Ort sind aber auch einige Matten verfügbar. \nDatum und Uhrzeit: sonntags\, ab Oktober von 18:00 bis 19:30. Achtung: eventuelle Termin-oder Uhrzeit-Änderungen sind möglich\, daher bitte immer vorher den online-Kalender checken! \nWir öffnen bereits um ca. 17:45 Uhr\, damit ihr euch in Ruhe umziehen könnt\, und wir pünktlich beginnen können. \nOrt: Das Gugg – Heumühlgasse 14\, 1040 Wien \nEintritt: die HOSI Wien und unsere ehrenamtlichen Trainer freuen sich über jede freie Spende\, die am Ende der Einheit abgegeben werden kann – sie kommen vollumfänglich der Hosi Wien zugute.\n \nKontakt: yoga@archiv.hosiwien.at
URL:https://archiv.hosiwien.at/event/queer-yoga-2024_10/2024-10-13/
LOCATION:Gugg\, Heumühlgasse 14\, Wien\, 1040
CATEGORIES:Gruppen
GEO:48.1961598;16.3617969
X-APPLE-STRUCTURED-LOCATION;VALUE=URI;X-ADDRESS=Gugg Heumühlgasse 14 Wien 1040;X-APPLE-RADIUS=500;X-TITLE=Heumühlgasse 14:geo:16.3617969,48.1961598
END:VEVENT
BEGIN:VEVENT
DTSTART;TZID=Europe/Vienna:20241015T193000
DTEND;TZID=Europe/Vienna:20241015T213000
DTSTAMP:20260423T134532
CREATED:20240821T110327Z
LAST-MODIFIED:20240821T111148Z
UID:98640-1729020600-1729027800@archiv.hosiwien.at
SUMMARY:Names Project Wien Präsentation und Gesprächsrunde
DESCRIPTION:Die Mitbegründerin des Names Projects Wien\, Zeitzeugin und Aktivistin Brigitte Zika-Holoubek steht an diesem Abend für euch bereit und erzählt über die Entstehung der HOSI Wien Arbeitsgruppe und Geschichten von Opfern aus der Zeit der Aidskrise: Wie wichtig ist die Erinnerung an diese schwierige Zeit für die LGBTIQ Community und was war der Beweggrund das Projekt nach Wien zu holen? Zusammen schauen wir uns auch die historischen Quilts und ihre traditionelle Präsentation und Falttechnik an. \n15. Oktober 2024\, 19:30 Uhr\nDas Gugg\, Heumühlgasse 14/1\, 1040 Wien \n  \nWarnung: Bei dieser Veranstaltung geht es um die Aidskrise in Wien und deren Opfer\, was sehr belastend sein kann. Es ist jederzeit möglich\, sich aus der Präsentation zurückzuziehen und einen ruhigen Raum aufzusuchen.
URL:https://archiv.hosiwien.at/event/names-project-wien-praesentation-und-gespraechsrunde/
LOCATION:Gugg\, Heumühlgasse 14\, Wien\, 1040
CATEGORIES:Infoveranstaltung,Workshop
ATTACH;FMTTYPE=image/jpeg:https://archiv.hosiwien.at/img/image/2024/Names-Project-Wien-scaled.jpg
ORGANIZER;CN="Names%20Project%20Wien":MAILTO:office@namesproject.at
GEO:48.1961598;16.3617969
X-APPLE-STRUCTURED-LOCATION;VALUE=URI;X-ADDRESS=Gugg Heumühlgasse 14 Wien 1040;X-APPLE-RADIUS=500;X-TITLE=Heumühlgasse 14:geo:16.3617969,48.1961598
END:VEVENT
BEGIN:VEVENT
DTSTART;TZID=Europe/Vienna:20241016T200000
DTEND;TZID=Europe/Vienna:20241016T230000
DTSTAMP:20260423T134532
CREATED:20241014T080206Z
LAST-MODIFIED:20241014T080206Z
UID:98858-1729108800-1729119600@archiv.hosiwien.at
SUMMARY:LesBiFem Wuzzel-Turnier
DESCRIPTION:Am 16.10. gibt es wieder das allseits beliebte Wuzzel-Turnier in der LesBiFem-Gruppe. \nAnmeldungen sind bis 19:45 möglich. \nDie Teilnahme erfolgt in 2er Teams und es gilt die LesBiFem-Einladungspolicy. \n  \nWir freuen uns auf dich!
URL:https://archiv.hosiwien.at/event/lesbifem-wuzzel-turnier/
LOCATION:Gugg\, Heumühlgasse 14\, Wien\, 1040
CATEGORIES:Gruppen
ATTACH;FMTTYPE=image/png:https://archiv.hosiwien.at/img/image/2024/LesBiFem-Wuzzel-10.2024.png
GEO:48.1961598;16.3617969
X-APPLE-STRUCTURED-LOCATION;VALUE=URI;X-ADDRESS=Gugg Heumühlgasse 14 Wien 1040;X-APPLE-RADIUS=500;X-TITLE=Heumühlgasse 14:geo:16.3617969,48.1961598
END:VEVENT
BEGIN:VEVENT
DTSTART;TZID=Europe/Vienna:20241017T190000
DTEND;TZID=Europe/Vienna:20241017T210000
DTSTAMP:20260423T134532
CREATED:20241014T091742Z
LAST-MODIFIED:20241120T122052Z
UID:98868-1729191600-1729198800@archiv.hosiwien.at
SUMMARY:QYVIE Werwolf-Abend
DESCRIPTION:Bereit für Täuschung\, Spannung und jede Menge Spaß? Komm zu unserem nächsten Werwolf-Spiel und erlebe einen Abend voller Geheimnisse und Nervenkitzel! Ob als listiger Werwolf oder cleverer Dorfbewohni – finde heraus\, wer die wahren Verbündeten sind. Bring Freund*innen mit und lass dich nicht erwischen!
URL:https://archiv.hosiwien.at/event/qyvie-werwolf-abend/2024-10-17/
LOCATION:Gugg\, Heumühlgasse 14\, Wien\, 1040
CATEGORIES:Gruppen
ORGANIZER;CN="QYVIE":MAILTO:jugend@archiv.hosiwien.at
GEO:48.1961598;16.3617969
X-APPLE-STRUCTURED-LOCATION;VALUE=URI;X-ADDRESS=Gugg Heumühlgasse 14 Wien 1040;X-APPLE-RADIUS=500;X-TITLE=Heumühlgasse 14:geo:16.3617969,48.1961598
END:VEVENT
BEGIN:VEVENT
DTSTART;TZID=Europe/Vienna:20241018T210000
DTEND;TZID=Europe/Vienna:20241019T000000
DTSTAMP:20260423T134532
CREATED:20240910T123748Z
LAST-MODIFIED:20240910T123748Z
UID:98679-1729285200-1729296000@archiv.hosiwien.at
SUMMARY:Resis.Danse Frauentanzabend
DESCRIPTION:Eine Übungsmöglichkeit für alle tanzbegeisterten Frauen.\nEinfach vorbeikommen und mittanzen! \nImmer am Freitag nach den Resis.danse-Tanzworkshops in der gemütlichen Atmosphäre des Guggs\, ab 21 Uhr. \nGenauere Informationen auf der eigenen Website: www.resisdanse.at. \nFreier Eintritt!
URL:https://archiv.hosiwien.at/event/resis-danse-frauentanzabend/2024-10-18/
LOCATION:Gugg\, Heumühlgasse 14\, Wien\, 1040
CATEGORIES:Tanzabende
ATTACH;FMTTYPE=image/jpeg:https://archiv.hosiwien.at/img/image/2018/resisdance-5.jpg
ORGANIZER;CN="Resis.danse%20-%20FrauenTanzClub":MAILTO:tanzclub@resisdanse.at
GEO:48.1961598;16.3617969
X-APPLE-STRUCTURED-LOCATION;VALUE=URI;X-ADDRESS=Gugg Heumühlgasse 14 Wien 1040;X-APPLE-RADIUS=500;X-TITLE=Heumühlgasse 14:geo:16.3617969,48.1961598
END:VEVENT
BEGIN:VEVENT
DTSTART;TZID=Europe/Vienna:20241019T193000
DTEND;TZID=Europe/Vienna:20241019T223000
DTSTAMP:20260423T134532
CREATED:20240801T102415Z
LAST-MODIFIED:20240801T102415Z
UID:98554-1729366200-1729377000@archiv.hosiwien.at
SUMMARY:Salon Blau - Staffel 2
DESCRIPTION:Salon Blau ist zurück! 🥳 Nach Zugabe-Rufen im ersten Akt letztes Frühjahr\, möchten wir euch Staffel II der Drag- und Travestieshow\, mit der Zeremonienmeisterin Frau Blau 💃 und ihren fulminanten Bühnen-Gäst*innen\, keinesfalls vorenthalten. Denn „Life is a Cabaret old chum”\, auch diesen Spätsommer\, Herbst und Winter\, wie gewohnt im Vereinszentrum Gugg 🎩\nUnsere Tore öffnen sich weiterhin bereits ab 19:30 Uhr\, die Vorhänge allerdings erst zur vollen Stunde 🕗 Damit noch genug Zeit bleibt sich mit Getränken oder Toasts an der Bar einzudecken.\nAber Achtung: zu den bisher gewohnten Montagsterminen\, gesellt sich auf vielfachen Wunsch hin auch ein Samstagstermin. Konkret sind das der Mo. 26.08.\, Sa. 19.10.\, Mo. 11.11. und Mo. 09.12.24 🗓 Unser Konzept soll so vielen Menschen wie möglich den Zugang zu Performamcekunst ermöglichen\, also freuen wir uns auch über einen Besuch\, falls das Geld bereits knapp werden sollte! Wer möchte\, kann sich sogar dem jeweiligen Thema entsprechend herrichten. Denn egal wer du bist oder wie du ausschaust\, trete ein in den Salon Blau 💙\nBarrierefrei erreichbar. Wir bitten falls möglich um Mitnahme von Bargeld. Fragen oder Feedback an fraumarschiablau@gmail.com
URL:https://archiv.hosiwien.at/event/salon-blau-staffel-2/2024-10-19/
LOCATION:Gugg\, Heumühlgasse 14\, Wien\, 1040
CATEGORIES:kulturelle Veranstaltung
ATTACH;FMTTYPE=image/jpeg:https://archiv.hosiwien.at/img/image/2024/Salon-Blau-Staffel-II-Insta-scaled.jpg
GEO:48.1961598;16.3617969
X-APPLE-STRUCTURED-LOCATION;VALUE=URI;X-ADDRESS=Gugg Heumühlgasse 14 Wien 1040;X-APPLE-RADIUS=500;X-TITLE=Heumühlgasse 14:geo:16.3617969,48.1961598
END:VEVENT
BEGIN:VEVENT
DTSTART;TZID=Europe/Vienna:20241020T180000
DTEND;TZID=Europe/Vienna:20241020T193000
DTSTAMP:20260423T134532
CREATED:20240808T095519Z
LAST-MODIFIED:20240808T095519Z
UID:98598-1729447200-1729452600@archiv.hosiwien.at
SUMMARY:Queer-Yoga
DESCRIPTION:Warum Queer-Yoga? Dafür gibt es so viele Gründe wie Farben im Regenbogen: anzukommen – im Hier und Jetzt\, und bei sich selbst-\, den eigenen Körper anzunehmen\, Achtsamkeit zu üben\, die Abwehrkräfte zu stärken. In jeder Yogastunde geht es darum\, tief ein- und auszuatmen\, jeden Muskel zu spüren und die Verbundenheit in der Gruppe zu erleben. \nMatías (er/ihm) und Florian (er/ihm) führen uns durch die Welt des Hatha- und Vinyasa-Yoga. Egal ob du schon Erfahrung hast oder nicht\, sie passen sich deinem Niveau an und helfen dir\, die Übungen richtig auszuführen. \nEin Raum für Yoga\, aber auch ein Safe Space für die Queer-Community: Alle LGBTQIA*s und ihre Freund*innen sind herzlich willkommen! Kommt in bequemer Kleidung und bringt eure Yogamatte mit\, vor Ort sind aber auch einige Matten verfügbar. \nDatum und Uhrzeit: sonntags\, ab Oktober von 18:00 bis 19:30. Achtung: eventuelle Termin-oder Uhrzeit-Änderungen sind möglich\, daher bitte immer vorher den online-Kalender checken! \nWir öffnen bereits um ca. 17:45 Uhr\, damit ihr euch in Ruhe umziehen könnt\, und wir pünktlich beginnen können. \nOrt: Das Gugg – Heumühlgasse 14\, 1040 Wien \nEintritt: die HOSI Wien und unsere ehrenamtlichen Trainer freuen sich über jede freie Spende\, die am Ende der Einheit abgegeben werden kann – sie kommen vollumfänglich der Hosi Wien zugute.\n \nKontakt: yoga@archiv.hosiwien.at
URL:https://archiv.hosiwien.at/event/queer-yoga-2024_10/2024-10-20/
LOCATION:Gugg\, Heumühlgasse 14\, Wien\, 1040
CATEGORIES:Gruppen
GEO:48.1961598;16.3617969
X-APPLE-STRUCTURED-LOCATION;VALUE=URI;X-ADDRESS=Gugg Heumühlgasse 14 Wien 1040;X-APPLE-RADIUS=500;X-TITLE=Heumühlgasse 14:geo:16.3617969,48.1961598
END:VEVENT
BEGIN:VEVENT
DTSTART;TZID=Europe/Vienna:20241022T190000
DTEND;TZID=Europe/Vienna:20241022T233000
DTSTAMP:20260423T134532
CREATED:20241010T102157Z
LAST-MODIFIED:20241010T102322Z
UID:98843-1729623600-1729639800@archiv.hosiwien.at
SUMMARY:Werwolf-Abend
DESCRIPTION:Der Spiele-Klassiker „Die Werwölfe vom Düsterwald“ zieht regelmäßig unsere Besucher*innen in seinen Bann. Warum? Hat es mit dunkler Magie zu tun\, oder ist es das gesellige Beisammensein\, das die besondere Atmosphäre des Abends ausmacht? \nFinde es heraus und mach dir ein eigenes Bild vom Werwolf-Abend im Gugg! Komm alleine oder nimm Freund*innen mit – wir freuen uns auf dich! Es sind keine Vorkenntnisse erforderlich. Im Gegenteil: Die Spielrunden dauern nicht lange\, und wir erklären Neulingen gerne die Regeln. Eine Runde aussetzen oder erst später ins Spiel einsteigen ist somit auch kein Problem. \nWir freuen uns sehr auf einen blutrünstigen Abend! \nP.S.: Infos zum Spiel unter: http://de.wikipedia.org/wiki/Werwölfe_von_Düsterwald \nDer Eintritt ist frei! \nEinlass: 19:00\nBeginn: 19:30
URL:https://archiv.hosiwien.at/event/98843/2024-10-22/
LOCATION:Gugg\, Heumühlgasse 14\, Wien\, 1040
CATEGORIES:kulturelle Veranstaltung
ATTACH;FMTTYPE=image/jpeg:https://archiv.hosiwien.at/img/image/2024/Werwolfabend-2-HJ-24-scaled.jpg
GEO:48.1961598;16.3617969
X-APPLE-STRUCTURED-LOCATION;VALUE=URI;X-ADDRESS=Gugg Heumühlgasse 14 Wien 1040;X-APPLE-RADIUS=500;X-TITLE=Heumühlgasse 14:geo:16.3617969,48.1961598
END:VEVENT
BEGIN:VEVENT
DTSTART;TZID=Europe/Vienna:20241024T190000
DTEND;TZID=Europe/Vienna:20241024T210000
DTSTAMP:20260423T134532
CREATED:20240625T090333Z
LAST-MODIFIED:20241120T122013Z
UID:98866-1729796400-1729803600@archiv.hosiwien.at
SUMMARY:QYVIE Quiz
DESCRIPTION:Schnapp dir am Quiz-Abend deine Freund*innen und trete gemeinsam mit ihnen oder auch mit ganz neuen Bekanntschaften gegen andere Teams an.
URL:https://archiv.hosiwien.at/event/qyvie-quiz-4/2024-10-24/
LOCATION:Gugg\, Heumühlgasse 14\, Wien\, 1040
CATEGORIES:Gruppen
ATTACH;FMTTYPE=image/png:https://archiv.hosiwien.at/img/image/2024/QYVIE-Quiz-2024.png
ORGANIZER;CN="QYVIE":MAILTO:jugend@archiv.hosiwien.at
GEO:48.1961598;16.3617969
X-APPLE-STRUCTURED-LOCATION;VALUE=URI;X-ADDRESS=Gugg Heumühlgasse 14 Wien 1040;X-APPLE-RADIUS=500;X-TITLE=Heumühlgasse 14:geo:16.3617969,48.1961598
END:VEVENT
BEGIN:VEVENT
DTSTART;TZID=Europe/Vienna:20241025T210000
DTEND;TZID=Europe/Vienna:20241026T000000
DTSTAMP:20260423T134532
CREATED:20240910T123748Z
LAST-MODIFIED:20240910T123748Z
UID:98680-1729890000-1729900800@archiv.hosiwien.at
SUMMARY:Resis.Danse Frauentanzabend
DESCRIPTION:Eine Übungsmöglichkeit für alle tanzbegeisterten Frauen.\nEinfach vorbeikommen und mittanzen! \nImmer am Freitag nach den Resis.danse-Tanzworkshops in der gemütlichen Atmosphäre des Guggs\, ab 21 Uhr. \nGenauere Informationen auf der eigenen Website: www.resisdanse.at. \nFreier Eintritt!
URL:https://archiv.hosiwien.at/event/resis-danse-frauentanzabend/2024-10-25/
LOCATION:Gugg\, Heumühlgasse 14\, Wien\, 1040
CATEGORIES:Tanzabende
ATTACH;FMTTYPE=image/jpeg:https://archiv.hosiwien.at/img/image/2018/resisdance-5.jpg
ORGANIZER;CN="Resis.danse%20-%20FrauenTanzClub":MAILTO:tanzclub@resisdanse.at
GEO:48.1961598;16.3617969
X-APPLE-STRUCTURED-LOCATION;VALUE=URI;X-ADDRESS=Gugg Heumühlgasse 14 Wien 1040;X-APPLE-RADIUS=500;X-TITLE=Heumühlgasse 14:geo:16.3617969,48.1961598
END:VEVENT
BEGIN:VEVENT
DTSTART;TZID=Europe/Vienna:20241027T180000
DTEND;TZID=Europe/Vienna:20241027T193000
DTSTAMP:20260423T134532
CREATED:20240808T095519Z
LAST-MODIFIED:20240808T095519Z
UID:98599-1730052000-1730057400@archiv.hosiwien.at
SUMMARY:Queer-Yoga
DESCRIPTION:Warum Queer-Yoga? Dafür gibt es so viele Gründe wie Farben im Regenbogen: anzukommen – im Hier und Jetzt\, und bei sich selbst-\, den eigenen Körper anzunehmen\, Achtsamkeit zu üben\, die Abwehrkräfte zu stärken. In jeder Yogastunde geht es darum\, tief ein- und auszuatmen\, jeden Muskel zu spüren und die Verbundenheit in der Gruppe zu erleben. \nMatías (er/ihm) und Florian (er/ihm) führen uns durch die Welt des Hatha- und Vinyasa-Yoga. Egal ob du schon Erfahrung hast oder nicht\, sie passen sich deinem Niveau an und helfen dir\, die Übungen richtig auszuführen. \nEin Raum für Yoga\, aber auch ein Safe Space für die Queer-Community: Alle LGBTQIA*s und ihre Freund*innen sind herzlich willkommen! Kommt in bequemer Kleidung und bringt eure Yogamatte mit\, vor Ort sind aber auch einige Matten verfügbar. \nDatum und Uhrzeit: sonntags\, ab Oktober von 18:00 bis 19:30. Achtung: eventuelle Termin-oder Uhrzeit-Änderungen sind möglich\, daher bitte immer vorher den online-Kalender checken! \nWir öffnen bereits um ca. 17:45 Uhr\, damit ihr euch in Ruhe umziehen könnt\, und wir pünktlich beginnen können. \nOrt: Das Gugg – Heumühlgasse 14\, 1040 Wien \nEintritt: die HOSI Wien und unsere ehrenamtlichen Trainer freuen sich über jede freie Spende\, die am Ende der Einheit abgegeben werden kann – sie kommen vollumfänglich der Hosi Wien zugute.\n \nKontakt: yoga@archiv.hosiwien.at
URL:https://archiv.hosiwien.at/event/queer-yoga-2024_10/2024-10-27/
LOCATION:Gugg\, Heumühlgasse 14\, Wien\, 1040
CATEGORIES:Gruppen
GEO:48.1961598;16.3617969
X-APPLE-STRUCTURED-LOCATION;VALUE=URI;X-ADDRESS=Gugg Heumühlgasse 14 Wien 1040;X-APPLE-RADIUS=500;X-TITLE=Heumühlgasse 14:geo:16.3617969,48.1961598
END:VEVENT
BEGIN:VEVENT
DTSTART;TZID=Europe/Vienna:20241028T190000
DTEND;TZID=Europe/Vienna:20241028T230000
DTSTAMP:20260423T134532
CREATED:20241010T105055Z
LAST-MODIFIED:20241010T105219Z
UID:98855-1730142000-1730156400@archiv.hosiwien.at
SUMMARY:*HALLOWEEN* OPEN MIC - Gays and Theys Comedy
DESCRIPTION:18+ \nDo you have some hilarious\, yet spoooooky stories to tell? Well\, there’s no better place to share them than a Halloween comedy open mic! \nCostumes are encouraged and Halloween themed acts will be given priority. \nWhile the stage at this event is only open to LGBTQ+ (aspiring) comedians\, we very happily welcome allies into the audience! \nWe’re sure you’ll love our lineup of diverse\, unique\, hilarious newcomers and seasoned queer entertainers alike\, so join us and bring your friends along! \nThe entry is FREE! \n(we’re happy to accept donations to help fund our future shows) \nGays and Theys – Comedy is a project by Aislinn Kane\, Lin Riva and Emily Thornhill. \n\n\n\n\n\n\nTickets: *HALLOWEEN* OPEN MIC – Gays and Theys Comedy – Tickets | Fienta
URL:https://archiv.hosiwien.at/event/halloween-open-mic-gays-and-theys-comedy/
LOCATION:Gugg\, Heumühlgasse 14\, Wien\, 1040
CATEGORIES:kulturelle Veranstaltung
ATTACH;FMTTYPE=image/jpeg:https://archiv.hosiwien.at/img/image/2024/Gays-and-theys-Oktober-24.jpg
GEO:48.1961598;16.3617969
X-APPLE-STRUCTURED-LOCATION;VALUE=URI;X-ADDRESS=Gugg Heumühlgasse 14 Wien 1040;X-APPLE-RADIUS=500;X-TITLE=Heumühlgasse 14:geo:16.3617969,48.1961598
END:VEVENT
BEGIN:VEVENT
DTSTART;TZID=Europe/Vienna:20241031T173000
DTEND;TZID=Europe/Vienna:20241031T220000
DTSTAMP:20260423T134532
CREATED:20210521T112042Z
LAST-MODIFIED:20241014T083854Z
UID:97758-1730395800-1730412000@archiv.hosiwien.at
SUMMARY:QYVIE - Queer Youth Vienna - AUSFALL!
DESCRIPTION:Wegen der Halloween Party findet am 31.10.2024 kein regulärer Jugendabend statt! \nZur Halloweenfeier sind alle Menschen\, egal welchen Alters\, willkommen.
URL:https://archiv.hosiwien.at/event/queer-youth-vienna-qyvie-2-2021-07-29-2024-10-31/
LOCATION:Gugg\, Heumühlgasse 14\, Wien\, 1040
CATEGORIES:Gruppen
ATTACH;FMTTYPE=image/png:https://archiv.hosiwien.at/img/image/2020/b-lgbt.png
GEO:48.1961598;16.3617969
X-APPLE-STRUCTURED-LOCATION;VALUE=URI;X-ADDRESS=Gugg Heumühlgasse 14 Wien 1040;X-APPLE-RADIUS=500;X-TITLE=Heumühlgasse 14:geo:16.3617969,48.1961598
END:VEVENT
BEGIN:VEVENT
DTSTART;TZID=Europe/Vienna:20241031T190000
DTEND;TZID=Europe/Vienna:20241101T020000
DTSTAMP:20260423T134532
CREATED:20241014T083539Z
LAST-MODIFIED:20241014T083539Z
UID:98861-1730401200-1730426400@archiv.hosiwien.at
SUMMARY:Halloween Party
DESCRIPTION:Aufgepasst: die Geister und andere gruselige Kreaturen übernehmen das Gugg! 👻🎃 \n  \nFreut euch auf eine schaurig schöne Halloween Party am 31. Oktober im Vereinslokal der HOSI Wien. \nEs warten einige gruselige Überraschungen\, die ihr euch nicht entgehen lassen solltet. 🕷️ \nKommt vorbei und feiert mit uns Queer Christmas. \n  \nWir freuen uns auf deine Verkleidung\, dies ist aber kein Muss. \nAn diesem Donnerstag haben wir für alle Menschen geöffnet. Weiters wird es keine Beratungsmöglichkeiten durch unsere Jugendreferent*innen geben. \n  \n31.10.2024 \nAb 19:00 Uhr \nDas Gugg\, Heumühlgasse 14/1\, 1040 Wien \n 
URL:https://archiv.hosiwien.at/event/halloween-party-3/
LOCATION:Gugg\, Heumühlgasse 14\, Wien\, 1040
CATEGORIES:Party
ATTACH;FMTTYPE=image/jpeg:https://archiv.hosiwien.at/img/image/2024/Halloween-2024-scaled.jpg
GEO:48.1961598;16.3617969
X-APPLE-STRUCTURED-LOCATION;VALUE=URI;X-ADDRESS=Gugg Heumühlgasse 14 Wien 1040;X-APPLE-RADIUS=500;X-TITLE=Heumühlgasse 14:geo:16.3617969,48.1961598
END:VEVENT
END:VCALENDAR