BEGIN:VCALENDAR
VERSION:2.0
PRODID:-//Homosexuelle Initiative (HOSI) Wien - ECPv5.16.4//NONSGML v1.0//EN
CALSCALE:GREGORIAN
METHOD:PUBLISH
X-WR-CALNAME:Homosexuelle Initiative (HOSI) Wien
X-ORIGINAL-URL:https://archiv.hosiwien.at
X-WR-CALDESC:Events for Homosexuelle Initiative (HOSI) Wien
REFRESH-INTERVAL;VALUE=DURATION:PT1H
X-Robots-Tag:noindex
X-PUBLISHED-TTL:PT1H
BEGIN:VTIMEZONE
TZID:Europe/Vienna
BEGIN:DAYLIGHT
TZOFFSETFROM:+0100
TZOFFSETTO:+0200
TZNAME:CEST
DTSTART:20240331T010000
END:DAYLIGHT
BEGIN:STANDARD
TZOFFSETFROM:+0200
TZOFFSETTO:+0100
TZNAME:CET
DTSTART:20241027T010000
END:STANDARD
BEGIN:DAYLIGHT
TZOFFSETFROM:+0100
TZOFFSETTO:+0200
TZNAME:CEST
DTSTART:20250330T010000
END:DAYLIGHT
BEGIN:STANDARD
TZOFFSETFROM:+0200
TZOFFSETTO:+0100
TZNAME:CET
DTSTART:20251026T010000
END:STANDARD
END:VTIMEZONE
BEGIN:VEVENT
DTSTART;TZID=Europe/Vienna:20241201T180000
DTEND;TZID=Europe/Vienna:20241201T193000
DTSTAMP:20260423T212949
CREATED:20240916T102733Z
LAST-MODIFIED:20240916T102823Z
UID:98741-1733076000-1733081400@archiv.hosiwien.at
SUMMARY:Queer-Yoga
DESCRIPTION:Warum Queer-Yoga? Dafür gibt es so viele Gründe wie Farben im Regenbogen: anzukommen – im Hier und Jetzt\, und bei sich selbst-\, den eigenen Körper anzunehmen\, Achtsamkeit zu üben\, die Abwehrkräfte zu stärken. In jeder Yogastunde geht es darum\, tief ein- und auszuatmen\, jeden Muskel zu spüren und die Verbundenheit in der Gruppe zu erleben. \nMatías (er/ihm) und Florian (er/ihm) führen uns durch die Welt des Hatha- und Vinyasa-Yoga. Egal ob du schon Erfahrung hast oder nicht\, sie passen sich deinem Niveau an und helfen dir\, die Übungen richtig auszuführen. \nEin Raum für Yoga\, aber auch ein Safe Space für die Queer-Community: Alle LGBTQIA*s und ihre Freund*innen sind herzlich willkommen! Kommt in bequemer Kleidung und bringt eure Yogamatte mit\, vor Ort sind aber auch einige Matten verfügbar. \nDatum und Uhrzeit: sonntags\, von 18:00 bis 19:30. Achtung: eventuelle Termin-oder Uhrzeit-Änderungen sind möglich\, daher bitte immer vorher den online-Kalender checken! \nWir öffnen bereits um ca. 17:45 Uhr\, damit ihr euch in Ruhe umziehen könnt\, und wir pünktlich beginnen können. \nOrt: Das Gugg – Heumühlgasse 14\, 1040 Wien \nEintritt: die HOSI Wien und unsere ehrenamtlichen Trainer freuen sich über jede freie Spende\, die am Ende der Einheit abgegeben werden kann – sie kommen vollumfänglich der Hosi Wien zugute.\n \nKontakt: yoga@archiv.hosiwien.at
URL:https://archiv.hosiwien.at/event/queer-yoga-2024_12/2024-12-01/
LOCATION:Gugg\, Heumühlgasse 14\, Wien\, 1040
CATEGORIES:Gruppen
GEO:48.1961598;16.3617969
X-APPLE-STRUCTURED-LOCATION;VALUE=URI;X-ADDRESS=Gugg Heumühlgasse 14 Wien 1040;X-APPLE-RADIUS=500;X-TITLE=Heumühlgasse 14:geo:16.3617969,48.1961598
END:VEVENT
BEGIN:VEVENT
DTSTART;TZID=Europe/Vienna:20241203T190000
DTEND;TZID=Europe/Vienna:20241203T233000
DTSTAMP:20260423T212949
CREATED:20241010T102157Z
LAST-MODIFIED:20241010T102157Z
UID:98849-1733252400-1733268600@archiv.hosiwien.at
SUMMARY:Werwolf-Abend
DESCRIPTION:Der Spiele-Klassiker „Die Werwölfe vom Düsterwald“ zieht regelmäßig unsere Besucher*innen in seinen Bann. Warum? Hat es mit dunkler Magie zu tun\, oder ist es das gesellige Beisammensein\, das die besondere Atmosphäre des Abends ausmacht? \nFinde es heraus und mach dir ein eigenes Bild vom Werwolf-Abend im Gugg! Komm alleine oder nimm Freund*innen mit – wir freuen uns auf dich! Es sind keine Vorkenntnisse erforderlich. Im Gegenteil: Die Spielrunden dauern nicht lange\, und wir erklären Neulingen gerne die Regeln. Eine Runde aussetzen oder erst später ins Spiel einsteigen ist somit auch kein Problem. \nWir freuen uns sehr auf einen blutrünstigen Abend! \nP.S.: Infos zum Spiel unter: http://de.wikipedia.org/wiki/Werwölfe_von_Düsterwald \nDer Eintritt ist frei! \nEinlass: 19:00\nBeginn: 19:30
URL:https://archiv.hosiwien.at/event/98843/2024-12-03/
LOCATION:Gugg\, Heumühlgasse 14\, Wien\, 1040
CATEGORIES:kulturelle Veranstaltung
ATTACH;FMTTYPE=image/jpeg:https://archiv.hosiwien.at/img/image/2024/Werwolfabend-2-HJ-24-scaled.jpg
GEO:48.1961598;16.3617969
X-APPLE-STRUCTURED-LOCATION;VALUE=URI;X-ADDRESS=Gugg Heumühlgasse 14 Wien 1040;X-APPLE-RADIUS=500;X-TITLE=Heumühlgasse 14:geo:16.3617969,48.1961598
END:VEVENT
BEGIN:VEVENT
DTSTART;TZID=Europe/Vienna:20241206T210000
DTEND;TZID=Europe/Vienna:20241207T000000
DTSTAMP:20260423T212949
CREATED:20240910T123748Z
LAST-MODIFIED:20240910T123748Z
UID:98686-1733518800-1733529600@archiv.hosiwien.at
SUMMARY:Resis.Danse Frauentanzabend
DESCRIPTION:Eine Übungsmöglichkeit für alle tanzbegeisterten Frauen.\nEinfach vorbeikommen und mittanzen! \nImmer am Freitag nach den Resis.danse-Tanzworkshops in der gemütlichen Atmosphäre des Guggs\, ab 21 Uhr. \nGenauere Informationen auf der eigenen Website: www.resisdanse.at. \nFreier Eintritt!
URL:https://archiv.hosiwien.at/event/resis-danse-frauentanzabend/2024-12-06/
LOCATION:Gugg\, Heumühlgasse 14\, Wien\, 1040
CATEGORIES:Tanzabende
ATTACH;FMTTYPE=image/jpeg:https://archiv.hosiwien.at/img/image/2018/resisdance-5.jpg
ORGANIZER;CN="Resis.danse%20-%20FrauenTanzClub":MAILTO:tanzclub@resisdanse.at
GEO:48.1961598;16.3617969
X-APPLE-STRUCTURED-LOCATION;VALUE=URI;X-ADDRESS=Gugg Heumühlgasse 14 Wien 1040;X-APPLE-RADIUS=500;X-TITLE=Heumühlgasse 14:geo:16.3617969,48.1961598
END:VEVENT
BEGIN:VEVENT
DTSTART;TZID=Europe/Vienna:20241208T180000
DTEND;TZID=Europe/Vienna:20241208T193000
DTSTAMP:20260423T212949
CREATED:20240916T102733Z
LAST-MODIFIED:20240916T102733Z
UID:98747-1733680800-1733686200@archiv.hosiwien.at
SUMMARY:Queer-Yoga
DESCRIPTION:Warum Queer-Yoga? Dafür gibt es so viele Gründe wie Farben im Regenbogen: anzukommen – im Hier und Jetzt\, und bei sich selbst-\, den eigenen Körper anzunehmen\, Achtsamkeit zu üben\, die Abwehrkräfte zu stärken. In jeder Yogastunde geht es darum\, tief ein- und auszuatmen\, jeden Muskel zu spüren und die Verbundenheit in der Gruppe zu erleben. \nMatías (er/ihm) und Florian (er/ihm) führen uns durch die Welt des Hatha- und Vinyasa-Yoga. Egal ob du schon Erfahrung hast oder nicht\, sie passen sich deinem Niveau an und helfen dir\, die Übungen richtig auszuführen. \nEin Raum für Yoga\, aber auch ein Safe Space für die Queer-Community: Alle LGBTQIA*s und ihre Freund*innen sind herzlich willkommen! Kommt in bequemer Kleidung und bringt eure Yogamatte mit\, vor Ort sind aber auch einige Matten verfügbar. \nDatum und Uhrzeit: sonntags\, von 18:00 bis 19:30. Achtung: eventuelle Termin-oder Uhrzeit-Änderungen sind möglich\, daher bitte immer vorher den online-Kalender checken! \nWir öffnen bereits um ca. 17:45 Uhr\, damit ihr euch in Ruhe umziehen könnt\, und wir pünktlich beginnen können. \nOrt: Das Gugg – Heumühlgasse 14\, 1040 Wien \nEintritt: die HOSI Wien und unsere ehrenamtlichen Trainer freuen sich über jede freie Spende\, die am Ende der Einheit abgegeben werden kann – sie kommen vollumfänglich der Hosi Wien zugute.\n \nKontakt: yoga@archiv.hosiwien.at
URL:https://archiv.hosiwien.at/event/queer-yoga-2024_12/2024-12-08/
LOCATION:Gugg\, Heumühlgasse 14\, Wien\, 1040
CATEGORIES:Gruppen
GEO:48.1961598;16.3617969
X-APPLE-STRUCTURED-LOCATION;VALUE=URI;X-ADDRESS=Gugg Heumühlgasse 14 Wien 1040;X-APPLE-RADIUS=500;X-TITLE=Heumühlgasse 14:geo:16.3617969,48.1961598
END:VEVENT
BEGIN:VEVENT
DTSTART;TZID=Europe/Vienna:20241209T193000
DTEND;TZID=Europe/Vienna:20241209T223000
DTSTAMP:20260423T212949
CREATED:20240801T102415Z
LAST-MODIFIED:20240801T102415Z
UID:98556-1733772600-1733783400@archiv.hosiwien.at
SUMMARY:Salon Blau - Staffel 2
DESCRIPTION:Salon Blau ist zurück! 🥳 Nach Zugabe-Rufen im ersten Akt letztes Frühjahr\, möchten wir euch Staffel II der Drag- und Travestieshow\, mit der Zeremonienmeisterin Frau Blau 💃 und ihren fulminanten Bühnen-Gäst*innen\, keinesfalls vorenthalten. Denn „Life is a Cabaret old chum”\, auch diesen Spätsommer\, Herbst und Winter\, wie gewohnt im Vereinszentrum Gugg 🎩\nUnsere Tore öffnen sich weiterhin bereits ab 19:30 Uhr\, die Vorhänge allerdings erst zur vollen Stunde 🕗 Damit noch genug Zeit bleibt sich mit Getränken oder Toasts an der Bar einzudecken.\nAber Achtung: zu den bisher gewohnten Montagsterminen\, gesellt sich auf vielfachen Wunsch hin auch ein Samstagstermin. Konkret sind das der Mo. 26.08.\, Sa. 19.10.\, Mo. 11.11. und Mo. 09.12.24 🗓 Unser Konzept soll so vielen Menschen wie möglich den Zugang zu Performamcekunst ermöglichen\, also freuen wir uns auch über einen Besuch\, falls das Geld bereits knapp werden sollte! Wer möchte\, kann sich sogar dem jeweiligen Thema entsprechend herrichten. Denn egal wer du bist oder wie du ausschaust\, trete ein in den Salon Blau 💙\nBarrierefrei erreichbar. Wir bitten falls möglich um Mitnahme von Bargeld. Fragen oder Feedback an fraumarschiablau@gmail.com
URL:https://archiv.hosiwien.at/event/salon-blau-staffel-2/2024-12-09/
LOCATION:Gugg\, Heumühlgasse 14\, Wien\, 1040
CATEGORIES:kulturelle Veranstaltung
ATTACH;FMTTYPE=image/jpeg:https://archiv.hosiwien.at/img/image/2024/Salon-Blau-Staffel-II-Insta-scaled.jpg
GEO:48.1961598;16.3617969
X-APPLE-STRUCTURED-LOCATION;VALUE=URI;X-ADDRESS=Gugg Heumühlgasse 14 Wien 1040;X-APPLE-RADIUS=500;X-TITLE=Heumühlgasse 14:geo:16.3617969,48.1961598
END:VEVENT
BEGIN:VEVENT
DTSTART;TZID=Europe/Vienna:20241212T190000
DTEND;TZID=Europe/Vienna:20241212T210000
DTSTAMP:20260423T212949
CREATED:20240625T090333Z
LAST-MODIFIED:20240625T090333Z
UID:99568-1734030000-1734037200@archiv.hosiwien.at
SUMMARY:QYVIE Quiz
DESCRIPTION:Schnapp dir am Quiz-Abend deine Freund*innen und trete gemeinsam mit ihnen oder auch mit ganz neuen Bekanntschaften gegen andere Teams an.
URL:https://archiv.hosiwien.at/event/qyvie-quiz-4/2024-12-12/
LOCATION:Gugg\, Heumühlgasse 14\, Wien\, 1040
CATEGORIES:Gruppen
ATTACH;FMTTYPE=image/png:https://archiv.hosiwien.at/img/image/2024/QYVIE-Quiz-2024.png
ORGANIZER;CN="QYVIE":MAILTO:jugend@archiv.hosiwien.at
GEO:48.1961598;16.3617969
X-APPLE-STRUCTURED-LOCATION;VALUE=URI;X-ADDRESS=Gugg Heumühlgasse 14 Wien 1040;X-APPLE-RADIUS=500;X-TITLE=Heumühlgasse 14:geo:16.3617969,48.1961598
END:VEVENT
BEGIN:VEVENT
DTSTART;TZID=Europe/Vienna:20241213T210000
DTEND;TZID=Europe/Vienna:20241214T000000
DTSTAMP:20260423T212949
CREATED:20240910T123748Z
LAST-MODIFIED:20240910T123748Z
UID:98687-1734123600-1734134400@archiv.hosiwien.at
SUMMARY:Resis.Danse Frauentanzabend
DESCRIPTION:Eine Übungsmöglichkeit für alle tanzbegeisterten Frauen.\nEinfach vorbeikommen und mittanzen! \nImmer am Freitag nach den Resis.danse-Tanzworkshops in der gemütlichen Atmosphäre des Guggs\, ab 21 Uhr. \nGenauere Informationen auf der eigenen Website: www.resisdanse.at. \nFreier Eintritt!
URL:https://archiv.hosiwien.at/event/resis-danse-frauentanzabend/2024-12-13/
LOCATION:Gugg\, Heumühlgasse 14\, Wien\, 1040
CATEGORIES:Tanzabende
ATTACH;FMTTYPE=image/jpeg:https://archiv.hosiwien.at/img/image/2018/resisdance-5.jpg
ORGANIZER;CN="Resis.danse%20-%20FrauenTanzClub":MAILTO:tanzclub@resisdanse.at
GEO:48.1961598;16.3617969
X-APPLE-STRUCTURED-LOCATION;VALUE=URI;X-ADDRESS=Gugg Heumühlgasse 14 Wien 1040;X-APPLE-RADIUS=500;X-TITLE=Heumühlgasse 14:geo:16.3617969,48.1961598
END:VEVENT
BEGIN:VEVENT
DTSTART;TZID=Europe/Vienna:20241214T190000
DTEND;TZID=Europe/Vienna:20241215T020000
DTSTAMP:20260423T212949
CREATED:20241111T131129Z
LAST-MODIFIED:20241111T131129Z
UID:99457-1734202800-1734228000@archiv.hosiwien.at
SUMMARY:HOSI Wien Winterfest
DESCRIPTION:Am Samstag\, den 14. Dezember\, laden wir alle Vereinsmitglieder\, Partner*innen und Freund*innen zu unserem HOSI Wien Winterfest ein.\nEs erwarten euch neben Punsch und Keksen unsere Jahresausstellung\, eine Tombola\, Karaoke sowie die Verleihung der HOSI-Awards. Auch für Unterhaltung in Form einer kleinen Drag Show wird gesorgt sein. Wir freuen uns darauf gemeinsam mit euch auf das vergangene Jahr zurückzublicken und anzustoßen. \nBei dieser Gelegenheit gibt es auch die Möglichkeit unsere Regenbogenschaf-Stofftaschen gegen eine freie Spende von € 10\,- zu erwerben – solange der Vorrat reicht. \nWann? 14.12.2024\, 19.00 Uhr\nWo? Das Gugg\, Heumühlgasse 14/1\, 1040 Wien
URL:https://archiv.hosiwien.at/event/hosi-wien-winterfest/
LOCATION:Gugg\, Heumühlgasse 14\, Wien\, 1040
CATEGORIES:Party
ATTACH;FMTTYPE=image/jpeg:https://archiv.hosiwien.at/img/image/2024/Winterfest-1.2-scaled.jpg
GEO:48.1961598;16.3617969
X-APPLE-STRUCTURED-LOCATION;VALUE=URI;X-ADDRESS=Gugg Heumühlgasse 14 Wien 1040;X-APPLE-RADIUS=500;X-TITLE=Heumühlgasse 14:geo:16.3617969,48.1961598
END:VEVENT
BEGIN:VEVENT
DTSTART;TZID=Europe/Vienna:20241215T180000
DTEND;TZID=Europe/Vienna:20241215T193000
DTSTAMP:20260423T212949
CREATED:20240916T102733Z
LAST-MODIFIED:20241214T115856Z
UID:98748-1734285600-1734291000@archiv.hosiwien.at
SUMMARY:Kein Queer-Yoga
DESCRIPTION:Am 15.12. findet kein Queer-Yoga statt.
URL:https://archiv.hosiwien.at/event/queer-yoga-2024_12-2024-12-15/
LOCATION:Gugg\, Heumühlgasse 14\, Wien\, 1040
CATEGORIES:Sperre
GEO:48.1961598;16.3617969
X-APPLE-STRUCTURED-LOCATION;VALUE=URI;X-ADDRESS=Gugg Heumühlgasse 14 Wien 1040;X-APPLE-RADIUS=500;X-TITLE=Heumühlgasse 14:geo:16.3617969,48.1961598
END:VEVENT
BEGIN:VEVENT
DTSTART;TZID=Europe/Vienna:20241219T190000
DTEND;TZID=Europe/Vienna:20241219T210000
DTSTAMP:20260423T212949
CREATED:20241014T091742Z
LAST-MODIFIED:20241014T091742Z
UID:99570-1734634800-1734642000@archiv.hosiwien.at
SUMMARY:QYVIE Werwolf-Abend
DESCRIPTION:Bereit für Täuschung\, Spannung und jede Menge Spaß? Komm zu unserem nächsten Werwolf-Spiel und erlebe einen Abend voller Geheimnisse und Nervenkitzel! Ob als listiger Werwolf oder cleverer Dorfbewohni – finde heraus\, wer die wahren Verbündeten sind. Bring Freund*innen mit und lass dich nicht erwischen!
URL:https://archiv.hosiwien.at/event/qyvie-werwolf-abend/2024-12-19/
LOCATION:Gugg\, Heumühlgasse 14\, Wien\, 1040
CATEGORIES:Gruppen
ORGANIZER;CN="QYVIE":MAILTO:jugend@archiv.hosiwien.at
GEO:48.1961598;16.3617969
X-APPLE-STRUCTURED-LOCATION;VALUE=URI;X-ADDRESS=Gugg Heumühlgasse 14 Wien 1040;X-APPLE-RADIUS=500;X-TITLE=Heumühlgasse 14:geo:16.3617969,48.1961598
END:VEVENT
BEGIN:VEVENT
DTSTART;TZID=Europe/Vienna:20241220T210000
DTEND;TZID=Europe/Vienna:20241221T000000
DTSTAMP:20260423T212949
CREATED:20240910T123748Z
LAST-MODIFIED:20240910T123748Z
UID:98688-1734728400-1734739200@archiv.hosiwien.at
SUMMARY:Resis.Danse Frauentanzabend
DESCRIPTION:Eine Übungsmöglichkeit für alle tanzbegeisterten Frauen.\nEinfach vorbeikommen und mittanzen! \nImmer am Freitag nach den Resis.danse-Tanzworkshops in der gemütlichen Atmosphäre des Guggs\, ab 21 Uhr. \nGenauere Informationen auf der eigenen Website: www.resisdanse.at. \nFreier Eintritt!
URL:https://archiv.hosiwien.at/event/resis-danse-frauentanzabend/2024-12-20/
LOCATION:Gugg\, Heumühlgasse 14\, Wien\, 1040
CATEGORIES:Tanzabende
ATTACH;FMTTYPE=image/jpeg:https://archiv.hosiwien.at/img/image/2018/resisdance-5.jpg
ORGANIZER;CN="Resis.danse%20-%20FrauenTanzClub":MAILTO:tanzclub@resisdanse.at
GEO:48.1961598;16.3617969
X-APPLE-STRUCTURED-LOCATION;VALUE=URI;X-ADDRESS=Gugg Heumühlgasse 14 Wien 1040;X-APPLE-RADIUS=500;X-TITLE=Heumühlgasse 14:geo:16.3617969,48.1961598
END:VEVENT
BEGIN:VEVENT
DTSTART;TZID=Europe/Vienna:20241221T080000
DTEND;TZID=Europe/Vienna:20250107T000000
DTSTAMP:20260423T212949
CREATED:20241203T130721Z
LAST-MODIFIED:20241203T134632Z
UID:99582-1734768000-1736208000@archiv.hosiwien.at
SUMMARY:Büro Winterpause
DESCRIPTION:Unser Büro macht Winterpause und ist ab 07.01.2025 wieder für euch da.
URL:https://archiv.hosiwien.at/event/buero-winterpause-2/
LOCATION:Gugg\, Heumühlgasse 14\, Wien\, 1040
GEO:48.1961598;16.3617969
X-APPLE-STRUCTURED-LOCATION;VALUE=URI;X-ADDRESS=Gugg Heumühlgasse 14 Wien 1040;X-APPLE-RADIUS=500;X-TITLE=Heumühlgasse 14:geo:16.3617969,48.1961598
END:VEVENT
BEGIN:VEVENT
DTSTART;TZID=Europe/Vienna:20241222T180000
DTEND;TZID=Europe/Vienna:20241222T193000
DTSTAMP:20260423T212949
CREATED:20240916T102733Z
LAST-MODIFIED:20240916T102733Z
UID:98749-1734890400-1734895800@archiv.hosiwien.at
SUMMARY:Queer-Yoga
DESCRIPTION:Warum Queer-Yoga? Dafür gibt es so viele Gründe wie Farben im Regenbogen: anzukommen – im Hier und Jetzt\, und bei sich selbst-\, den eigenen Körper anzunehmen\, Achtsamkeit zu üben\, die Abwehrkräfte zu stärken. In jeder Yogastunde geht es darum\, tief ein- und auszuatmen\, jeden Muskel zu spüren und die Verbundenheit in der Gruppe zu erleben. \nMatías (er/ihm) und Florian (er/ihm) führen uns durch die Welt des Hatha- und Vinyasa-Yoga. Egal ob du schon Erfahrung hast oder nicht\, sie passen sich deinem Niveau an und helfen dir\, die Übungen richtig auszuführen. \nEin Raum für Yoga\, aber auch ein Safe Space für die Queer-Community: Alle LGBTQIA*s und ihre Freund*innen sind herzlich willkommen! Kommt in bequemer Kleidung und bringt eure Yogamatte mit\, vor Ort sind aber auch einige Matten verfügbar. \nDatum und Uhrzeit: sonntags\, von 18:00 bis 19:30. Achtung: eventuelle Termin-oder Uhrzeit-Änderungen sind möglich\, daher bitte immer vorher den online-Kalender checken! \nWir öffnen bereits um ca. 17:45 Uhr\, damit ihr euch in Ruhe umziehen könnt\, und wir pünktlich beginnen können. \nOrt: Das Gugg – Heumühlgasse 14\, 1040 Wien \nEintritt: die HOSI Wien und unsere ehrenamtlichen Trainer freuen sich über jede freie Spende\, die am Ende der Einheit abgegeben werden kann – sie kommen vollumfänglich der Hosi Wien zugute.\n \nKontakt: yoga@archiv.hosiwien.at
URL:https://archiv.hosiwien.at/event/queer-yoga-2024_12/2024-12-22/
LOCATION:Gugg\, Heumühlgasse 14\, Wien\, 1040
CATEGORIES:Gruppen
GEO:48.1961598;16.3617969
X-APPLE-STRUCTURED-LOCATION;VALUE=URI;X-ADDRESS=Gugg Heumühlgasse 14 Wien 1040;X-APPLE-RADIUS=500;X-TITLE=Heumühlgasse 14:geo:16.3617969,48.1961598
END:VEVENT
BEGIN:VEVENT
DTSTART;TZID=Europe/Vienna:20241225T180000
DTEND;TZID=Europe/Vienna:20241226T000000
DTSTAMP:20260423T212949
CREATED:20241203T130431Z
LAST-MODIFIED:20241203T130442Z
UID:99579-1735149600-1735171200@archiv.hosiwien.at
SUMMARY:Chosen Family Party
DESCRIPTION:Liebe Queers\, \ndie Winterzeit kann für viele von uns eine Zeit der Freude und des Zusammenkommens sein.\nDoch wir wissen auch\, dass diese Zeit nicht für alle gleichermaßen angenehm ist — insbesondere\, wenn es um die Themen Familie\, soziales Umfeld und Einsamkeit geht. \nDeshalb öffnet das Gugg seine Tür für alle queeren Menschen\, die in den Feiertagen einen safer space suchen\, um sich willkommen zu fühlen — unabhängig von vorgegebenen Traditionen/Religionen. \nWann: 25.12.2024 | ab 18:00 Uhr\nWo: Im Gugg\, Heumühlgasse 14/1\, 1040 Wien\nAnsprechpersonen: Anna & Romy\, Aktivistinnen der LesBiFem-Gruppe HOSI Wien \nWir freuen uns auf dich! 🤍
URL:https://archiv.hosiwien.at/event/chosen-family-party/
LOCATION:Gugg\, Heumühlgasse 14\, Wien\, 1040
CATEGORIES:Café-Betrieb,Gruppen
ATTACH;FMTTYPE=image/jpeg:https://archiv.hosiwien.at/img/image/2024/WhatsApp-Bild-2024-12-02-um-13.25.09_b1ecb4fd.jpg
GEO:48.1961598;16.3617969
X-APPLE-STRUCTURED-LOCATION;VALUE=URI;X-ADDRESS=Gugg Heumühlgasse 14 Wien 1040;X-APPLE-RADIUS=500;X-TITLE=Heumühlgasse 14:geo:16.3617969,48.1961598
END:VEVENT
BEGIN:VEVENT
DTSTART;TZID=Europe/Vienna:20241226T080000
DTEND;TZID=Europe/Vienna:20250107T000000
DTSTAMP:20260423T212949
CREATED:20241203T130909Z
LAST-MODIFIED:20241203T134727Z
UID:99584-1735200000-1736208000@archiv.hosiwien.at
SUMMARY:Gugg Winterpause
DESCRIPTION:Das Gugg macht Winterpause!\nZwischen 26.12.2024 und 06.01.2025 bleiben wir geschlossen. \n  \nEs finden keine Gruppen- und andere Abende statt. \nAb 07.01.2025 sind wir wieder wie gewohnt für euch da.
URL:https://archiv.hosiwien.at/event/gugg-winterpause/
LOCATION:Gugg\, Heumühlgasse 14\, Wien\, 1040
GEO:48.1961598;16.3617969
X-APPLE-STRUCTURED-LOCATION;VALUE=URI;X-ADDRESS=Gugg Heumühlgasse 14 Wien 1040;X-APPLE-RADIUS=500;X-TITLE=Heumühlgasse 14:geo:16.3617969,48.1961598
END:VEVENT
BEGIN:VEVENT
DTSTART;TZID=Europe/Vienna:20241229T180000
DTEND;TZID=Europe/Vienna:20241229T193000
DTSTAMP:20260423T212949
CREATED:20240916T102733Z
LAST-MODIFIED:20240916T102733Z
UID:98750-1735495200-1735500600@archiv.hosiwien.at
SUMMARY:Queer-Yoga
DESCRIPTION:Warum Queer-Yoga? Dafür gibt es so viele Gründe wie Farben im Regenbogen: anzukommen – im Hier und Jetzt\, und bei sich selbst-\, den eigenen Körper anzunehmen\, Achtsamkeit zu üben\, die Abwehrkräfte zu stärken. In jeder Yogastunde geht es darum\, tief ein- und auszuatmen\, jeden Muskel zu spüren und die Verbundenheit in der Gruppe zu erleben. \nMatías (er/ihm) und Florian (er/ihm) führen uns durch die Welt des Hatha- und Vinyasa-Yoga. Egal ob du schon Erfahrung hast oder nicht\, sie passen sich deinem Niveau an und helfen dir\, die Übungen richtig auszuführen. \nEin Raum für Yoga\, aber auch ein Safe Space für die Queer-Community: Alle LGBTQIA*s und ihre Freund*innen sind herzlich willkommen! Kommt in bequemer Kleidung und bringt eure Yogamatte mit\, vor Ort sind aber auch einige Matten verfügbar. \nDatum und Uhrzeit: sonntags\, von 18:00 bis 19:30. Achtung: eventuelle Termin-oder Uhrzeit-Änderungen sind möglich\, daher bitte immer vorher den online-Kalender checken! \nWir öffnen bereits um ca. 17:45 Uhr\, damit ihr euch in Ruhe umziehen könnt\, und wir pünktlich beginnen können. \nOrt: Das Gugg – Heumühlgasse 14\, 1040 Wien \nEintritt: die HOSI Wien und unsere ehrenamtlichen Trainer freuen sich über jede freie Spende\, die am Ende der Einheit abgegeben werden kann – sie kommen vollumfänglich der Hosi Wien zugute.\n \nKontakt: yoga@archiv.hosiwien.at
URL:https://archiv.hosiwien.at/event/queer-yoga-2024_12/2024-12-29/
LOCATION:Gugg\, Heumühlgasse 14\, Wien\, 1040
CATEGORIES:Gruppen
GEO:48.1961598;16.3617969
X-APPLE-STRUCTURED-LOCATION;VALUE=URI;X-ADDRESS=Gugg Heumühlgasse 14 Wien 1040;X-APPLE-RADIUS=500;X-TITLE=Heumühlgasse 14:geo:16.3617969,48.1961598
END:VEVENT
END:VCALENDAR